{"text_format":"1","workbook":"xlsx","n_sheets":5,"sheets":["入力上の注意","申込①","申込②","List","一覧"],"not_rendered":{"charts":0,"images":0,"macros":1,"external_links":0,"defined_names":2,"comments":0,"pivot_tables":0},"unopened":[],"bounds":{"document_bytes":16777216,"sheet_cells":100000,"rows_first":2000,"rows_last":500,"rows_between":2000,"halvings":0,"cell_chars":16384,"cell_head_chars":4096},"cells_cut":0,"cells_raw":0,"read":"whole","date_system":"1900"}

{"sheet":"入力上の注意","index":0,"n_rows":48,"n_cols":16,"rows_kept":48,"cut":false,"hidden":false,"merged":[[35,4,38,10],[47,3,47,16],[19,1,20,1],[19,5,20,5],[19,6,20,6],[19,7,20,7],[19,8,20,8],[19,9,20,9],[19,10,20,10],[19,11,20,11],[19,12,20,12],[19,13,20,13],[19,14,20,14],[19,15,20,15],[30,3,30,4],[31,3,31,4],[9,12,9,13],[9,14,9,15],[10,3,10,4],[10,7,10,8],[11,1,12,1],[11,5,12,5],[11,6,12,6],[11,7,12,7],[11,8,12,8],[9,1,10,1],[9,3,9,4],[9,5,10,5],[9,6,10,6],[9,7,9,8],[9,9,10,9],[11,15,12,15],[11,9,12,9],[11,10,12,10],[11,11,12,11],[13,1,14,1],[13,5,14,5],[13,6,14,6],[13,7,14,7],[13,8,14,8],[11,12,12,12],[11,13,12,13],[11,14,12,14],[13,12,14,12],[13,13,14,13],[13,14,14,14],[13,15,14,15],[15,1,16,1],[15,5,16,5],[15,6,16,6],[15,7,16,7],[15,8,16,8],[15,15,16,15],[15,12,16,12],[15,13,16,13],[15,14,16,14],[13,9,14,9],[13,10,14,10],[13,11,14,11],[15,9,16,9],[15,10,16,10],[15,11,16,11],[17,1,18,1],[17,5,18,5],[17,6,18,6],[17,7,18,7],[17,8,18,8],[17,12,18,12],[17,13,18,13],[17,14,18,14],[17,15,18,15],[23,2,23,4],[23,5,23,9],[23,10,23,15],[17,9,18,9],[17,10,18,10],[17,11,18,11],[31,10,31,11],[31,13,31,15],[24,2,24,4],[24,5,24,9],[24,10,24,15],[25,8,25,13],[26,8,26,13],[28,5,28,7],[29,10,29,11],[27,11,27,13]]}
[]
[null,"この申込書は，保険の申込一覧を兼ねていますので合宿に参加する試合に出る生徒，合宿だけ参加する生徒，監督，コーチ，指導者"]
[null,"の名前，生年月日などをすべて一覧に入力してください"]
[null,"（注意）"]
[null,"・例えば，青木 豊が新宮レスリング俱楽部と新宮高校に所属し合宿参加する場合は，下記のように備考に入力してください（2023年～変更）"]
[null,"　 代表者が，合宿に来れない場合は一覧表には入力しませんが　下の代表者名には入力・押印が必要"]
[null,"　 合宿に参加する監督・コーチなどが，新宮レスリング倶楽部と新宮高校の両方で指導する場合は両方に入力してください　備考も入力を"]
[]
[null,"（公財）日本レスリング協会　会長　富山 英明　様"]
[null,"No","協会","なまえ（ひらがな）",null,"学年","性別","生年月日",null,"所属","試合","U15","U17",null,"U20"]
[null,null,"番号","名前",null,null,null,"注) 2006/10/10の形で入力",null,null,"参加","フリー","フリー","グレコ","フリー","グレコ"]
[null,"例","JWF22ー","しんぐう","たろう",2,"男","2006-10-10","生","高","○",null,48]
[null,null,123,"新宮","太朗"]
[null,1,"JWF22-","たなか","じろう","中3","男","2003-03-04","生","中","○",75]
[null,null,331,"田中","治郎"]
[null,2,"JWF22-","すずき","いちろう","中2","男","2002-05-25","生","中"]
[null,null,350,"鈴木","一朗"]
[null,3,"JWF22-","みなと","あんとにおかい","中1","男","2001-06-24","生","中"]
[null,null,401,"湊","アントニオ海"]
[null,4,"JWF22-","あおき","ゆたか",null,"男","1980-06-24","生","指"]
[null,null,101,"青木","豊"]
[]
[]
[null,null,"審判氏名",null,null,"青木　豊",null,null,null,null,"西田　一朗"]
[null,null,"必ず1名はお願いします"]
[null,null,null,null,null,null,null,null,"しんぐうれすりんぐくらぶ"]
[null,null,null,"所属都道府県","和歌山県",null,null,"学校名","新宮レスリング倶楽部"]
[null,null,null,null,null,null,null,null,null,null,"略称","新宮"]
[null,null,null,null,"代表者名","伊藤　博文",null,null,"印",null,null,"☝","表示に使う可能性あり"]
[null,null,null,null,null,null,null,null,null,null,null,null,"全角5文字以内で"]
[null,null,null,"令和５年　　月　　日"]
[]
[]
[]
[null,null,null,null,"備考"]
[null,null,null,null,"例）　青木 豊は，新宮レスリング倶楽部と\n新宮高校に入力"]
[]
[]
[]
[]
[]
[null,null,null,"【注意】"]
[null,null,null,"入力が終わったら"]
[null,null,null,"　ファイルは，指定されたアドレスまで送信してください（数日で，届いたとの返信が来ます　来なければ問い合わせてください）"]
[null,null,null,"　原本は，印刷して押印をして合宿大会で提出してください"]
[]
[null,null,null,"送信宛先は，"]
[null,null,null,"kinki.jr.wrestling@gmail.com"]

{"sheet":"申込①","index":1,"n_rows":53,"n_cols":56,"rows_kept":53,"cut":false,"hidden":false,"merged":[[32,10,32,16],[31,18,34,24],[27,9,27,17],[28,9,28,17],[30,7,30,16],[31,7,31,16],[12,0,13,0],[12,4,13,4],[12,5,13,5],[12,12,13,12],[14,7,15,7],[14,8,15,8],[14,9,15,9],[14,10,15,10],[14,0,15,0],[14,4,15,4],[14,5,15,5],[14,6,15,6],[16,0,17,0],[16,4,17,4],[16,5,17,5],[16,6,17,6],[16,7,17,7],[16,8,17,8],[12,6,13,6],[12,8,13,8],[12,9,13,9],[12,10,13,10],[12,11,13,11],[12,7,13,7],[10,9,11,9],[10,10,11,10],[10,11,11,11],[10,12,11,12],[10,7,11,7],[10,8,11,8],[6,0,7,0],[6,8,7,8],[6,4,7,4],[6,5,7,5],[8,9,9,9],[8,10,9,10],[8,0,9,0],[8,8,9,8],[8,4,9,4],[8,5,9,5],[8,6,9,6],[8,7,9,7],[6,7,7,7],[6,9,7,9],[6,10,7,10],[10,0,11,0],[10,4,11,4],[10,5,11,5],[10,6,11,6],[2,13,2,14],[4,9,5,9],[4,10,5,10],[4,11,5,11],[6,6,7,6],[0,43,0,44],[1,43,1,44],[8,11,9,11],[8,12,9,12],[8,14,9,14],[6,13,7,13],[6,14,7,14],[6,11,7,11],[6,12,7,12],[8,13,9,13],[4,13,5,13],[4,14,5,14],[6,15,7,15],[6,19,7,19],[6,20,7,20],[6,21,7,21],[6,29,7,29],[6,25,7,25],[6,24,7,24],[2,0,3,0],[2,2,2,3],[3,2,3,3],[2,8,3,8],[2,4,3,4],[2,5,3,5],[2,11,2,12],[4,0,5,0],[4,8,5,8],[4,4,5,4],[4,5,5,5],[4,12,5,12],[4,6,5,6],[2,6,2,7],[3,6,3,7],[4,7,5,7],[16,9,17,9],[16,10,17,10],[20,4,21,4],[18,0,19,0],[18,4,19,4],[18,5,19,5],[18,6,19,6],[18,7,19,7],[18,8,19,8],[18,9,19,9],[18,10,19,10],[24,0,25,0],[24,4,25,4],[24,5,25,5],[18,11,19,11],[18,12,19,12],[18,13,19,13],[18,14,19,14],[20,13,21,13],[20,14,21,14],[22,0,23,0],[22,4,23,4],[22,5,23,5],[22,6,23,6],[22,7,23,7],[22,8,23,8],[22,9,23,9],[22,10,23,10],[22,11,23,11],[22,12,23,12],[20,7,21,7],[20,8,21,8],[20,9,21,9],[20,10,21,10],[20,0,21,0],[8,29,9,29],[10,22,11,22],[10,23,11,23],[8,26,9,26],[8,22,9,22],[14,24,15,24],[14,25,15,25],[14,26,15,26],[14,27,15,27],[10,29,11,29],[12,25,13,25],[12,26,13,26],[8,27,9,27],[8,23,9,23],[8,24,9,24],[8,25,9,25],[12,29,13,29],[14,28,15,28],[14,29,15,29],[6,26,7,26],[6,27,7,27],[6,28,7,28],[6,22,7,22],[6,23,7,23],[24,10,25,10],[14,12,15,12],[24,6,25,6],[24,7,25,7],[24,8,25,8],[24,9,25,9],[8,28,9,28],[14,14,15,14],[16,11,17,11],[16,12,17,12],[16,13,17,13],[16,14,17,14],[12,28,13,28],[10,24,11,24],[10,25,11,25],[10,26,11,26],[10,28,11,28],[10,15,11,15],[10,19,11,19],[27,1,27,3],[28,1,28,3],[27,4,27,8],[28,4,28,8],[18,26,19,26],[18,27,19,27],[8,15,9,15],[8,19,9,19],[8,20,9,20],[8,21,9,21],[20,5,21,5],[20,6,21,6],[22,13,23,13],[22,14,23,14],[20,11,21,11],[20,12,21,12],[14,11,15,11],[24,11,25,11],[24,12,25,12],[24,13,25,13],[24,14,25,14],[14,13,15,13],[12,15,13,15],[12,19,13,19],[12,20,13,20],[12,21,13,21],[12,22,13,22],[12,23,13,23],[12,24,13,24],[10,27,11,27],[10,20,11,20],[18,23,19,23],[18,24,19,24],[18,25,19,25],[16,27,17,27],[16,29,17,29],[14,15,15,15],[14,19,15,19],[14,20,15,20],[14,21,15,21],[14,22,15,22],[14,23,15,23],[16,15,17,15],[16,19,17,19],[16,20,17,20],[16,21,17,21],[16,22,17,22],[16,23,17,23],[16,24,17,24],[16,25,17,25],[16,26,17,26],[20,22,21,22],[20,23,21,23],[20,24,21,24],[20,25,21,25],[20,26,21,26],[20,27,21,27],[18,22,19,22],[18,15,19,15],[16,28,17,28],[0,0,0,29],[36,2,36,3],[36,9,36,10],[24,29,25,29],[24,22,25,22],[24,23,25,23],[24,24,25,24],[24,25,25,25],[34,12,34,14],[36,12,36,14],[34,9,34,10],[24,15,25,15],[24,19,25,19],[24,20,25,20],[24,21,25,21],[20,28,21,28],[20,29,21,29],[22,15,23,15],[4,22,5,22],[22,19,23,19],[22,20,23,20],[22,21,23,21],[2,15,3,15],[2,17,2,18],[4,24,5,24],[4,25,5,25],[2,19,3,19],[2,20,3,20],[2,21,2,22],[2,23,3,23],[2,26,2,27],[33,4,33,6],[2,28,2,29],[3,17,3,18],[3,21,3,22],[4,28,5,28],[4,29,5,29],[22,28,23,28],[22,29,23,29],[24,26,25,26],[24,27,25,27],[24,28,25,28],[18,28,19,28],[18,29,19,29],[20,15,21,15],[20,19,21,19],[20,20,21,20],[20,21,21,21],[35,2,35,3],[4,26,5,26],[4,27,5,27],[22,22,23,22],[22,23,23,23],[22,24,23,24],[22,25,23,25],[22,26,23,26],[22,27,23,27],[18,19,19,19],[18,20,19,20],[18,21,19,21],[10,21,11,21],[12,13,13,13],[12,14,13,14],[10,13,11,13],[10,14,11,14],[12,27,13,27],[4,15,5,15],[4,16,5,16],[4,19,5,19],[4,20,5,20],[4,21,5,21],[4,23,5,23]]}
["令和5年度NTS近畿ブロック研修会参加申込書（保険申込含む）兼　U15レスリングアジア選手権大会日本代表選考会ﾌﾞﾛｯｸ予選会参加申込書",null,null,null,null,null,null,null,null,null,null,null,null,null,null,null,null,null,null,null,null,null,null,null,null,null,null,null,null,null,null,null,null,null,null,null,null,null,null,null,null,null,null,"なまえ"]
["（公財）日本レスリング協会　会長　富山 英明　様",null,null,null,null,null,null,null,null,null,null,null,null,null,null,null,null,null,null,null,null,null,null,null,"No",1,null,"No",1,null,null,null,null,null,null,null,null,null,null,null,null,null,null,"名前",null,"指"]
["No","協会","なまえ（ひらがな）",null,"学年\nなど","性別","生年月日",null,"所属","試合","U15","U17",null,"U20",null,"No","協会","なまえ（ひらがな）",null,"学年","性別","生年月日",null,"所属","試合","U15","U17",null,"U20",null,null,null,null,null,null,null,null,null,null,null,null,null,null,5,6,"監督",null,null,null,null,"U-15・F","U-17・F","U-17・G","U-20・F","U-20・G"]
[null,"番号","名前",null,null,null,"注) 2006/10/10の形で入力",null,null,"参加","フリー","フリー","グレコ","フリー","グレコ",null,"番号","名前",null,null,null,"注) 2006/10/10の形で入力",null,null,"参加","フリー","フリー","グレコ","フリー","グレコ",null,null,null,null,null,null,null,null,null,null,null,null,null,3,4,"コーチ",null,"高１","男","○",38,45,45,57,55,"和歌山県"]
["例","JWF23ー","しんぐう","たろう","高２","男","2006-10-10","生",null,"○",null,48,null,null,null,null,null,null,null,null,null,null,null,null,null,null,null,null,null,null,null,null,null,null,null,null,null,null,null,null,null,null,null,"学年",13,"高",null,"高２","女",null,41,48,48,61,60,"兵庫県"]
[null,123,"新宮","太朗",null,null,null,null,null,null,null,null,null,null,null,null,null,null,null,null,null,null,null,null,null,null,null,null,null,null,null,"U15F","U17F","U17G","U20F","U20G",null,null,9,"U15","U17","U20",null,"性別",7,"中",null,"高３",null,null,44,51,51,65,63,"奈良県"]
[1,"JWF23-",null,null,null,null,null,"生",null,null,null,null,null,null,null,11,"JWF23-",null,null,null,null,null,"生",null,null,null,null,null,null,null,null,{"$f":"IF(K7=\"\",\"\",$AF$6)","v":""},{"$f":"IF(L7=\"\",\"\",$AG$6)","v":""},{"$f":"IF(M7=\"\",\"\",$AH$6)","v":""},{"$f":"IF(N7=\"\",\"\",$AI$6)","v":""},{"$f":"IF(O7=\"\",\"\",$AJ$6)","v":""},{"$f":"AF7&AG7&AH7&AI7&AJ7","v":""},{"$f":"SUM(K7:O8)","v":0},null,null,null,null,null,"生年月日",8,"小",null,"中３",null,null,48,55,55,70,67,"大阪府"]
[null,null,null,null,null,null,null,null,null,null,null,null,null,null,null,null,null,null,null,null,null,null,null,null,null,null,null,null,null,null,null,null,null,null,null,null,null,null,{"$f":"IF(B7=\"\",\"\",VLOOKUP(B7,#REF!,$AM$6,FALSE))","v":{"$error":"#REF!"}},{"$f":"IF(AND(G7>=$AR$8,G7<=$AS$8),$AN$6,\"\")","v":""},{"$f":"IF(AND(G7>=$AR$9,G7<=$AS$9),$AO$6,\"\")","v":""},{"$f":"IF(AND(G7>=$AR$10,G7<=$AS$10),$AP$6,\"\")","v":""},"U15","2009-01-01","2011-12-31","H20",null,"中２",null,null,52,60,60,74,72,"京都府"]
[2,"JWF23-",null,null,null,null,null,"生",null,null,null,null,null,null,null,12,"JWF23-",null,null,null,null,null,"生",null,null,null,null,null,null,null,null,{"$f":"IF(K9=\"\",\"\",$AF$6)","v":""},{"$f":"IF(L9=\"\",\"\",$AG$6)","v":""},{"$f":"IF(M9=\"\",\"\",$AH$6)","v":""},{"$f":"IF(N9=\"\",\"\",$AI$6)","v":""},{"$f":"IF(O9=\"\",\"\",$AJ$6)","v":""},{"$f":"AF9&AG9&AH9&AI9&AJ9","v":""},{"$f":"SUM(K9:O10)","v":0},null,null,null,null,"U17","2007-01-01","2009-12-31","H18",null,"中１",null,null,57,65,65,79,77,"滋賀県"]
[null,null,null,null,null,null,null,null,null,null,null,null,null,null,null,null,null,null,null,null,null,null,null,null,null,null,null,null,null,null,null,null,null,null,null,null,null,null,{"$f":"IF(B9=\"\",\"\",VLOOKUP(B9,#REF!,$AM$6,FALSE))","v":{"$error":"#REF!"}},{"$f":"IF(AND(G9>=$AR$8,G9<=$AS$8),$AN$6,\"\")","v":""},{"$f":"IF(AND(G9>=$AR$9,G9<=$AS$9),$AO$6,\"\")","v":""},{"$f":"IF(AND(G9>=$AR$10,G9<=$AS$10),$AP$6,\"\")","v":""},"U20","2004-01-01","2007-12-31","H15",null,"小６",null,null,62,71,71,86,82]
[3,"JWF23-",null,null,null,null,null,"生",null,null,null,null,null,null,null,13,"JWF23-",null,null,null,null,null,"生",null,null,null,null,null,null,null,null,{"$f":"IF(K11=\"\",\"\",$AF$6)","v":""},{"$f":"IF(L11=\"\",\"\",$AG$6)","v":""},{"$f":"IF(M11=\"\",\"\",$AH$6)","v":""},{"$f":"IF(N11=\"\",\"\",$AI$6)","v":""},{"$f":"IF(O11=\"\",\"\",$AJ$6)","v":""},{"$f":"AF11&AG11&AH11&AI11&AJ11","v":""},{"$f":"SUM(K11:O12)","v":0},null,null,null,null,null,null,null,null,null,null,null,null,68,80,80,92,87]
[null,null,null,null,null,null,null,null,null,null,null,null,null,null,null,null,null,null,null,null,null,null,null,null,null,null,null,null,null,null,null,null,null,null,null,null,null,null,{"$f":"IF(B11=\"\",\"\",VLOOKUP(B11,#REF!,$AM$6,FALSE))","v":{"$error":"#REF!"}},{"$f":"IF(AND(G11>=$AR$8,G11<=$AS$8),$AN$6,\"\")","v":""},{"$f":"IF(AND(G11>=$AR$9,G11<=$AS$9),$AO$6,\"\")","v":""},{"$f":"IF(AND(G11>=$AR$10,G11<=$AS$10),$AP$6,\"\")","v":""},null,null,null,null,null,null,null,null,75,92,92,97,97]
[4,"JWF23-",null,null,null,null,null,"生",null,null,null,null,null,null,null,14,"JWF23-",null,null,null,null,null,"生",null,null,null,null,null,null,null,null,{"$f":"IF(K13=\"\",\"\",$AF$6)","v":""},{"$f":"IF(L13=\"\",\"\",$AG$6)","v":""},{"$f":"IF(M13=\"\",\"\",$AH$6)","v":""},{"$f":"IF(N13=\"\",\"\",$AI$6)","v":""},{"$f":"IF(O13=\"\",\"\",$AJ$6)","v":""},{"$f":"AF13&AG13&AH13&AI13&AJ13","v":""},{"$f":"SUM(K13:O14)","v":0},null,null,null,null,null,null,null,null,null,null,null,null,85,110,110,125,130]
[null,null,null,null,null,null,null,null,null,null,null,null,null,null,null,null,null,null,null,null,null,null,null,null,null,null,null,null,null,null,null,null,null,null,null,null,null,null,{"$f":"IF(B13=\"\",\"\",VLOOKUP(B13,#REF!,$AM$6,FALSE))","v":{"$error":"#REF!"}},{"$f":"IF(AND(G13>=$AR$8,G13<=$AS$8),$AN$6,\"\")","v":""},{"$f":"IF(AND(G13>=$AR$9,G13<=$AS$9),$AO$6,\"\")","v":""},{"$f":"IF(AND(G13>=$AR$10,G13<=$AS$10),$AP$6,\"\")","v":""}]
[5,"JWF23-",null,null,null,null,null,"生",null,null,null,null,null,null,null,15,"JWF23-",null,null,null,null,null,"生",null,null,null,null,null,null,null,null,{"$f":"IF(K15=\"\",\"\",$AF$6)","v":""},{"$f":"IF(L15=\"\",\"\",$AG$6)","v":""},{"$f":"IF(M15=\"\",\"\",$AH$6)","v":""},{"$f":"IF(N15=\"\",\"\",$AI$6)","v":""},{"$f":"IF(O15=\"\",\"\",$AJ$6)","v":""},{"$f":"AF15&AG15&AH15&AI15&AJ15","v":""},{"$f":"SUM(K15:O16)","v":0}]
[null,null,null,null,null,null,null,null,null,null,null,null,null,null,null,null,null,null,null,null,null,null,null,null,null,null,null,null,null,null,null,null,null,null,null,null,null,null,{"$f":"IF(B15=\"\",\"\",VLOOKUP(B15,#REF!,$AM$6,FALSE))","v":{"$error":"#REF!"}},{"$f":"IF(AND(G15>=$AR$8,G15<=$AS$8),$AN$6,\"\")","v":""},{"$f":"IF(AND(G15>=$AR$9,G15<=$AS$9),$AO$6,\"\")","v":""},{"$f":"IF(AND(G15>=$AR$10,G15<=$AS$10),$AP$6,\"\")","v":""}]
[6,"JWF23-",null,null,null,null,null,"生",null,null,null,null,null,null,null,16,"JWF23-",null,null,null,null,null,"生",null,null,null,null,null,null,null,null,{"$f":"IF(K17=\"\",\"\",$AF$6)","v":""},{"$f":"IF(L17=\"\",\"\",$AG$6)","v":""},{"$f":"IF(M17=\"\",\"\",$AH$6)","v":""},{"$f":"IF(N17=\"\",\"\",$AI$6)","v":""},{"$f":"IF(O17=\"\",\"\",$AJ$6)","v":""},{"$f":"AF17&AG17&AH17&AI17&AJ17","v":""},{"$f":"SUM(K17:O18)","v":0}]
[null,null,null,null,null,null,null,null,null,null,null,null,null,null,null,null,null,null,null,null,null,null,null,null,null,null,null,null,null,null,null,null,null,null,null,null,null,null,{"$f":"IF(B17=\"\",\"\",VLOOKUP(B17,#REF!,$AM$6,FALSE))","v":{"$error":"#REF!"}},{"$f":"IF(AND(G17>=$AR$8,G17<=$AS$8),$AN$6,\"\")","v":""},{"$f":"IF(AND(G17>=$AR$9,G17<=$AS$9),$AO$6,\"\")","v":""},{"$f":"IF(AND(G17>=$AR$10,G17<=$AS$10),$AP$6,\"\")","v":""}]
[7,"JWF23-",null,null,null,null,null,"生",null,null,null,null,null,null,null,17,"JWF23-",null,null,null,null,null,"生",null,null,null,null,null,null,null,null,{"$f":"IF(K19=\"\",\"\",$AF$6)","v":""},{"$f":"IF(L19=\"\",\"\",$AG$6)","v":""},{"$f":"IF(M19=\"\",\"\",$AH$6)","v":""},{"$f":"IF(N19=\"\",\"\",$AI$6)","v":""},{"$f":"IF(O19=\"\",\"\",$AJ$6)","v":""},{"$f":"AF19&AG19&AH19&AI19&AJ19","v":""},{"$f":"SUM(K19:O20)","v":0}]
[null,null,null,null,null,null,null,null,null,null,null,null,null,null,null,null,null,null,null,null,null,null,null,null,null,null,null,null,null,null,null,null,null,null,null,null,null,null,{"$f":"IF(B19=\"\",\"\",VLOOKUP(B19,#REF!,$AM$6,FALSE))","v":{"$error":"#REF!"}},{"$f":"IF(AND(G19>=$AR$8,G19<=$AS$8),$AN$6,\"\")","v":""},{"$f":"IF(AND(G19>=$AR$9,G19<=$AS$9),$AO$6,\"\")","v":""},{"$f":"IF(AND(G19>=$AR$10,G19<=$AS$10),$AP$6,\"\")","v":""}]
[8,"JWF23-",null,null,null,null,null,"生",null,null,null,null,null,null,null,18,"JWF23-",null,null,null,null,null,"生",null,null,null,null,null,null,null,null,{"$f":"IF(K21=\"\",\"\",$AF$6)","v":""},{"$f":"IF(L21=\"\",\"\",$AG$6)","v":""},{"$f":"IF(M21=\"\",\"\",$AH$6)","v":""},{"$f":"IF(N21=\"\",\"\",$AI$6)","v":""},{"$f":"IF(O21=\"\",\"\",$AJ$6)","v":""},{"$f":"AF21&AG21&AH21&AI21&AJ21","v":""},{"$f":"SUM(K21:O22)","v":0}]
[null,null,null,null,null,null,null,null,null,null,null,null,null,null,null,null,null,null,null,null,null,null,null,null,null,null,null,null,null,null,null,null,null,null,null,null,null,null,{"$f":"IF(B21=\"\",\"\",VLOOKUP(B21,#REF!,$AM$6,FALSE))","v":{"$error":"#REF!"}},{"$f":"IF(AND(G21>=$AR$8,G21<=$AS$8),$AN$6,\"\")","v":""},{"$f":"IF(AND(G21>=$AR$9,G21<=$AS$9),$AO$6,\"\")","v":""},{"$f":"IF(AND(G21>=$AR$10,G21<=$AS$10),$AP$6,\"\")","v":""}]
[9,"JWF23-",null,null,null,null,null,"生",null,null,null,null,null,null,null,19,"JWF23-",null,null,null,null,null,"生",null,null,null,null,null,null,null,null,{"$f":"IF(K23=\"\",\"\",$AF$6)","v":""},{"$f":"IF(L23=\"\",\"\",$AG$6)","v":""},{"$f":"IF(M23=\"\",\"\",$AH$6)","v":""},{"$f":"IF(N23=\"\",\"\",$AI$6)","v":""},{"$f":"IF(O23=\"\",\"\",$AJ$6)","v":""},{"$f":"AF23&AG23&AH23&AI23&AJ23","v":""},{"$f":"SUM(K23:O24)","v":0}]
[null,null,null,null,null,null,null,null,null,null,null,null,null,null,null,null,null,null,null,null,null,null,null,null,null,null,null,null,null,null,null,null,null,null,null,null,null,null,{"$f":"IF(B23=\"\",\"\",VLOOKUP(B23,#REF!,$AM$6,FALSE))","v":{"$error":"#REF!"}},{"$f":"IF(AND(G23>=$AR$8,G23<=$AS$8),$AN$6,\"\")","v":""},{"$f":"IF(AND(G23>=$AR$9,G23<=$AS$9),$AO$6,\"\")","v":""},{"$f":"IF(AND(G23>=$AR$10,G23<=$AS$10),$AP$6,\"\")","v":""}]
[10,"JWF23-",null,null,null,null,null,"生",null,null,null,null,null,null,null,20,"JWF23-",null,null,null,null,null,"生",null,null,null,null,null,null,null,null,{"$f":"IF(K25=\"\",\"\",$AF$6)","v":""},{"$f":"IF(L25=\"\",\"\",$AG$6)","v":""},{"$f":"IF(M25=\"\",\"\",$AH$6)","v":""},{"$f":"IF(N25=\"\",\"\",$AI$6)","v":""},{"$f":"IF(O25=\"\",\"\",$AJ$6)","v":""},{"$f":"AF25&AG25&AH25&AI25&AJ25","v":""},{"$f":"SUM(K25:O26)","v":0}]
[null,null,null,null,null,null,null,null,null,null,null,null,null,null,null,null,null,null,null,null,null,null,null,null,null,null,null,null,null,null,null,null,null,null,null,null,null,null,{"$f":"IF(B25=\"\",\"\",VLOOKUP(B25,#REF!,$AM$6,FALSE))","v":{"$error":"#REF!"}},{"$f":"IF(AND(G25>=$AR$8,G25<=$AS$8),$AN$6,\"\")","v":""},{"$f":"IF(AND(G25>=$AR$9,G25<=$AS$9),$AO$6,\"\")","v":""},{"$f":"IF(AND(G25>=$AR$10,G25<=$AS$10),$AP$6,\"\")","v":""}]
[null,null,null,null,null,null,null,null,null,null,null,null,null,null,null,null,null,null,null,null,null,null,null,null,null,null,null,null,null,null,null,{"$f":"IF(Z7=\"\",\"\",$AF$6)","v":""},{"$f":"IF(AA7=\"\",\"\",$AG$6)","v":""},{"$f":"IF(AB7=\"\",\"\",$AH$6)","v":""},{"$f":"IF(AC7=\"\",\"\",$AI$6)","v":""},{"$f":"IF(AD7=\"\",\"\",$AJ$6)","v":""},{"$f":"AF27&AG27&AH27&AI27&AJ27","v":""},{"$f":"SUM(Z7:AD8)","v":0}]
[null,"審判員",null,null,null,null,null,null,null,null,null,null,null,null,null,null,null,null,null,null,null,null,null,null,null,null,null,null,null,null,null,null,null,null,null,null,null,null,{"$f":"IF(Q7=\"\",\"\",VLOOKUP(Q7,#REF!,$AM$6,FALSE))","v":{"$error":"#REF!"}},{"$f":"IF(AND(V7>=$AR$8,V7<=$AS$8),$AN$6,\"\")","v":""},{"$f":"IF(AND(V7>=$AR$9,V7<=$AS$9),$AO$6,\"\")","v":""},{"$f":"IF(AND(V7>=$AR$10,V7<=$AS$10),$AP$6,\"\")","v":""}]
[null,"必ず1名はお願いします",null,null,null,null,null,null,null,null,null,null,null,null,null,null,null,null,null,null,null,null,null,null,null,null,null,null,null,null,null,{"$f":"IF(Z9=\"\",\"\",$AF$6)","v":""},{"$f":"IF(AA9=\"\",\"\",$AG$6)","v":""},{"$f":"IF(AB9=\"\",\"\",$AH$6)","v":""},{"$f":"IF(AC9=\"\",\"\",$AI$6)","v":""},{"$f":"IF(AD9=\"\",\"\",$AJ$6)","v":""},{"$f":"AF29&AG29&AH29&AI29&AJ29","v":""},{"$f":"SUM(Z9:AD10)","v":0}]
[null,null,"上記の通り申し込みます"]
[null,null,null,null,null,null,"ふりがな",null,null,null,null,null,null,null,null,null,null,null,"備考",null,null,null,null,null,null,null,null,null,null,null,null,null,null,null,null,null,null,null,{"$f":"IF(Q9=\"\",\"\",VLOOKUP(Q9,#REF!,$AM$6,FALSE))","v":{"$error":"#REF!"}},{"$f":"IF(AND(V9>=$AR$8,V9<=$AS$8),$AN$6,\"\")","v":""},{"$f":"IF(AND(V9>=$AR$9,V9<=$AS$9),$AO$6,\"\")","v":""},{"$f":"IF(AND(V9>=$AR$10,V9<=$AS$10),$AP$6,\"\")","v":""}]
[null,null,"所属都道府県",null,null,null,"団体名",null,null,null,null,null,null,null,null,null,null,null,null,null,null,null,null,null,null,null,null,null,null,null,null,{"$f":"IF(Z11=\"\",\"\",$AF$6)","v":""},{"$f":"IF(AA11=\"\",\"\",$AG$6)","v":""},{"$f":"IF(AB11=\"\",\"\",$AH$6)","v":""},{"$f":"IF(AC11=\"\",\"\",$AI$6)","v":""},{"$f":"IF(AD11=\"\",\"\",$AJ$6)","v":""},{"$f":"AF32&AG32&AH32&AI32&AJ32","v":""},{"$f":"SUM(Z11:AD12)","v":0}]
[null,null,null,null,null,null,null,null,null,"略称",null,null,null,null,null,null,null,null,null,null,null,null,null,null,null,null,null,null,null,null,null,null,null,null,null,null,null,null,{"$f":"IF(Q11=\"\",\"\",VLOOKUP(Q11,#REF!,$AM$6,FALSE))","v":{"$error":"#REF!"}},{"$f":"IF(AND(V11>=$AR$8,V11<=$AS$8),$AN$6,\"\")","v":""},{"$f":"IF(AND(V11>=$AR$9,V11<=$AS$9),$AO$6,\"\")","v":""},{"$f":"IF(AND(V11>=$AR$10,V11<=$AS$10),$AP$6,\"\")","v":""}]
[null,null,null,"代表者名",null,null,null,"印",null,null,"☝",null,null,null,null,"表示に使う可能性あり",null,null,null,null,null,null,null,null,null,null,null,null,null,null,null,{"$f":"IF(Z13=\"\",\"\",$AF$6)","v":""},{"$f":"IF(AA13=\"\",\"\",$AG$6)","v":""},{"$f":"IF(AB13=\"\",\"\",$AH$6)","v":""},{"$f":"IF(AC13=\"\",\"\",$AI$6)","v":""},{"$f":"IF(AD13=\"\",\"\",$AJ$6)","v":""},{"$f":"AF34&AG34&AH34&AI34&AJ34","v":""},{"$f":"SUM(Z13:AD14)","v":0}]
[null,null,null,null,null,null,null,null,null,null,null,null,null,null,null,"全角5文字以内で",null,null,null,null,null,null,null,null,null,null,null,null,null,null,null,null,null,null,null,null,null,null,{"$f":"IF(Q13=\"\",\"\",VLOOKUP(Q13,#REF!,$AM$6,FALSE))","v":{"$error":"#REF!"}},{"$f":"IF(AND(V13>=$AR$8,V13<=$AS$8),$AN$6,\"\")","v":""},{"$f":"IF(AND(V13>=$AR$9,V13<=$AS$9),$AO$6,\"\")","v":""},{"$f":"IF(AND(V13>=$AR$10,V13<=$AS$10),$AP$6,\"\")","v":""}]
[null,null,"令和５年　　月　　日",null,null,null,null,null,null,null,null,null,null,null,null,null,null,null,null,null,null,null,null,null,null,null,null,null,null,null,null,{"$f":"IF(Z15=\"\",\"\",$AF$6)","v":""},{"$f":"IF(AA15=\"\",\"\",$AG$6)","v":""},{"$f":"IF(AB15=\"\",\"\",$AH$6)","v":""},{"$f":"IF(AC15=\"\",\"\",$AI$6)","v":""},{"$f":"IF(AD15=\"\",\"\",$AJ$6)","v":""},{"$f":"AF36&AG36&AH36&AI36&AJ36","v":""},{"$f":"SUM(Z15:AD16)","v":0}]
[null,null,null,null,null,null,null,null,null,null,null,null,null,null,null,null,null,null,null,null,null,null,null,null,null,null,null,null,null,null,null,null,null,null,null,null,null,null,{"$f":"IF(Q15=\"\",\"\",VLOOKUP(Q15,#REF!,$AM$6,FALSE))","v":{"$error":"#REF!"}},{"$f":"IF(AND(V15>=$AR$8,V15<=$AS$8),$AN$6,\"\")","v":""},{"$f":"IF(AND(V15>=$AR$9,V15<=$AS$9),$AO$6,\"\")","v":""},{"$f":"IF(AND(V15>=$AR$10,V15<=$AS$10),$AP$6,\"\")","v":""}]
[null,null,null,null,null,null,null,null,null,null,null,null,null,null,null,null,null,null,null,null,null,null,null,null,null,null,null,null,null,null,null,{"$f":"IF(Z17=\"\",\"\",$AF$6)","v":""},{"$f":"IF(AA17=\"\",\"\",$AG$6)","v":""},{"$f":"IF(AB17=\"\",\"\",$AH$6)","v":""},{"$f":"IF(AC17=\"\",\"\",$AI$6)","v":""},{"$f":"IF(AD17=\"\",\"\",$AJ$6)","v":""},{"$f":"AF38&AG38&AH38&AI38&AJ38","v":""},{"$f":"SUM(Z17:AD18)","v":0}]
[null,null,null,null,null,null,null,null,null,null,null,null,null,null,null,null,null,null,null,null,null,null,null,null,null,null,null,null,null,null,null,null,null,null,null,null,null,null,{"$f":"IF(Q17=\"\",\"\",VLOOKUP(Q17,#REF!,$AM$6,FALSE))","v":{"$error":"#REF!"}},{"$f":"IF(AND(V17>=$AR$8,V17<=$AS$8),$AN$6,\"\")","v":""},{"$f":"IF(AND(V17>=$AR$9,V17<=$AS$9),$AO$6,\"\")","v":""},{"$f":"IF(AND(V17>=$AR$10,V17<=$AS$10),$AP$6,\"\")","v":""}]
[null,null,null,null,null,null,null,null,null,null,null,null,null,null,null,null,null,null,null,null,null,null,null,null,null,null,null,null,null,null,null,{"$f":"IF(Z19=\"\",\"\",$AF$6)","v":""},{"$f":"IF(AA19=\"\",\"\",$AG$6)","v":""},{"$f":"IF(AB19=\"\",\"\",$AH$6)","v":""},{"$f":"IF(AC19=\"\",\"\",$AI$6)","v":""},{"$f":"IF(AD19=\"\",\"\",$AJ$6)","v":""},{"$f":"AF40&AG40&AH40&AI40&AJ40","v":""},{"$f":"SUM(Z19:AD20)","v":0}]
[null,null,null,null,null,null,null,null,null,null,null,null,null,null,null,null,null,null,null,null,null,null,null,null,null,null,null,null,null,null,null,null,null,null,null,null,null,null,{"$f":"IF(Q19=\"\",\"\",VLOOKUP(Q19,#REF!,$AM$6,FALSE))","v":{"$error":"#REF!"}},{"$f":"IF(AND(V19>=$AR$8,V19<=$AS$8),$AN$6,\"\")","v":""},{"$f":"IF(AND(V19>=$AR$9,V19<=$AS$9),$AO$6,\"\")","v":""},{"$f":"IF(AND(V19>=$AR$10,V19<=$AS$10),$AP$6,\"\")","v":""}]
[null,null,null,null,null,null,null,null,null,null,null,null,null,null,null,null,null,null,null,null,null,null,null,null,null,null,null,null,null,null,null,{"$f":"IF(Z21=\"\",\"\",$AF$6)","v":""},{"$f":"IF(AA21=\"\",\"\",$AG$6)","v":""},{"$f":"IF(AB21=\"\",\"\",$AH$6)","v":""},{"$f":"IF(AC21=\"\",\"\",$AI$6)","v":""},{"$f":"IF(AD21=\"\",\"\",$AJ$6)","v":""},{"$f":"AF42&AG42&AH42&AI42&AJ42","v":""},{"$f":"SUM(Z21:AD22)","v":0}]
[null,null,null,null,null,null,null,null,null,null,null,null,null,null,null,null,null,null,null,null,null,null,null,null,null,null,null,null,null,null,null,null,null,null,null,null,null,null,{"$f":"IF(Q21=\"\",\"\",VLOOKUP(Q21,#REF!,$AM$6,FALSE))","v":{"$error":"#REF!"}},{"$f":"IF(AND(V21>=$AR$8,V21<=$AS$8),$AN$6,\"\")","v":""},{"$f":"IF(AND(V21>=$AR$9,V21<=$AS$9),$AO$6,\"\")","v":""},{"$f":"IF(AND(V21>=$AR$10,V21<=$AS$10),$AP$6,\"\")","v":""}]
[null,null,null,null,null,null,null,null,null,null,null,null,null,null,null,null,null,null,null,null,null,null,null,null,null,null,null,null,null,null,null,{"$f":"IF(Z23=\"\",\"\",$AF$6)","v":""},{"$f":"IF(AA23=\"\",\"\",$AG$6)","v":""},{"$f":"IF(AB23=\"\",\"\",$AH$6)","v":""},{"$f":"IF(AC23=\"\",\"\",$AI$6)","v":""},{"$f":"IF(AD23=\"\",\"\",$AJ$6)","v":""},{"$f":"AF44&AG44&AH44&AI44&AJ44","v":""},{"$f":"SUM(Z23:AD24)","v":0}]
[null,null,null,null,null,null,null,null,null,null,null,null,null,null,null,null,null,null,null,null,null,null,null,null,null,null,null,null,null,null,null,null,null,null,null,null,null,null,{"$f":"IF(Q23=\"\",\"\",VLOOKUP(Q23,#REF!,$AM$6,FALSE))","v":{"$error":"#REF!"}},{"$f":"IF(AND(V23>=$AR$8,V23<=$AS$8),$AN$6,\"\")","v":""},{"$f":"IF(AND(V23>=$AR$9,V23<=$AS$9),$AO$6,\"\")","v":""},{"$f":"IF(AND(V23>=$AR$10,V23<=$AS$10),$AP$6,\"\")","v":""}]
[null,null,null,null,null,null,null,null,null,null,null,null,null,null,null,null,null,null,null,null,null,null,null,null,null,null,null,null,null,null,null,{"$f":"IF(Z25=\"\",\"\",$AF$6)","v":""},{"$f":"IF(AA25=\"\",\"\",$AG$6)","v":""},{"$f":"IF(AB25=\"\",\"\",$AH$6)","v":""},{"$f":"IF(AC25=\"\",\"\",$AI$6)","v":""},{"$f":"IF(AD25=\"\",\"\",$AJ$6)","v":""},{"$f":"AF46&AG46&AH46&AI46&AJ46","v":""},{"$f":"SUM(Z25:AD26)","v":0}]
[null,null,null,null,null,null,null,null,null,null,null,null,null,null,null,null,null,null,null,null,null,null,null,null,null,null,null,null,null,null,null,null,null,null,null,null,null,null,{"$f":"IF(Q25=\"\",\"\",VLOOKUP(Q25,#REF!,$AM$6,FALSE))","v":{"$error":"#REF!"}},{"$f":"IF(AND(V25>=$AR$8,V25<=$AS$8),$AN$6,\"\")","v":""},{"$f":"IF(AND(V25>=$AR$9,V25<=$AS$9),$AO$6,\"\")","v":""},{"$f":"IF(AND(V25>=$AR$10,V25<=$AS$10),$AP$6,\"\")","v":""}]
[null,null,null,null,null,null,null,null,null,null,null,null,null,null,null,null,null,null,null,null,null,null,null,null,null,null,null,null,null,null,null,null,null,null,null,null,{"$f":"AF48&AG48&AH48&AI48&AJ48","v":""},{"$f":"SUM(K27:O28)","v":0}]
[]
[]
[]
[]
[null,null,null,null,null,null,null,null,null,null,null,null,null,null,null,null,null,null,null,null,null,null,null,null,null,null,null,null,null,null,null,null,null,null,null,null,null,null,null,null,null,null,null,null,{"$f":"VLOOKUP(#REF!,#REF!,2,FALSE)","v":{"$error":"#REF!"}}]

{"sheet":"申込②","index":2,"n_rows":47,"n_cols":56,"rows_kept":47,"cut":false,"hidden":false,"merged":[[0,43,0,44],[1,43,1,44],[2,0,3,0],[2,2,2,3],[2,4,3,4],[2,5,3,5],[2,6,2,7],[2,8,3,8],[2,11,2,12],[2,13,2,14],[3,2,3,3],[3,6,3,7],[2,15,3,15],[2,17,2,18],[2,19,3,19],[2,20,3,20],[2,21,2,22],[2,23,3,23],[2,26,2,27],[2,28,2,29],[3,17,3,18],[0,0,0,29],[3,21,3,22],[4,14,5,14],[6,0,7,0],[6,4,7,4],[6,5,7,5],[6,6,7,6],[6,7,7,7],[6,8,7,8],[6,9,7,9],[4,9,5,9],[4,10,5,10],[4,11,5,11],[4,12,5,12],[4,13,5,13],[6,10,7,10],[6,14,7,14],[6,11,7,11],[6,12,7,12],[6,13,7,13],[4,0,5,0],[4,4,5,4],[4,5,5,5],[4,6,5,6],[4,7,5,7],[4,8,5,8],[8,7,9,7],[8,8,9,8],[10,0,11,0],[8,0,9,0],[8,4,9,4],[8,5,9,5],[8,6,9,6],[8,14,9,14],[8,9,9,9],[8,10,9,10],[8,11,9,11],[10,10,11,10],[10,11,11,11],[10,12,11,12],[10,13,11,13],[8,13,9,13],[8,12,9,12],[10,9,11,9],[10,7,11,7],[10,8,11,8],[10,14,11,14],[10,4,11,4],[10,5,11,5],[10,6,11,6],[14,9,15,9],[14,10,15,10],[14,11,15,11],[16,12,17,12],[16,13,17,13],[12,10,13,10],[12,11,13,11],[12,12,13,12],[12,13,13,13],[16,9,17,9],[16,10,17,10],[16,11,17,11],[12,9,13,9],[12,0,13,0],[12,4,13,4],[12,5,13,5],[12,6,13,6],[12,7,13,7],[12,8,13,8],[16,0,17,0],[16,4,17,4],[16,5,17,5],[16,6,17,6],[16,7,17,7],[16,8,17,8],[14,7,15,7],[14,8,15,8],[14,0,15,0],[14,4,15,4],[14,5,15,5],[14,6,15,6],[18,0,19,0],[18,4,19,4],[18,5,19,5],[18,6,19,6],[18,7,19,7],[18,8,19,8],[18,9,19,9],[22,4,23,4],[22,5,23,5],[22,6,23,6],[20,14,21,14],[22,0,23,0],[20,10,21,10],[20,11,21,11],[22,14,23,14],[22,9,23,9],[22,10,23,10],[22,11,23,11],[22,12,23,12],[22,13,23,13],[20,12,21,12],[20,13,21,13],[24,0,25,0],[24,4,25,4],[24,5,25,5],[24,6,25,6],[24,7,25,7],[24,8,25,8],[24,9,25,9],[20,0,21,0],[20,4,21,4],[20,5,21,5],[20,6,21,6],[22,7,23,7],[22,8,23,8],[20,7,21,7],[20,8,21,8],[20,9,21,9],[10,25,11,25],[10,26,11,26],[16,19,17,19],[18,10,19,10],[18,11,19,11],[18,12,19,12],[12,15,13,15],[18,14,19,14],[12,24,13,24],[12,25,13,25],[12,26,13,26],[18,13,19,13],[14,12,15,12],[14,13,15,13],[14,14,15,14],[12,14,13,14],[16,14,17,14],[8,24,9,24],[6,15,7,15],[6,19,7,19],[6,20,7,20],[6,21,7,21],[8,25,9,25],[8,26,9,26],[8,27,9,27],[8,28,9,28],[8,15,9,15],[8,19,9,19],[8,20,9,20],[8,21,9,21],[8,22,9,22],[8,23,9,23],[6,22,7,22],[6,23,7,23],[6,27,7,27],[6,28,7,28],[6,24,7,24],[6,25,7,25],[6,26,7,26],[10,27,11,27],[10,28,11,28],[14,15,15,15],[14,19,15,19],[14,20,15,20],[14,21,15,21],[14,22,15,22],[14,23,15,23],[12,22,13,22],[12,23,13,23],[12,19,13,19],[12,20,13,20],[12,21,13,21],[14,24,15,24],[14,25,15,25],[14,26,15,26],[14,27,15,27],[10,15,11,15],[10,19,11,19],[10,20,11,20],[10,21,11,21],[10,22,11,22],[10,23,11,23],[10,24,11,24],[20,23,21,23],[18,22,19,22],[18,23,19,23],[16,25,17,25],[16,26,17,26],[16,27,17,27],[16,28,17,28],[18,15,19,15],[18,19,19,19],[18,20,19,20],[18,21,19,21],[18,27,19,27],[18,28,19,28],[18,24,19,24],[18,25,19,25],[18,26,19,26],[16,15,17,15],[16,20,17,20],[16,21,17,21],[16,22,17,22],[16,23,17,23],[16,24,17,24],[33,4,33,6],[35,2,35,3],[27,1,28,14],[24,15,25,15],[24,19,25,19],[24,20,25,20],[24,21,25,21],[24,27,25,27],[24,22,25,22],[24,23,25,23],[24,24,25,24],[24,25,25,25],[24,26,25,26],[24,10,25,10],[24,11,25,11],[24,12,25,12],[24,13,25,13],[24,14,25,14],[30,7,30,16],[31,7,31,16],[32,10,32,16],[34,9,34,10],[34,12,34,14],[4,15,5,15],[4,16,5,16],[4,19,5,19],[4,20,5,20],[4,21,5,21],[4,22,5,22],[4,23,5,23],[4,24,5,24],[24,28,25,28],[20,24,21,24],[22,27,23,27],[22,28,23,28],[22,15,23,15],[22,19,23,19],[22,20,23,20],[22,21,23,21],[22,22,23,22],[22,23,23,23],[22,24,23,24],[20,15,21,15],[20,19,21,19],[20,20,21,20],[20,21,21,21],[20,22,21,22],[24,29,25,29],[20,25,21,25],[20,26,21,26],[20,27,21,27],[20,28,21,28],[22,25,23,25],[22,26,23,26],[4,25,5,25],[4,26,5,26],[4,27,5,27],[4,28,5,28],[4,29,5,29],[20,29,21,29],[14,29,15,29],[22,29,23,29],[16,29,17,29],[14,28,15,28],[6,29,7,29],[18,29,19,29],[10,29,11,29],[12,27,13,27],[12,28,13,28],[12,29,13,29],[8,29,9,29]]}
[{"$f":"申込①!A1","v":"令和5年度NTS近畿ブロック研修会参加申込書（保険申込含む）兼　U15レスリングアジア選手権大会日本代表選考会ﾌﾞﾛｯｸ予選会参加申込書"},null,null,null,null,null,null,null,null,null,null,null,null,null,null,null,null,null,null,null,null,null,null,null,null,null,null,null,null,null,null,null,null,null,null,null,null,null,null,null,null,null,null,"なまえ"]
[{"$f":"申込①!A2","v":"（公財）日本レスリング協会　会長　富山 英明　様"},null,null,null,null,null,null,null,null,null,null,null,null,null,null,null,null,null,null,null,null,null,null,null,"No",2,null,null,null,null,null,null,null,null,null,null,null,null,null,null,null,null,null,"名前",null,"指"]
["No","協会","なまえ（ひらがな）",null,"学年","性別","生年月日",null,"所属","試合","U15","U17",null,"U20",null,"No","協会","なまえ（ひらがな）",null,"学年","性別","生年月日",null,"所属","試合","U15","U17",null,"U20",null,null,null,null,null,null,null,null,null,null,null,null,null,null,5,6,"監督",null,null,null,null,"U-15・F","U-17・F","U-17・G","U-20・F","U-20・G"]
[null,"番号","名前",null,null,null,"注) 2006/10/10の形で入力",null,null,"参加","フリー","フリー","グレコ","フリー","グレコ",null,"番号","名前",null,null,null,"注) 2006/10/10の形で入力",null,null,"参加","フリー","フリー","グレコ","フリー","グレコ",null,null,null,null,null,null,null,null,null,null,null,null,null,3,4,"コーチ",null,"高１","男","○",38,45,45,57,55,"和歌山県"]
["例","JWF23ー","しんぐう","たろう",2,"男","2006-10-10","生","高","○",null,48,null,null,null,null,null,null,null,null,null,null,null,null,null,null,null,null,null,null,null,null,null,null,null,null,null,null,null,null,null,null,null,"学年",13,"高",null,"高２","女",null,41,48,48,61,60,"兵庫県"]
[null,123,"新宮","太朗",null,null,null,null,null,null,null,null,null,null,null,null,null,null,null,null,null,null,null,null,null,null,null,null,null,null,null,null,null,null,null,null,null,null,9,"U-15","U-17","U-20",null,"性別",7,"中",null,"高３",null,null,44,51,51,65,63,"奈良県"]
[21,"JWF23-",null,null,null,null,null,"生",null,null,null,null,null,null,null,31,"JWF23-",null,null,null,null,null,"生",null,null,null,null,null,null,null,null,{"$f":"IF(K7=\"\",\"\",\"U-15F\")","v":""},{"$f":"IF(L7=\"\",\"\",\"U-17F\")","v":""},{"$f":"IF(M7=\"\",\"\",\"U-17G\")","v":""},{"$f":"IF(N7=\"\",\"\",\"U-20F\")","v":""},{"$f":"IF(O7=\"\",\"\",\"U-20G\")","v":""},{"$f":"AF7&AG7&AH7&AI7&AJ7","v":""},{"$f":"SUM(K7:O8)","v":0},null,null,null,null,null,"生年月日",8,"小",null,"中３",null,null,48,55,55,70,67,"大阪府"]
[null,null,null,null,null,null,null,null,null,null,null,null,null,null,null,null,null,null,null,null,null,null,null,null,null,null,null,null,null,null,null,null,null,null,null,null,null,null,{"$f":"IF(B7=\"\",\"\",VLOOKUP(B7,#REF!,$AM$6,FALSE))","v":{"$error":"#REF!"}},{"$f":"IF(AND(G7>=$AR$8,G7<=$AS$8),\"U-15\",\"\")","v":""},{"$f":"IF(AND(G7>=$AR$9,G7<=$AS$9),\"U-17\",\"\")","v":""},{"$f":"IF(AND(G7>=$AR$10,G7<=$AS$10),\"U-20\",\"\")","v":""},"U-15","2008-01-01","2010-12-31","H20",null,"中２",null,null,52,60,60,74,72,"京都府"]
[22,"JWF23-",null,null,null,null,null,"生",null,null,null,null,null,null,null,32,"JWF23-",null,null,null,null,null,"生",null,null,null,null,null,null,null,null,{"$f":"IF(K9=\"\",\"\",\"U-15F\")","v":""},{"$f":"IF(L9=\"\",\"\",\"U-17F\")","v":""},{"$f":"IF(M9=\"\",\"\",\"U-17G\")","v":""},{"$f":"IF(N9=\"\",\"\",\"U-20F\")","v":""},{"$f":"IF(O9=\"\",\"\",\"U-20G\")","v":""},{"$f":"AF9&AG9&AH9&AI9&AJ9","v":""},{"$f":"SUM(K9:O10)","v":0},null,null,null,null,"U-17","2006-01-01","2008-12-31","H18",null,"中１",null,null,57,65,65,79,77,"滋賀県"]
[null,null,null,null,null,null,null,null,null,null,null,null,null,null,null,null,null,null,null,null,null,null,null,null,null,null,null,null,null,null,null,null,null,null,null,null,null,null,{"$f":"IF(B9=\"\",\"\",VLOOKUP(B9,#REF!,$AM$6,FALSE))","v":{"$error":"#REF!"}},{"$f":"IF(AND(G9>=$AR$8,G9<=$AS$8),\"U-15\",\"\")","v":""},{"$f":"IF(AND(G9>=$AR$9,G9<=$AS$9),\"U-17\",\"\")","v":""},{"$f":"IF(AND(G9>=$AR$10,G9<=$AS$10),\"U-20\",\"\")","v":""},"U-20","2003-01-01","2006-12-31","H15",null,"小６",null,null,62,71,71,86,82]
[23,"JWF23-",null,null,null,null,null,"生",null,null,null,null,null,null,null,33,"JWF23-",null,null,null,null,null,"生",null,null,null,null,null,null,null,null,{"$f":"IF(K11=\"\",\"\",\"U-15F\")","v":""},{"$f":"IF(L11=\"\",\"\",\"U-17F\")","v":""},{"$f":"IF(M11=\"\",\"\",\"U-17G\")","v":""},{"$f":"IF(N11=\"\",\"\",\"U-20F\")","v":""},{"$f":"IF(O11=\"\",\"\",\"U-20G\")","v":""},{"$f":"AF11&AG11&AH11&AI11&AJ11","v":""},{"$f":"SUM(K11:O12)","v":0},null,null,null,null,null,null,null,null,null,null,null,null,68,80,80,92,87]
[null,null,null,null,null,null,null,null,null,null,null,null,null,null,null,null,null,null,null,null,null,null,null,null,null,null,null,null,null,null,null,null,null,null,null,null,null,null,{"$f":"IF(B11=\"\",\"\",VLOOKUP(B11,#REF!,$AM$6,FALSE))","v":{"$error":"#REF!"}},{"$f":"IF(AND(G11>=$AR$8,G11<=$AS$8),\"U-15\",\"\")","v":""},{"$f":"IF(AND(G11>=$AR$9,G11<=$AS$9),\"U-17\",\"\")","v":""},{"$f":"IF(AND(G11>=$AR$10,G11<=$AS$10),\"U-20\",\"\")","v":""},null,null,null,null,null,null,null,null,75,92,92,97,97]
[24,"JWF23-",null,null,null,null,null,"生",null,null,null,null,null,null,null,34,"JWF23-",null,null,null,null,null,"生",null,null,null,null,null,null,null,null,{"$f":"IF(K13=\"\",\"\",\"U-15F\")","v":""},{"$f":"IF(L13=\"\",\"\",\"U-17F\")","v":""},{"$f":"IF(M13=\"\",\"\",\"U-17G\")","v":""},{"$f":"IF(N13=\"\",\"\",\"U-20F\")","v":""},{"$f":"IF(O13=\"\",\"\",\"U-20G\")","v":""},{"$f":"AF13&AG13&AH13&AI13&AJ13","v":""},{"$f":"SUM(K13:O14)","v":0},null,null,null,null,null,null,null,null,null,null,null,null,85,110,110,125,130]
[null,null,null,null,null,null,null,null,null,null,null,null,null,null,null,null,null,null,null,null,null,null,null,null,null,null,null,null,null,null,null,null,null,null,null,null,null,null,{"$f":"IF(B13=\"\",\"\",VLOOKUP(B13,#REF!,$AM$6,FALSE))","v":{"$error":"#REF!"}},{"$f":"IF(AND(G13>=$AR$8,G13<=$AS$8),\"U-15\",\"\")","v":""},{"$f":"IF(AND(G13>=$AR$9,G13<=$AS$9),\"U-17\",\"\")","v":""},{"$f":"IF(AND(G13>=$AR$10,G13<=$AS$10),\"U-20\",\"\")","v":""}]
[25,"JWF23-",null,null,null,null,null,"生",null,null,null,null,null,null,null,35,"JWF23-",null,null,null,null,null,"生",null,null,null,null,null,null,null,null,{"$f":"IF(K15=\"\",\"\",\"U-15F\")","v":""},{"$f":"IF(L15=\"\",\"\",\"U-17F\")","v":""},{"$f":"IF(M15=\"\",\"\",\"U-17G\")","v":""},{"$f":"IF(N15=\"\",\"\",\"U-20F\")","v":""},{"$f":"IF(O15=\"\",\"\",\"U-20G\")","v":""},{"$f":"AF15&AG15&AH15&AI15&AJ15","v":""},{"$f":"SUM(K15:O16)","v":0}]
[null,null,null,null,null,null,null,null,null,null,null,null,null,null,null,null,null,null,null,null,null,null,null,null,null,null,null,null,null,null,null,null,null,null,null,null,null,null,{"$f":"IF(B15=\"\",\"\",VLOOKUP(B15,#REF!,$AM$6,FALSE))","v":{"$error":"#REF!"}},{"$f":"IF(AND(G15>=$AR$8,G15<=$AS$8),\"U-15\",\"\")","v":""},{"$f":"IF(AND(G15>=$AR$9,G15<=$AS$9),\"U-17\",\"\")","v":""},{"$f":"IF(AND(G15>=$AR$10,G15<=$AS$10),\"U-20\",\"\")","v":""}]
[26,"JWF23-",null,null,null,null,null,"生",null,null,null,null,null,null,null,36,"JWF23-",null,null,null,null,null,"生",null,null,null,null,null,null,null,null,{"$f":"IF(K17=\"\",\"\",\"U-15F\")","v":""},{"$f":"IF(L17=\"\",\"\",\"U-17F\")","v":""},{"$f":"IF(M17=\"\",\"\",\"U-17G\")","v":""},{"$f":"IF(N17=\"\",\"\",\"U-20F\")","v":""},{"$f":"IF(O17=\"\",\"\",\"U-20G\")","v":""},{"$f":"AF17&AG17&AH17&AI17&AJ17","v":""},{"$f":"SUM(K17:O18)","v":0}]
[null,null,null,null,null,null,null,null,null,null,null,null,null,null,null,null,null,null,null,null,null,null,null,null,null,null,null,null,null,null,null,null,null,null,null,null,null,null,{"$f":"IF(B17=\"\",\"\",VLOOKUP(B17,#REF!,$AM$6,FALSE))","v":{"$error":"#REF!"}},{"$f":"IF(AND(G17>=$AR$8,G17<=$AS$8),\"U-15\",\"\")","v":""},{"$f":"IF(AND(G17>=$AR$9,G17<=$AS$9),\"U-17\",\"\")","v":""},{"$f":"IF(AND(G17>=$AR$10,G17<=$AS$10),\"U-20\",\"\")","v":""}]
[27,"JWF23-",null,null,null,null,null,"生",null,null,null,null,null,null,null,37,"JWF23-",null,null,null,null,null,"生",null,null,null,null,null,null,null,null,{"$f":"IF(K19=\"\",\"\",\"U-15F\")","v":""},{"$f":"IF(L19=\"\",\"\",\"U-17F\")","v":""},{"$f":"IF(M19=\"\",\"\",\"U-17G\")","v":""},{"$f":"IF(N19=\"\",\"\",\"U-20F\")","v":""},{"$f":"IF(O19=\"\",\"\",\"U-20G\")","v":""},{"$f":"AF19&AG19&AH19&AI19&AJ19","v":""},{"$f":"SUM(K19:O20)","v":0}]
[null,null,null,null,null,null,null,null,null,null,null,null,null,null,null,null,null,null,null,null,null,null,null,null,null,null,null,null,null,null,null,null,null,null,null,null,null,null,{"$f":"IF(B19=\"\",\"\",VLOOKUP(B19,#REF!,$AM$6,FALSE))","v":{"$error":"#REF!"}},{"$f":"IF(AND(G19>=$AR$8,G19<=$AS$8),\"U-15\",\"\")","v":""},{"$f":"IF(AND(G19>=$AR$9,G19<=$AS$9),\"U-17\",\"\")","v":""},{"$f":"IF(AND(G19>=$AR$10,G19<=$AS$10),\"U-20\",\"\")","v":""}]
[28,"JWF23-",null,null,null,null,null,"生",null,null,null,null,null,null,null,38,"JWF23-",null,null,null,null,null,"生",null,null,null,null,null,null,null,null,{"$f":"IF(K21=\"\",\"\",\"U-15F\")","v":""},{"$f":"IF(L21=\"\",\"\",\"U-17F\")","v":""},{"$f":"IF(M21=\"\",\"\",\"U-17G\")","v":""},{"$f":"IF(N21=\"\",\"\",\"U-20F\")","v":""},{"$f":"IF(O21=\"\",\"\",\"U-20G\")","v":""},{"$f":"AF21&AG21&AH21&AI21&AJ21","v":""},{"$f":"SUM(K21:O22)","v":0}]
[null,null,null,null,null,null,null,null,null,null,null,null,null,null,null,null,null,null,null,null,null,null,null,null,null,null,null,null,null,null,null,null,null,null,null,null,null,null,{"$f":"IF(B21=\"\",\"\",VLOOKUP(B21,#REF!,$AM$6,FALSE))","v":{"$error":"#REF!"}},{"$f":"IF(AND(G21>=$AR$8,G21<=$AS$8),\"U-15\",\"\")","v":""},{"$f":"IF(AND(G21>=$AR$9,G21<=$AS$9),\"U-17\",\"\")","v":""},{"$f":"IF(AND(G21>=$AR$10,G21<=$AS$10),\"U-20\",\"\")","v":""}]
[29,"JWF23-",null,null,null,null,null,"生",null,null,null,null,null,null,null,39,"JWF23-",null,null,null,null,null,"生",null,null,null,null,null,null,null,null,{"$f":"IF(K23=\"\",\"\",\"U-15F\")","v":""},{"$f":"IF(L23=\"\",\"\",\"U-17F\")","v":""},{"$f":"IF(M23=\"\",\"\",\"U-17G\")","v":""},{"$f":"IF(N23=\"\",\"\",\"U-20F\")","v":""},{"$f":"IF(O23=\"\",\"\",\"U-20G\")","v":""},{"$f":"AF23&AG23&AH23&AI23&AJ23","v":""},{"$f":"SUM(K23:O24)","v":0}]
[null,null,null,null,null,null,null,null,null,null,null,null,null,null,null,null,null,null,null,null,null,null,null,null,null,null,null,null,null,null,null,null,null,null,null,null,null,null,{"$f":"IF(B23=\"\",\"\",VLOOKUP(B23,#REF!,$AM$6,FALSE))","v":{"$error":"#REF!"}},{"$f":"IF(AND(G23>=$AR$8,G23<=$AS$8),\"U-15\",\"\")","v":""},{"$f":"IF(AND(G23>=$AR$9,G23<=$AS$9),\"U-17\",\"\")","v":""},{"$f":"IF(AND(G23>=$AR$10,G23<=$AS$10),\"U-20\",\"\")","v":""}]
[30,"JWF23-",null,null,null,null,null,"生",null,null,null,null,null,null,null,40,"JWF23-",null,null,null,null,null,"生",null,null,null,null,null,null,null,null,{"$f":"IF(K25=\"\",\"\",\"U-15F\")","v":""},{"$f":"IF(L25=\"\",\"\",\"U-17F\")","v":""},{"$f":"IF(M25=\"\",\"\",\"U-17G\")","v":""},{"$f":"IF(N25=\"\",\"\",\"U-20F\")","v":""},{"$f":"IF(O25=\"\",\"\",\"U-20G\")","v":""},{"$f":"AF25&AG25&AH25&AI25&AJ25","v":""},{"$f":"SUM(K25:O26)","v":0}]
[null,null,null,null,null,null,null,null,null,null,null,null,null,null,null,null,null,null,null,null,null,null,null,null,null,null,null,null,null,null,null,null,null,null,null,null,null,null,{"$f":"IF(B25=\"\",\"\",VLOOKUP(B25,#REF!,$AM$6,FALSE))","v":{"$error":"#REF!"}},{"$f":"IF(AND(G25>=$AR$8,G25<=$AS$8),\"U-15\",\"\")","v":""},{"$f":"IF(AND(G25>=$AR$9,G25<=$AS$9),\"U-17\",\"\")","v":""},{"$f":"IF(AND(G25>=$AR$10,G25<=$AS$10),\"U-20\",\"\")","v":""}]
[null,null,null,null,null,null,null,null,null,null,null,null,null,null,null,null,null,null,null,null,null,null,null,null,null,null,null,null,null,null,null,{"$f":"IF(Z7=\"\",\"\",\"U-15F\")","v":""},{"$f":"IF(AA7=\"\",\"\",\"U-17F\")","v":""},{"$f":"IF(AB7=\"\",\"\",\"U-17G\")","v":""},{"$f":"IF(AC7=\"\",\"\",\"U-20F\")","v":""},{"$f":"IF(AD7=\"\",\"\",\"U-20G\")","v":""},{"$f":"AF27&AG27&AH27&AI27&AJ27","v":""},{"$f":"SUM(Z7:AD8)","v":0}]
[null,"審判氏名\nNo1に入力をお願いします",null,null,null,null,null,null,null,null,null,null,null,null,null,null,null,null,null,null,null,null,null,null,null,null,null,null,null,null,null,null,null,null,null,null,null,null,{"$f":"IF(Q7=\"\",\"\",VLOOKUP(Q7,#REF!,$AM$6,FALSE))","v":{"$error":"#REF!"}},{"$f":"IF(AND(V7>=$AR$8,V7<=$AS$8),\"U-15\",\"\")","v":""},{"$f":"IF(AND(V7>=$AR$9,V7<=$AS$9),\"U-17\",\"\")","v":""},{"$f":"IF(AND(V7>=$AR$10,V7<=$AS$10),\"U-20\",\"\")","v":""}]
[null,null,null,null,null,null,null,null,null,null,null,null,null,null,null,null,null,null,null,null,null,null,null,null,null,null,null,null,null,null,null,{"$f":"IF(Z9=\"\",\"\",\"U-15F\")","v":""},{"$f":"IF(AA9=\"\",\"\",\"U-17F\")","v":""},{"$f":"IF(AB9=\"\",\"\",\"U-17G\")","v":""},{"$f":"IF(AC9=\"\",\"\",\"U-20F\")","v":""},{"$f":"IF(AD9=\"\",\"\",\"U-20G\")","v":""},{"$f":"AF29&AG29&AH29&AI29&AJ29","v":""},{"$f":"SUM(Z9:AD10)","v":0}]
[null,null,"上記の通り申し込みます",null,null,null,null,null,null,null,null,null,null,null,null,null,null,null,null,null,null,null,null,null,null,null,null,null,null,null,null,null,null,null,null,null,null,null,{"$f":"IF(Q9=\"\",\"\",VLOOKUP(Q9,#REF!,$AM$6,FALSE))","v":{"$error":"#REF!"}},{"$f":"IF(AND(V9>=$AR$8,V9<=$AS$8),\"U-15\",\"\")","v":""},{"$f":"IF(AND(V9>=$AR$9,V9<=$AS$9),\"U-17\",\"\")","v":""},{"$f":"IF(AND(V9>=$AR$10,V9<=$AS$10),\"U-20\",\"\")","v":""}]
[null,null,null,null,null,null,"ふりがな",{"$f":"申込①!H31","v":0},null,null,null,null,null,null,null,null,null,null,null,null,null,null,null,null,null,null,null,null,null,null,null,{"$f":"IF(Z11=\"\",\"\",\"U-15F\")","v":""},{"$f":"IF(AA11=\"\",\"\",\"U-17F\")","v":""},{"$f":"IF(AB11=\"\",\"\",\"U-17G\")","v":""},{"$f":"IF(AC11=\"\",\"\",\"U-20F\")","v":""},{"$f":"IF(AD11=\"\",\"\",\"U-20G\")","v":""},{"$f":"AF31&AG31&AH31&AI31&AJ31","v":""},{"$f":"SUM(Z11:AD12)","v":0}]
[null,null,"所属都道府県",{"$f":"申込①!D32","v":0},null,null,"団体名",{"$f":"申込①!H32","v":0},null,null,null,null,null,null,null,null,null,null,null,null,null,null,null,null,null,null,null,null,null,null,null,null,null,null,null,null,null,null,{"$f":"IF(Q11=\"\",\"\",VLOOKUP(Q11,#REF!,$AM$6,FALSE))","v":{"$error":"#REF!"}},{"$f":"IF(AND(V11>=$AR$8,V11<=$AS$8),\"U-15\",\"\")","v":""},{"$f":"IF(AND(V11>=$AR$9,V11<=$AS$9),\"U-17\",\"\")","v":""},{"$f":"IF(AND(V11>=$AR$10,V11<=$AS$10),\"U-20\",\"\")","v":""}]
[null,null,null,null,null,null,null,null,null,"略称",{"$f":"申込①!K33","v":0},null,null,null,null,null,null,null,null,null,null,null,null,null,null,null,null,null,null,null,null,{"$f":"IF(Z13=\"\",\"\",\"U-15F\")","v":""},{"$f":"IF(AA13=\"\",\"\",\"U-17F\")","v":""},{"$f":"IF(AB13=\"\",\"\",\"U-17G\")","v":""},{"$f":"IF(AC13=\"\",\"\",\"U-20F\")","v":""},{"$f":"IF(AD13=\"\",\"\",\"U-20G\")","v":""},{"$f":"AF33&AG33&AH33&AI33&AJ33","v":""},{"$f":"SUM(Z13:AD14)","v":0}]
[null,null,null,"代表者名",null,null,null,"印",null,null,"☝",null,null,null,null,"表示に使う可能性あり",null,null,null,null,null,null,null,null,null,null,null,null,null,null,null,null,null,null,null,null,null,null,{"$f":"IF(Q13=\"\",\"\",VLOOKUP(Q13,#REF!,$AM$6,FALSE))","v":{"$error":"#REF!"}},{"$f":"IF(AND(V13>=$AR$8,V13<=$AS$8),\"U-15\",\"\")","v":""},{"$f":"IF(AND(V13>=$AR$9,V13<=$AS$9),\"U-17\",\"\")","v":""},{"$f":"IF(AND(V13>=$AR$10,V13<=$AS$10),\"U-20\",\"\")","v":""}]
[null,null,null,null,null,null,null,null,null,null,null,null,null,null,null,"全角5文字以内で",null,null,null,null,null,null,null,null,null,null,null,null,null,null,null,{"$f":"IF(Z15=\"\",\"\",\"U-15F\")","v":""},{"$f":"IF(AA15=\"\",\"\",\"U-17F\")","v":""},{"$f":"IF(AB15=\"\",\"\",\"U-17G\")","v":""},{"$f":"IF(AC15=\"\",\"\",\"U-20F\")","v":""},{"$f":"IF(AD15=\"\",\"\",\"U-20G\")","v":""},{"$f":"AF35&AG35&AH35&AI35&AJ35","v":""},{"$f":"SUM(Z15:AD16)","v":0}]
[null,null,{"$f":"申込①!C36","v":"令和５年　　月　　日"},null,null,null,null,null,null,null,null,null,null,null,null,null,null,null,null,null,null,null,null,null,null,null,null,null,null,null,null,null,null,null,null,null,null,null,{"$f":"IF(Q15=\"\",\"\",VLOOKUP(Q15,#REF!,$AM$6,FALSE))","v":{"$error":"#REF!"}},{"$f":"IF(AND(V15>=$AR$8,V15<=$AS$8),\"U-15\",\"\")","v":""},{"$f":"IF(AND(V15>=$AR$9,V15<=$AS$9),\"U-17\",\"\")","v":""},{"$f":"IF(AND(V15>=$AR$10,V15<=$AS$10),\"U-20\",\"\")","v":""}]
[null,null,null,null,null,null,null,null,null,null,null,null,null,null,null,null,null,null,null,null,null,null,null,null,null,null,null,null,null,null,null,{"$f":"IF(Z17=\"\",\"\",\"U-15F\")","v":""},{"$f":"IF(AA17=\"\",\"\",\"U-17F\")","v":""},{"$f":"IF(AB17=\"\",\"\",\"U-17G\")","v":""},{"$f":"IF(AC17=\"\",\"\",\"U-20F\")","v":""},{"$f":"IF(AD17=\"\",\"\",\"U-20G\")","v":""},{"$f":"AF37&AG37&AH37&AI37&AJ37","v":""},{"$f":"SUM(Z17:AD18)","v":0}]
[null,null,null,null,null,null,null,null,null,null,null,null,null,null,null,null,null,null,null,null,null,null,null,null,null,null,null,null,null,null,null,null,null,null,null,null,null,null,{"$f":"IF(Q17=\"\",\"\",VLOOKUP(Q17,#REF!,$AM$6,FALSE))","v":{"$error":"#REF!"}},{"$f":"IF(AND(V17>=$AR$8,V17<=$AS$8),\"U-15\",\"\")","v":""},{"$f":"IF(AND(V17>=$AR$9,V17<=$AS$9),\"U-17\",\"\")","v":""},{"$f":"IF(AND(V17>=$AR$10,V17<=$AS$10),\"U-20\",\"\")","v":""}]
[null,null,null,null,null,null,null,null,null,null,null,null,null,null,null,null,null,null,null,null,null,null,null,null,null,null,null,null,null,null,null,{"$f":"IF(Z19=\"\",\"\",\"U-15F\")","v":""},{"$f":"IF(AA19=\"\",\"\",\"U-17F\")","v":""},{"$f":"IF(AB19=\"\",\"\",\"U-17G\")","v":""},{"$f":"IF(AC19=\"\",\"\",\"U-20F\")","v":""},{"$f":"IF(AD19=\"\",\"\",\"U-20G\")","v":""},{"$f":"AF39&AG39&AH39&AI39&AJ39","v":""},{"$f":"SUM(Z19:AD20)","v":0}]
[null,null,null,null,null,null,null,null,null,null,null,null,null,null,null,null,null,null,null,null,null,null,null,null,null,null,null,null,null,null,null,null,null,null,null,null,null,null,{"$f":"IF(Q19=\"\",\"\",VLOOKUP(Q19,#REF!,$AM$6,FALSE))","v":{"$error":"#REF!"}},{"$f":"IF(AND(V19>=$AR$8,V19<=$AS$8),\"U-15\",\"\")","v":""},{"$f":"IF(AND(V19>=$AR$9,V19<=$AS$9),\"U-17\",\"\")","v":""},{"$f":"IF(AND(V19>=$AR$10,V19<=$AS$10),\"U-20\",\"\")","v":""}]
[null,null,null,null,null,null,null,null,null,null,null,null,null,null,null,null,null,null,null,null,null,null,null,null,null,null,null,null,null,null,null,{"$f":"IF(Z21=\"\",\"\",\"U-15F\")","v":""},{"$f":"IF(AA21=\"\",\"\",\"U-17F\")","v":""},{"$f":"IF(AB21=\"\",\"\",\"U-17G\")","v":""},{"$f":"IF(AC21=\"\",\"\",\"U-20F\")","v":""},{"$f":"IF(AD21=\"\",\"\",\"U-20G\")","v":""},{"$f":"AF41&AG41&AH41&AI41&AJ41","v":""},{"$f":"SUM(Z21:AD22)","v":0}]
[null,null,null,null,null,null,null,null,null,null,null,null,null,null,null,null,null,null,null,null,null,null,null,null,null,null,null,null,null,null,null,null,null,null,null,null,null,null,{"$f":"IF(Q21=\"\",\"\",VLOOKUP(Q21,#REF!,$AM$6,FALSE))","v":{"$error":"#REF!"}},{"$f":"IF(AND(V21>=$AR$8,V21<=$AS$8),\"U-15\",\"\")","v":""},{"$f":"IF(AND(V21>=$AR$9,V21<=$AS$9),\"U-17\",\"\")","v":""},{"$f":"IF(AND(V21>=$AR$10,V21<=$AS$10),\"U-20\",\"\")","v":""}]
[null,null,null,null,null,null,null,null,null,null,null,null,null,null,null,null,null,null,null,null,null,null,null,null,null,null,null,null,null,null,null,{"$f":"IF(Z23=\"\",\"\",\"U-15F\")","v":""},{"$f":"IF(AA23=\"\",\"\",\"U-17F\")","v":""},{"$f":"IF(AB23=\"\",\"\",\"U-17G\")","v":""},{"$f":"IF(AC23=\"\",\"\",\"U-20F\")","v":""},{"$f":"IF(AD23=\"\",\"\",\"U-20G\")","v":""},{"$f":"AF43&AG43&AH43&AI43&AJ43","v":""},{"$f":"SUM(Z23:AD24)","v":0}]
[null,null,null,null,null,null,null,null,null,null,null,null,null,null,null,null,null,null,null,null,null,null,null,null,null,null,null,null,null,null,null,null,null,null,null,null,null,null,{"$f":"IF(Q23=\"\",\"\",VLOOKUP(Q23,#REF!,$AM$6,FALSE))","v":{"$error":"#REF!"}},{"$f":"IF(AND(V23>=$AR$8,V23<=$AS$8),\"U-15\",\"\")","v":""},{"$f":"IF(AND(V23>=$AR$9,V23<=$AS$9),\"U-17\",\"\")","v":""},{"$f":"IF(AND(V23>=$AR$10,V23<=$AS$10),\"U-20\",\"\")","v":""}]
[null,null,null,null,null,null,null,null,null,null,null,null,null,null,null,null,null,null,null,null,null,null,null,null,null,null,null,null,null,null,null,{"$f":"IF(Z25=\"\",\"\",\"U-15F\")","v":""},{"$f":"IF(AA25=\"\",\"\",\"U-17F\")","v":""},{"$f":"IF(AB25=\"\",\"\",\"U-17G\")","v":""},{"$f":"IF(AC25=\"\",\"\",\"U-20F\")","v":""},{"$f":"IF(AD25=\"\",\"\",\"U-20G\")","v":""},{"$f":"AF45&AG45&AH45&AI45&AJ45","v":""},{"$f":"SUM(Z25:AD26)","v":0}]
[null,null,null,null,null,null,null,null,null,null,null,null,null,null,null,null,null,null,null,null,null,null,null,null,null,null,null,null,null,null,null,null,null,null,null,null,null,null,{"$f":"IF(Q25=\"\",\"\",VLOOKUP(Q25,#REF!,$AM$6,FALSE))","v":{"$error":"#REF!"}},{"$f":"IF(AND(V25>=$AR$8,V25<=$AS$8),\"U-15\",\"\")","v":""},{"$f":"IF(AND(V25>=$AR$9,V25<=$AS$9),\"U-17\",\"\")","v":""},{"$f":"IF(AND(V25>=$AR$10,V25<=$AS$10),\"U-20\",\"\")","v":""}]
[null,null,null,null,null,null,null,null,null,null,null,null,null,null,null,null,null,null,null,null,null,null,null,null,null,null,null,null,null,null,null,null,null,null,null,null,{"$f":"AF47&AG47&AH47&AI47&AJ47","v":""},{"$f":"SUM(K28:O28)","v":0}]

{"sheet":"List","index":3,"n_rows":47,"n_cols":16,"rows_kept":47,"cut":false,"hidden":false,"merged":[[43,1,46,1]]}
["ID",null,"No","名前","なまえ","都道府県","所属名","しょぞくめい","Grade","階級","学年","抽選","所属","kg","ブロック","略称"]
[null,null,{"$f":"申込①!A7","v":1},{"$f":"IF(申込①!C8=\"\",\"-- --\",申込①!C8&\" \"&申込①!D8)","v":"-- --"},{"$f":"IF(申込①!C8=\"\",\"-- --\",申込①!C7&\" \"&申込①!D7)","v":"-- --"},{"$f":"申込①!$D$32","v":0},{"$f":"申込①!$H$32","v":0},{"$f":"申込①!$H$31","v":0},{"$f":"申込①!AK7","v":""},{"$f":"申込①!AL7","v":0},{"$f":"申込①!E7","v":0},null,{"$f":"申込①!I7","v":0},{"$f":"J2","v":0},{"$f":"申込①!$D$32","v":0},{"$f":"申込①!$K$33","v":0}]
[null,null,{"$f":"申込①!A9","v":2},{"$f":"IF(申込①!C10=\"\",\"-- --\",申込①!C10&\" \"&申込①!D10)","v":"-- --"},{"$f":"IF(申込①!C10=\"\",\"-- --\",申込①!C9&\" \"&申込①!D9)","v":"-- --"},{"$f":"申込①!$D$32","v":0},{"$f":"申込①!$H$32","v":0},{"$f":"申込①!$H$31","v":0},{"$f":"申込①!AK9","v":""},{"$f":"申込①!AL9","v":0},{"$f":"申込①!E9","v":0},null,{"$f":"申込①!I9","v":0},{"$f":"J3","v":0},{"$f":"申込①!$D$32","v":0},{"$f":"申込①!$K$33","v":0}]
[null,null,{"$f":"申込①!A11","v":3},{"$f":"IF(申込①!C12=\"\",\"-- --\",申込①!C12&\" \"&申込①!D12)","v":"-- --"},{"$f":"IF(申込①!C12=\"\",\"-- --\",申込①!C11&\" \"&申込①!D11)","v":"-- --"},{"$f":"申込①!$D$32","v":0},{"$f":"申込①!$H$32","v":0},{"$f":"申込①!$H$31","v":0},{"$f":"申込①!AK11","v":""},{"$f":"申込①!AL11","v":0},{"$f":"申込①!E11","v":0},null,{"$f":"申込①!I11","v":0},0,{"$f":"申込①!$D$32","v":0},{"$f":"申込①!$K$33","v":0}]
[null,null,{"$f":"申込①!A13","v":4},{"$f":"IF(申込①!C14=\"\",\"-- --\",申込①!C14&\" \"&申込①!D14)","v":"-- --"},{"$f":"IF(申込①!C14=\"\",\"-- --\",申込①!C13&\" \"&申込①!D13)","v":"-- --"},{"$f":"申込①!$D$32","v":0},{"$f":"申込①!$H$32","v":0},{"$f":"申込①!$H$31","v":0},{"$f":"申込①!AK13","v":""},{"$f":"申込①!AL13","v":0},{"$f":"申込①!E13","v":0},null,{"$f":"申込①!I13","v":0},0,{"$f":"申込①!$D$32","v":0},{"$f":"申込①!$K$33","v":0}]
[null,null,{"$f":"申込①!A15","v":5},{"$f":"IF(申込①!C16=\"\",\"-- --\",申込①!C16&\" \"&申込①!D16)","v":"-- --"},{"$f":"IF(申込①!C16=\"\",\"-- --\",申込①!C15&\" \"&申込①!D15)","v":"-- --"},{"$f":"申込①!$D$32","v":0},{"$f":"申込①!$H$32","v":0},{"$f":"申込①!$H$31","v":0},{"$f":"申込①!AK15","v":""},{"$f":"申込①!AL15","v":0},{"$f":"申込①!E15","v":0},null,{"$f":"申込①!I15","v":0},0,{"$f":"申込①!$D$32","v":0},{"$f":"申込①!$K$33","v":0}]
[null,null,{"$f":"申込①!A17","v":6},{"$f":"IF(申込①!C18=\"\",\"-- --\",申込①!C18&\" \"&申込①!D18)","v":"-- --"},{"$f":"IF(申込①!C18=\"\",\"-- --\",申込①!C17&\" \"&申込①!D17)","v":"-- --"},{"$f":"申込①!$D$32","v":0},{"$f":"申込①!$H$32","v":0},{"$f":"申込①!$H$31","v":0},{"$f":"申込①!AK17","v":""},{"$f":"申込①!AL17","v":0},{"$f":"申込①!E17","v":0},null,{"$f":"申込①!I17","v":0},{"$f":"J7","v":0},{"$f":"申込①!$D$32","v":0},{"$f":"申込①!$K$33","v":0}]
[null,null,{"$f":"申込①!A19","v":7},{"$f":"IF(申込①!C20=\"\",\"-- --\",申込①!C20&\" \"&申込①!D20)","v":"-- --"},{"$f":"IF(申込①!C20=\"\",\"-- --\",申込①!C19&\" \"&申込①!D19)","v":"-- --"},{"$f":"申込①!$D$32","v":0},{"$f":"申込①!$H$32","v":0},{"$f":"申込①!$H$31","v":0},{"$f":"申込①!AK19","v":""},{"$f":"申込①!AL19","v":0},{"$f":"申込①!E19","v":0},null,{"$f":"申込①!I19","v":0},0,{"$f":"申込①!$D$32","v":0},{"$f":"申込①!$K$33","v":0}]
[null,null,{"$f":"申込①!A21","v":8},{"$f":"IF(申込①!C22=\"\",\"-- --\",申込①!C22&\" \"&申込①!D22)","v":"-- --"},{"$f":"IF(申込①!C22=\"\",\"-- --\",申込①!C21&\" \"&申込①!D21)","v":"-- --"},{"$f":"申込①!$D$32","v":0},{"$f":"申込①!$H$32","v":0},{"$f":"申込①!$H$31","v":0},{"$f":"申込①!AK21","v":""},{"$f":"申込①!AL21","v":0},{"$f":"申込①!E21","v":0},null,{"$f":"申込①!I21","v":0},0,{"$f":"申込①!$D$32","v":0},{"$f":"申込①!$K$33","v":0}]
[null,null,{"$f":"申込①!A23","v":9},{"$f":"IF(申込①!C24=\"\",\"-- --\",申込①!C24&\" \"&申込①!D24)","v":"-- --"},{"$f":"IF(申込①!C24=\"\",\"-- --\",申込①!C23&\" \"&申込①!D23)","v":"-- --"},{"$f":"申込①!$D$32","v":0},{"$f":"申込①!$H$32","v":0},{"$f":"申込①!$H$31","v":0},{"$f":"申込①!AK23","v":""},{"$f":"申込①!AL23","v":0},{"$f":"申込①!E23","v":0},null,{"$f":"申込①!I23","v":0},0,{"$f":"申込①!$D$32","v":0},{"$f":"申込①!$K$33","v":0}]
[null,null,{"$f":"申込①!A25","v":10},{"$f":"IF(申込①!C26=\"\",\"-- --\",申込①!C26&\" \"&申込①!D26)","v":"-- --"},{"$f":"IF(申込①!C26=\"\",\"-- --\",申込①!C25&\" \"&申込①!D25)","v":"-- --"},{"$f":"申込①!$D$32","v":0},{"$f":"申込①!$H$32","v":0},{"$f":"申込①!$H$31","v":0},{"$f":"申込①!AK25","v":""},{"$f":"申込①!AL25","v":0},{"$f":"申込①!E25","v":0},null,{"$f":"申込①!I25","v":0},0,{"$f":"申込①!$D$32","v":0},{"$f":"申込①!$K$33","v":0}]
[null,null,{"$f":"申込①!P7","v":11},{"$f":"IF(申込①!R8=\"\",\"-- --\",申込①!R8&\" \"&申込①!S8)","v":"-- --"},{"$f":"IF(申込①!R8=\"\",\"-- --\",申込①!R7&\" \"&申込①!S7)","v":"-- --"},{"$f":"申込①!$D$32","v":0},{"$f":"申込①!$H$32","v":0},{"$f":"申込①!$H$31","v":0},{"$f":"申込①!AK27","v":""},{"$f":"申込①!AL27","v":0},{"$f":"申込①!T7","v":0},null,{"$f":"申込①!X7","v":0},{"$f":"J12","v":0},{"$f":"申込①!$D$32","v":0},{"$f":"申込①!$K$33","v":0}]
[null,null,{"$f":"申込①!P9","v":12},{"$f":"IF(申込①!R10=\"\",\"-- --\",申込①!R10&\" \"&申込①!S10)","v":"-- --"},{"$f":"IF(申込①!R10=\"\",\"-- --\",申込①!R9&\" \"&申込①!S9)","v":"-- --"},{"$f":"申込①!$D$32","v":0},{"$f":"申込①!$H$32","v":0},{"$f":"申込①!$H$31","v":0},{"$f":"申込①!AK29","v":""},{"$f":"申込①!AL29","v":0},{"$f":"申込①!T9","v":0},null,{"$f":"申込①!X9","v":0},0,{"$f":"申込①!$D$32","v":0},{"$f":"申込①!$K$33","v":0}]
[null,null,{"$f":"申込①!P11","v":13},{"$f":"IF(申込①!R12=\"\",\"-- --\",申込①!R12&\" \"&申込①!S12)","v":"-- --"},{"$f":"IF(申込①!R12=\"\",\"-- --\",申込①!R11&\" \"&申込①!S11)","v":"-- --"},{"$f":"申込①!$D$32","v":0},{"$f":"申込①!$H$32","v":0},{"$f":"申込①!$H$31","v":0},{"$f":"申込①!AK32","v":""},{"$f":"申込①!AL32","v":0},{"$f":"申込①!T11","v":0},null,{"$f":"申込①!X11","v":0},0,{"$f":"申込①!$D$32","v":0},{"$f":"申込①!$K$33","v":0}]
[null,null,{"$f":"申込①!P13","v":14},{"$f":"IF(申込①!R14=\"\",\"-- --\",申込①!R14&\" \"&申込①!S14)","v":"-- --"},{"$f":"IF(申込①!R14=\"\",\"-- --\",申込①!R13&\" \"&申込①!S13)","v":"-- --"},{"$f":"申込①!$D$32","v":0},{"$f":"申込①!$H$32","v":0},{"$f":"申込①!$H$31","v":0},{"$f":"申込①!AK34","v":""},{"$f":"申込①!AL34","v":0},{"$f":"申込①!T13","v":0},null,{"$f":"申込①!X13","v":0},0,{"$f":"申込①!$D$32","v":0},{"$f":"申込①!$K$33","v":0}]
[null,null,{"$f":"申込①!P15","v":15},{"$f":"IF(申込①!R16=\"\",\"-- --\",申込①!R16&\" \"&申込①!S16)","v":"-- --"},{"$f":"IF(申込①!R16=\"\",\"-- --\",申込①!R15&\" \"&申込①!S15)","v":"-- --"},{"$f":"申込①!$D$32","v":0},{"$f":"申込①!$H$32","v":0},{"$f":"申込①!$H$31","v":0},{"$f":"申込①!AK36","v":""},{"$f":"申込①!AL36","v":0},{"$f":"申込①!T15","v":0},null,{"$f":"申込①!X15","v":0},0,{"$f":"申込①!$D$32","v":0},{"$f":"申込①!$K$33","v":0}]
[null,null,{"$f":"申込①!P17","v":16},{"$f":"IF(申込①!R18=\"\",\"-- --\",申込①!R18&\" \"&申込①!S18)","v":"-- --"},{"$f":"IF(申込①!R18=\"\",\"-- --\",申込①!R17&\" \"&申込①!S17)","v":"-- --"},{"$f":"申込①!$D$32","v":0},{"$f":"申込①!$H$32","v":0},{"$f":"申込①!$H$31","v":0},{"$f":"申込①!AK38","v":""},{"$f":"申込①!AL38","v":0},{"$f":"申込①!T17","v":0},null,{"$f":"申込①!X17","v":0},0,{"$f":"申込①!$D$32","v":0},{"$f":"申込①!$K$33","v":0}]
[null,null,{"$f":"申込①!P19","v":17},{"$f":"IF(申込①!R20=\"\",\"-- --\",申込①!R20&\" \"&申込①!S20)","v":"-- --"},{"$f":"IF(申込①!R20=\"\",\"-- --\",申込①!R19&\" \"&申込①!S19)","v":"-- --"},{"$f":"申込①!$D$32","v":0},{"$f":"申込①!$H$32","v":0},{"$f":"申込①!$H$31","v":0},{"$f":"申込①!AK40","v":""},{"$f":"申込①!AL40","v":0},{"$f":"申込①!T19","v":0},null,{"$f":"申込①!X19","v":0},0,{"$f":"申込①!$D$32","v":0},{"$f":"申込①!$K$33","v":0}]
[null,null,{"$f":"申込①!P21","v":18},{"$f":"IF(申込①!R22=\"\",\"-- --\",申込①!R22&\" \"&申込①!S22)","v":"-- --"},{"$f":"IF(申込①!R22=\"\",\"-- --\",申込①!R21&\" \"&申込①!S21)","v":"-- --"},{"$f":"申込①!$D$32","v":0},{"$f":"申込①!$H$32","v":0},{"$f":"申込①!$H$31","v":0},{"$f":"申込①!AK42","v":""},{"$f":"申込①!AL42","v":0},{"$f":"申込①!T21","v":0},null,{"$f":"申込①!X21","v":0},0,{"$f":"申込①!$D$32","v":0},{"$f":"申込①!$K$33","v":0}]
[null,null,{"$f":"申込①!P23","v":19},{"$f":"IF(申込①!R24=\"\",\"-- --\",申込①!R24&\" \"&申込①!S24)","v":"-- --"},{"$f":"IF(申込①!R24=\"\",\"-- --\",申込①!R23&\" \"&申込①!S23)","v":"-- --"},{"$f":"申込①!$D$32","v":0},{"$f":"申込①!$H$32","v":0},{"$f":"申込①!$H$31","v":0},{"$f":"申込①!AK44","v":""},{"$f":"申込①!AL44","v":0},{"$f":"申込①!T23","v":0},null,{"$f":"申込①!X23","v":0},0,{"$f":"申込①!$D$32","v":0},{"$f":"申込①!$K$33","v":0}]
[null,null,{"$f":"申込①!P25","v":20},{"$f":"IF(申込①!R26=\"\",\"-- --\",申込①!R26&\" \"&申込①!S26)","v":"-- --"},{"$f":"IF(申込①!R26=\"\",\"-- --\",申込①!R25&\" \"&申込①!S25)","v":"-- --"},{"$f":"申込①!$D$32","v":0},{"$f":"申込①!$H$32","v":0},{"$f":"申込①!$H$31","v":0},{"$f":"申込①!AK46","v":""},{"$f":"申込①!AL46","v":0},{"$f":"申込①!T25","v":0},null,{"$f":"申込①!X25","v":0},0,{"$f":"申込①!$D$32","v":0},{"$f":"申込①!$K$33","v":0}]
[null,null,{"$f":"申込②!A7","v":21},{"$f":"IF(申込②!C8=\"\",\"-- --\",申込②!C8&\" \"&申込②!D8)","v":"-- --"},{"$f":"IF(申込②!C8=\"\",\"-- --\",申込②!C7&\" \"&申込②!D7)","v":"-- --"},{"$f":"申込①!$D$32","v":0},{"$f":"申込①!$H$32","v":0},{"$f":"申込①!$H$31","v":0},{"$f":"申込②!AK7","v":""},{"$f":"申込②!AL7","v":0},{"$f":"申込②!E7","v":0},null,{"$f":"申込②!I7","v":0},{"$f":"J22","v":0},{"$f":"申込①!$D$32","v":0},{"$f":"申込①!$K$33","v":0}]
[null,null,{"$f":"申込②!A9","v":22},{"$f":"IF(申込②!C10=\"\",\"-- --\",申込②!C10&\" \"&申込②!D10)","v":"-- --"},{"$f":"IF(申込②!C10=\"\",\"-- --\",申込②!C9&\" \"&申込②!D9)","v":"-- --"},{"$f":"申込①!$D$32","v":0},{"$f":"申込①!$H$32","v":0},{"$f":"申込①!$H$31","v":0},{"$f":"申込②!AK9","v":""},{"$f":"申込②!AL9","v":0},{"$f":"申込②!E9","v":0},null,{"$f":"申込②!I9","v":0},{"$f":"J23","v":0},{"$f":"申込①!$D$32","v":0},{"$f":"申込①!$K$33","v":0}]
[null,null,{"$f":"申込②!A11","v":23},{"$f":"IF(申込②!C12=\"\",\"-- --\",申込②!C12&\" \"&申込②!D12)","v":"-- --"},{"$f":"IF(申込②!C12=\"\",\"-- --\",申込②!C11&\" \"&申込②!D11)","v":"-- --"},{"$f":"申込①!$D$32","v":0},{"$f":"申込①!$H$32","v":0},{"$f":"申込①!$H$31","v":0},{"$f":"申込②!AK11","v":""},{"$f":"申込②!AL11","v":0},{"$f":"申込②!E11","v":0},null,{"$f":"申込②!I11","v":0},0,{"$f":"申込①!$D$32","v":0},{"$f":"申込①!$K$33","v":0}]
[null,null,{"$f":"申込②!A13","v":24},{"$f":"IF(申込②!C14=\"\",\"-- --\",申込②!C14&\" \"&申込②!D14)","v":"-- --"},{"$f":"IF(申込②!C14=\"\",\"-- --\",申込②!C13&\" \"&申込②!D13)","v":"-- --"},{"$f":"申込①!$D$32","v":0},{"$f":"申込①!$H$32","v":0},{"$f":"申込①!$H$31","v":0},{"$f":"申込②!AK13","v":""},{"$f":"申込②!AL13","v":0},{"$f":"申込②!E13","v":0},null,{"$f":"申込②!I13","v":0},0,{"$f":"申込①!$D$32","v":0},{"$f":"申込①!$K$33","v":0}]
[null,null,{"$f":"申込②!A15","v":25},{"$f":"IF(申込②!C16=\"\",\"-- --\",申込②!C16&\" \"&申込②!D16)","v":"-- --"},{"$f":"IF(申込②!C16=\"\",\"-- --\",申込②!C15&\" \"&申込②!D15)","v":"-- --"},{"$f":"申込①!$D$32","v":0},{"$f":"申込①!$H$32","v":0},{"$f":"申込①!$H$31","v":0},{"$f":"申込②!AK15","v":""},{"$f":"申込②!AL15","v":0},{"$f":"申込②!E15","v":0},null,{"$f":"申込②!I15","v":0},0,{"$f":"申込①!$D$32","v":0},{"$f":"申込①!$K$33","v":0}]
[null,null,{"$f":"申込②!A17","v":26},{"$f":"IF(申込②!C18=\"\",\"-- --\",申込②!C18&\" \"&申込②!D18)","v":"-- --"},{"$f":"IF(申込②!C18=\"\",\"-- --\",申込②!C17&\" \"&申込②!D17)","v":"-- --"},{"$f":"申込①!$D$32","v":0},{"$f":"申込①!$H$32","v":0},{"$f":"申込①!$H$31","v":0},{"$f":"申込②!AK17","v":""},{"$f":"申込②!AL17","v":0},{"$f":"申込②!E17","v":0},null,{"$f":"申込②!I17","v":0},0,{"$f":"申込①!$D$32","v":0},{"$f":"申込①!$K$33","v":0}]
[null,null,{"$f":"申込②!A19","v":27},{"$f":"IF(申込②!C20=\"\",\"-- --\",申込②!C20&\" \"&申込②!D20)","v":"-- --"},{"$f":"IF(申込②!C20=\"\",\"-- --\",申込②!C19&\" \"&申込②!D19)","v":"-- --"},{"$f":"申込①!$D$32","v":0},{"$f":"申込①!$H$32","v":0},{"$f":"申込①!$H$31","v":0},{"$f":"申込②!AK19","v":""},{"$f":"申込②!AL19","v":0},{"$f":"申込②!E19","v":0},null,{"$f":"申込②!I19","v":0},0,{"$f":"申込①!$D$32","v":0},{"$f":"申込①!$K$33","v":0}]
[null,null,{"$f":"申込②!A21","v":28},{"$f":"IF(申込②!C22=\"\",\"-- --\",申込②!C22&\" \"&申込②!D22)","v":"-- --"},{"$f":"IF(申込②!C22=\"\",\"-- --\",申込②!C21&\" \"&申込②!D21)","v":"-- --"},{"$f":"申込①!$D$32","v":0},{"$f":"申込①!$H$32","v":0},{"$f":"申込①!$H$31","v":0},{"$f":"申込②!AK21","v":""},{"$f":"申込②!AL21","v":0},{"$f":"申込②!E21","v":0},null,{"$f":"申込②!I21","v":0},0,{"$f":"申込①!$D$32","v":0},{"$f":"申込①!$K$33","v":0}]
[null,null,{"$f":"申込②!A23","v":29},{"$f":"IF(申込②!C24=\"\",\"-- --\",申込②!C24&\" \"&申込②!D24)","v":"-- --"},{"$f":"IF(申込②!C24=\"\",\"-- --\",申込②!C23&\" \"&申込②!D23)","v":"-- --"},{"$f":"申込①!$D$32","v":0},{"$f":"申込①!$H$32","v":0},{"$f":"申込①!$H$31","v":0},{"$f":"申込②!AK23","v":""},{"$f":"申込②!AL23","v":0},{"$f":"申込②!E23","v":0},null,{"$f":"申込②!I23","v":0},0,{"$f":"申込①!$D$32","v":0},{"$f":"申込①!$K$33","v":0}]
[null,null,{"$f":"申込②!A25","v":30},{"$f":"IF(申込②!C26=\"\",\"-- --\",申込②!C26&\" \"&申込②!D26)","v":"-- --"},{"$f":"IF(申込②!C26=\"\",\"-- --\",申込②!C25&\" \"&申込②!D25)","v":"-- --"},{"$f":"申込①!$D$32","v":0},{"$f":"申込①!$H$32","v":0},{"$f":"申込①!$H$31","v":0},{"$f":"申込②!AK25","v":""},{"$f":"申込②!AL25","v":0},{"$f":"申込②!E25","v":0},null,{"$f":"申込②!I25","v":0},{"$f":"J31","v":0},{"$f":"申込①!$D$32","v":0},{"$f":"申込①!$K$33","v":0}]
[null,null,{"$f":"申込②!P7","v":31},{"$f":"IF(申込②!R8=\"\",\"-- --\",申込②!R8&\" \"&申込②!S8)","v":"-- --"},{"$f":"IF(申込②!R8=\"\",\"-- --\",申込②!R7&\" \"&申込②!S7)","v":"-- --"},{"$f":"申込①!$D$32","v":0},{"$f":"申込①!$H$32","v":0},{"$f":"申込①!$H$31","v":0},{"$f":"申込②!AK27","v":""},{"$f":"申込②!AL27","v":0},{"$f":"申込②!T7","v":0},null,{"$f":"申込②!X7","v":0},{"$f":"J32","v":0},{"$f":"申込①!$D$32","v":0},{"$f":"申込①!$K$33","v":0}]
[null,null,{"$f":"申込②!P9","v":32},{"$f":"IF(申込②!R10=\"\",\"-- --\",申込②!R10&\" \"&申込②!S10)","v":"-- --"},{"$f":"IF(申込②!R10=\"\",\"-- --\",申込②!R9&\" \"&申込②!S9)","v":"-- --"},{"$f":"申込①!$D$32","v":0},{"$f":"申込①!$H$32","v":0},{"$f":"申込①!$H$31","v":0},{"$f":"申込②!AK29","v":""},{"$f":"申込②!AL29","v":0},{"$f":"申込②!T9","v":0},null,{"$f":"申込②!X9","v":0},0,{"$f":"申込①!$D$32","v":0},{"$f":"申込①!$K$33","v":0}]
[null,null,{"$f":"申込②!P11","v":33},{"$f":"IF(申込②!R12=\"\",\"-- --\",申込②!R12&\" \"&申込②!S12)","v":"-- --"},{"$f":"IF(申込②!R12=\"\",\"-- --\",申込②!R11&\" \"&申込②!S11)","v":"-- --"},{"$f":"申込①!$D$32","v":0},{"$f":"申込①!$H$32","v":0},{"$f":"申込①!$H$31","v":0},{"$f":"申込②!AK31","v":""},{"$f":"申込②!AL31","v":0},{"$f":"申込②!T11","v":0},null,{"$f":"申込②!X11","v":0},0,{"$f":"申込①!$D$32","v":0},{"$f":"申込①!$K$33","v":0}]
[null,null,{"$f":"申込②!P13","v":34},{"$f":"IF(申込②!R14=\"\",\"-- --\",申込②!R14&\" \"&申込②!S14)","v":"-- --"},{"$f":"IF(申込②!R14=\"\",\"-- --\",申込②!R13&\" \"&申込②!S13)","v":"-- --"},{"$f":"申込①!$D$32","v":0},{"$f":"申込①!$H$32","v":0},{"$f":"申込①!$H$31","v":0},{"$f":"申込②!AK33","v":""},{"$f":"申込②!AL33","v":0},{"$f":"申込②!T13","v":0},null,{"$f":"申込②!X13","v":0},0,{"$f":"申込①!$D$32","v":0},{"$f":"申込①!$K$33","v":0}]
[null,null,{"$f":"申込②!P15","v":35},{"$f":"IF(申込②!R16=\"\",\"-- --\",申込②!R16&\" \"&申込②!S16)","v":"-- --"},{"$f":"IF(申込②!R16=\"\",\"-- --\",申込②!R15&\" \"&申込②!S15)","v":"-- --"},{"$f":"申込①!$D$32","v":0},{"$f":"申込①!$H$32","v":0},{"$f":"申込①!$H$31","v":0},{"$f":"申込②!AK35","v":""},{"$f":"申込②!AL35","v":0},{"$f":"申込②!T15","v":0},null,{"$f":"申込②!X15","v":0},0,{"$f":"申込①!$D$32","v":0},{"$f":"申込①!$K$33","v":0}]
[null,null,{"$f":"申込②!P17","v":36},{"$f":"IF(申込②!R18=\"\",\"-- --\",申込②!R18&\" \"&申込②!S18)","v":"-- --"},{"$f":"IF(申込②!R18=\"\",\"-- --\",申込②!R17&\" \"&申込②!S17)","v":"-- --"},{"$f":"申込①!$D$32","v":0},{"$f":"申込①!$H$32","v":0},{"$f":"申込①!$H$31","v":0},{"$f":"申込②!AK37","v":""},{"$f":"申込②!AL37","v":0},{"$f":"申込②!T17","v":0},null,{"$f":"申込②!X17","v":0},0,{"$f":"申込①!$D$32","v":0},{"$f":"申込①!$K$33","v":0}]
[null,null,{"$f":"申込②!P19","v":37},{"$f":"IF(申込②!R20=\"\",\"-- --\",申込②!R20&\" \"&申込②!S20)","v":"-- --"},{"$f":"IF(申込②!R20=\"\",\"-- --\",申込②!R19&\" \"&申込②!S19)","v":"-- --"},{"$f":"申込①!$D$32","v":0},{"$f":"申込①!$H$32","v":0},{"$f":"申込①!$H$31","v":0},{"$f":"申込②!AK39","v":""},{"$f":"申込②!AL39","v":0},{"$f":"申込②!T19","v":0},null,{"$f":"申込②!X19","v":0},0,{"$f":"申込①!$D$32","v":0},{"$f":"申込①!$K$33","v":0}]
[null,null,{"$f":"申込②!P21","v":38},{"$f":"IF(申込②!R22=\"\",\"-- --\",申込②!R22&\" \"&申込②!S22)","v":"-- --"},{"$f":"IF(申込②!R22=\"\",\"-- --\",申込②!R21&\" \"&申込②!S21)","v":"-- --"},{"$f":"申込①!$D$32","v":0},{"$f":"申込①!$H$32","v":0},{"$f":"申込①!$H$31","v":0},{"$f":"申込②!AK41","v":""},{"$f":"申込②!AL41","v":0},{"$f":"申込②!T21","v":0},null,{"$f":"申込②!X21","v":0},0,{"$f":"申込①!$D$32","v":0},{"$f":"申込①!$K$33","v":0}]
[null,null,{"$f":"申込②!P23","v":39},{"$f":"IF(申込②!R24=\"\",\"-- --\",申込②!R24&\" \"&申込②!S24)","v":"-- --"},{"$f":"IF(申込②!R24=\"\",\"-- --\",申込②!R23&\" \"&申込②!S23)","v":"-- --"},{"$f":"申込①!$D$32","v":0},{"$f":"申込①!$H$32","v":0},{"$f":"申込①!$H$31","v":0},{"$f":"申込②!AK43","v":""},{"$f":"申込②!AL43","v":0},{"$f":"申込②!T23","v":0},null,{"$f":"申込②!X23","v":0},0,{"$f":"申込①!$D$32","v":0},{"$f":"申込①!$K$33","v":0}]
[null,null,{"$f":"申込②!P25","v":40},{"$f":"IF(申込②!R26=\"\",\"-- --\",申込②!R26&\" \"&申込②!S26)","v":"-- --"},{"$f":"IF(申込②!R26=\"\",\"-- --\",申込②!R25&\" \"&申込②!S25)","v":"-- --"},{"$f":"申込①!$D$32","v":0},{"$f":"申込①!$H$32","v":0},{"$f":"申込①!$H$31","v":0},{"$f":"申込②!AK45","v":""},{"$f":"申込②!AL45","v":0},{"$f":"申込②!T25","v":0},null,{"$f":"申込②!X25","v":0},0,{"$f":"申込①!$D$32","v":0},{"$f":"申込①!$K$33","v":0}]
[]
[null,null,null,"名前","所属","都道府県"]
[null,"審判員",1,{"$f":"IF(申込①!E28=\"\",\"--  --\",申込①!E28)","v":"--  --"},{"$f":"申込①!$H$32","v":0},{"$f":"申込①!$D$32","v":0}]
[null,null,2,{"$f":"IF(申込①!J28=\"\",\"--  --\",申込①!J28)","v":"--  --"},{"$f":"申込①!$H$32","v":0},{"$f":"申込①!$D$32","v":0}]
[null,null,3,{"$f":"IF(申込①!E29=\"\",\"--  --\",申込①!E29)","v":"--  --"},{"$f":"申込①!$H$32","v":0},{"$f":"申込①!$D$32","v":0}]
[null,null,4,{"$f":"IF(申込①!J29=\"\",\"--  --\",申込①!J29)","v":"--  --"},{"$f":"申込①!$H$32","v":0},{"$f":"申込①!$D$32","v":0}]

{"sheet":"一覧","index":4,"n_rows":46,"n_cols":8,"rows_kept":46,"cut":false,"hidden":false,"merged":[[0,2,0,3],[5,6,5,7],[1,6,1,7]]}
[{"$f":"申込①!$D$32","v":0},null,{"$f":"申込①!$H$32","v":0}]
[null," 以下のように登録しましたので，お知らせします",null,null,null,null,{"$f":"NOW()","v":"2023-10-25T12:49:49.190"}]
[null,null,"合宿参加者全員の名前がありますか？"]
[null,null,"保険の申込書を兼ねているので，生徒や指導者全員の名前が必要です"]
[]
[null,"No","名前","なまえ","学年","試合","階級"]
[null,{"$f":"List!C2","v":1},{"$f":"List!D2","v":"-- --"},{"$f":"List!E2","v":"-- --"},{"$f":"List!K2","v":0},{"$f":"IF(G7=\"\",\"\",\"〇\")","v":""},{"$f":"List!I2","v":""},{"$f":"IF(List!J2=0,\"\",List!J2)","v":""}]
[null,{"$f":"List!C3","v":2},{"$f":"List!D3","v":"-- --"},{"$f":"List!E3","v":"-- --"},{"$f":"List!K3","v":0},{"$f":"IF(G8=\"\",\"\",\"〇\")","v":""},{"$f":"List!I3","v":""},{"$f":"IF(List!J3=0,\"\",List!J3)","v":""}]
[null,{"$f":"List!C4","v":3},{"$f":"List!D4","v":"-- --"},{"$f":"List!E4","v":"-- --"},{"$f":"List!K4","v":0},"",{"$f":"List!I4","v":""},{"$f":"IF(List!J4=0,\"\",List!J4)","v":""}]
[null,{"$f":"List!C5","v":4},{"$f":"List!D5","v":"-- --"},{"$f":"List!E5","v":"-- --"},{"$f":"List!K5","v":0},"",{"$f":"List!I5","v":""},{"$f":"IF(List!J5=0,\"\",List!J5)","v":""}]
[null,{"$f":"List!C6","v":5},{"$f":"List!D6","v":"-- --"},{"$f":"List!E6","v":"-- --"},{"$f":"List!K6","v":0},"",{"$f":"List!I6","v":""},{"$f":"IF(List!J6=0,\"\",List!J6)","v":""}]
[null,{"$f":"List!C7","v":6},{"$f":"List!D7","v":"-- --"},{"$f":"List!E7","v":"-- --"},{"$f":"List!K7","v":0},"",{"$f":"List!I7","v":""},{"$f":"IF(List!J7=0,\"\",List!J7)","v":""}]
[null,{"$f":"List!C8","v":7},{"$f":"List!D8","v":"-- --"},{"$f":"List!E8","v":"-- --"},{"$f":"List!K8","v":0},"",{"$f":"List!I8","v":""},{"$f":"IF(List!J8=0,\"\",List!J8)","v":""}]
[null,{"$f":"List!C9","v":8},{"$f":"List!D9","v":"-- --"},{"$f":"List!E9","v":"-- --"},{"$f":"List!K9","v":0},"",{"$f":"List!I9","v":""},{"$f":"IF(List!J9=0,\"\",List!J9)","v":""}]
[null,{"$f":"List!C10","v":9},{"$f":"List!D10","v":"-- --"},{"$f":"List!E10","v":"-- --"},{"$f":"List!K10","v":0},"",{"$f":"List!I10","v":""},{"$f":"IF(List!J10=0,\"\",List!J10)","v":""}]
[null,{"$f":"List!C11","v":10},{"$f":"List!D11","v":"-- --"},{"$f":"List!E11","v":"-- --"},{"$f":"List!K11","v":0},"",{"$f":"List!I11","v":""},{"$f":"IF(List!J11=0,\"\",List!J11)","v":""}]
[null,{"$f":"List!C12","v":11},{"$f":"List!D12","v":"-- --"},{"$f":"List!E12","v":"-- --"},{"$f":"List!K12","v":0},"",{"$f":"List!I12","v":""},{"$f":"IF(List!J12=0,\"\",List!J12)","v":""}]
[null,{"$f":"List!C13","v":12},{"$f":"List!D13","v":"-- --"},{"$f":"List!E13","v":"-- --"},{"$f":"List!K13","v":0},"",{"$f":"List!I13","v":""},{"$f":"IF(List!J13=0,\"\",List!J13)","v":""}]
[null,{"$f":"List!C14","v":13},{"$f":"List!D14","v":"-- --"},{"$f":"List!E14","v":"-- --"},{"$f":"List!K14","v":0},"",{"$f":"List!I14","v":""},{"$f":"IF(List!J14=0,\"\",List!J14)","v":""}]
[null,{"$f":"List!C15","v":14},{"$f":"List!D15","v":"-- --"},{"$f":"List!E15","v":"-- --"},{"$f":"List!K15","v":0},"",{"$f":"List!I15","v":""},{"$f":"IF(List!J15=0,\"\",List!J15)","v":""}]
[null,{"$f":"List!C16","v":15},{"$f":"List!D16","v":"-- --"},{"$f":"List!E16","v":"-- --"},{"$f":"List!K16","v":0},"",{"$f":"List!I16","v":""},{"$f":"IF(List!J16=0,\"\",List!J16)","v":""}]
[null,{"$f":"List!C17","v":16},{"$f":"List!D17","v":"-- --"},{"$f":"List!E17","v":"-- --"},{"$f":"List!K17","v":0},"",{"$f":"List!I17","v":""},{"$f":"IF(List!J17=0,\"\",List!J17)","v":""}]
[null,{"$f":"List!C18","v":17},{"$f":"List!D18","v":"-- --"},{"$f":"List!E18","v":"-- --"},{"$f":"List!K18","v":0},"",{"$f":"List!I18","v":""},{"$f":"IF(List!J18=0,\"\",List!J18)","v":""}]
[null,{"$f":"List!C19","v":18},{"$f":"List!D19","v":"-- --"},{"$f":"List!E19","v":"-- --"},{"$f":"List!K19","v":0},"",{"$f":"List!I19","v":""},{"$f":"IF(List!J19=0,\"\",List!J19)","v":""}]
[null,{"$f":"List!C20","v":19},{"$f":"List!D20","v":"-- --"},{"$f":"List!E20","v":"-- --"},{"$f":"List!K20","v":0},"",{"$f":"List!I20","v":""},{"$f":"IF(List!J20=0,\"\",List!J20)","v":""}]
[null,{"$f":"List!C21","v":20},{"$f":"List!D21","v":"-- --"},{"$f":"List!E21","v":"-- --"},{"$f":"List!K21","v":0},"",{"$f":"List!I21","v":""},{"$f":"IF(List!J21=0,\"\",List!J21)","v":""}]
[null,{"$f":"List!C22","v":21},{"$f":"List!D22","v":"-- --"},{"$f":"List!E22","v":"-- --"},{"$f":"List!K22","v":0},"",{"$f":"List!I22","v":""},{"$f":"IF(List!J22=0,\"\",List!J22)","v":""}]
[null,{"$f":"List!C23","v":22},{"$f":"List!D23","v":"-- --"},{"$f":"List!E23","v":"-- --"},{"$f":"List!K23","v":0},"",{"$f":"List!I23","v":""},{"$f":"IF(List!J23=0,\"\",List!J23)","v":""}]
[null,{"$f":"List!C24","v":23},{"$f":"List!D24","v":"-- --"},{"$f":"List!E24","v":"-- --"},{"$f":"List!K24","v":0},"",{"$f":"List!I24","v":""},{"$f":"IF(List!J24=0,\"\",List!J24)","v":""}]
[null,{"$f":"List!C25","v":24},{"$f":"List!D25","v":"-- --"},{"$f":"List!E25","v":"-- --"},{"$f":"List!K25","v":0},"",{"$f":"List!I25","v":""},{"$f":"IF(List!J25=0,\"\",List!J25)","v":""}]
[null,{"$f":"List!C26","v":25},{"$f":"List!D26","v":"-- --"},{"$f":"List!E26","v":"-- --"},{"$f":"List!K26","v":0},"",{"$f":"List!I26","v":""},{"$f":"IF(List!J26=0,\"\",List!J26)","v":""}]
[null,{"$f":"List!C27","v":26},{"$f":"List!D27","v":"-- --"},{"$f":"List!E27","v":"-- --"},{"$f":"List!K27","v":0},"",{"$f":"List!I27","v":""},{"$f":"IF(List!J27=0,\"\",List!J27)","v":""}]
[null,{"$f":"List!C28","v":27},{"$f":"List!D28","v":"-- --"},{"$f":"List!E28","v":"-- --"},{"$f":"List!K28","v":0},"",{"$f":"List!I28","v":""},{"$f":"IF(List!J28=0,\"\",List!J28)","v":""}]
[null,{"$f":"List!C29","v":28},{"$f":"List!D29","v":"-- --"},{"$f":"List!E29","v":"-- --"},{"$f":"List!K29","v":0},"",{"$f":"List!I29","v":""},{"$f":"IF(List!J29=0,\"\",List!J29)","v":""}]
[null,{"$f":"List!C30","v":29},{"$f":"List!D30","v":"-- --"},{"$f":"List!E30","v":"-- --"},{"$f":"List!K30","v":0},"",{"$f":"List!I30","v":""},{"$f":"IF(List!J30=0,\"\",List!J30)","v":""}]
[null,{"$f":"List!C31","v":30},{"$f":"List!D31","v":"-- --"},{"$f":"List!E31","v":"-- --"},{"$f":"List!K31","v":0},"",{"$f":"List!I31","v":""},{"$f":"IF(List!J31=0,\"\",List!J31)","v":""}]
[null,{"$f":"List!C32","v":31},{"$f":"List!D32","v":"-- --"},{"$f":"List!E32","v":"-- --"},{"$f":"List!K32","v":0},"",{"$f":"List!I32","v":""},{"$f":"IF(List!J32=0,\"\",List!J32)","v":""}]
[null,{"$f":"List!C33","v":32},{"$f":"List!D33","v":"-- --"},{"$f":"List!E33","v":"-- --"},{"$f":"List!K33","v":0},"",{"$f":"List!I33","v":""},{"$f":"IF(List!J33=0,\"\",List!J33)","v":""}]
[null,{"$f":"List!C34","v":33},{"$f":"List!D34","v":"-- --"},{"$f":"List!E34","v":"-- --"},{"$f":"List!K34","v":0},"",{"$f":"List!I34","v":""},{"$f":"IF(List!J34=0,\"\",List!J34)","v":""}]
[null,{"$f":"List!C35","v":34},{"$f":"List!D35","v":"-- --"},{"$f":"List!E35","v":"-- --"},{"$f":"List!K35","v":0},"",{"$f":"List!I35","v":""},{"$f":"IF(List!J35=0,\"\",List!J35)","v":""}]
[null,{"$f":"List!C36","v":35},{"$f":"List!D36","v":"-- --"},{"$f":"List!E36","v":"-- --"},{"$f":"List!K36","v":0},{"$f":"IF(G41=\"\",\"\",\"〇\")","v":""},{"$f":"List!I36","v":""},{"$f":"IF(List!J36=0,\"\",List!J36)","v":""}]
[null,{"$f":"List!C37","v":36},{"$f":"List!D37","v":"-- --"},{"$f":"List!E37","v":"-- --"},{"$f":"List!K37","v":0},"",{"$f":"List!I37","v":""},{"$f":"IF(List!J37=0,\"\",List!J37)","v":""}]
[null,{"$f":"List!C38","v":37},{"$f":"List!D38","v":"-- --"},{"$f":"List!E38","v":"-- --"},{"$f":"List!K38","v":0},"",{"$f":"List!I38","v":""},{"$f":"IF(List!J38=0,\"\",List!J38)","v":""}]
[null,{"$f":"List!C39","v":38},{"$f":"List!D39","v":"-- --"},{"$f":"List!E39","v":"-- --"},{"$f":"List!K39","v":0},"",{"$f":"List!I39","v":""},{"$f":"IF(List!J39=0,\"\",List!J39)","v":""}]
[null,{"$f":"List!C40","v":39},{"$f":"List!D40","v":"-- --"},{"$f":"List!E40","v":"-- --"},{"$f":"List!K40","v":0},"",{"$f":"List!I40","v":""},{"$f":"IF(List!J40=0,\"\",List!J40)","v":""}]
[null,{"$f":"List!C41","v":40},{"$f":"List!D41","v":"-- --"},{"$f":"List!E41","v":"-- --"},{"$f":"List!K41","v":0},"",{"$f":"List!I41","v":""},{"$f":"IF(List!J41=0,\"\",List!J41)","v":""}]