{"text_format":"1","workbook":"xlsx","n_sheets":5,"sheets":["入力上の注意","申込①","申込②","List","一覧"],"not_rendered":{"charts":0,"images":0,"macros":1,"external_links":0,"defined_names":2,"comments":0,"pivot_tables":0},"unopened":[],"bounds":{"document_bytes":16777216,"sheet_cells":100000,"rows_first":2000,"rows_last":500,"rows_between":2000,"halvings":0,"cell_chars":16384,"cell_head_chars":4096},"cells_cut":0,"cells_raw":0,"read":"whole","date_system":"1900"}

{"sheet":"入力上の注意","index":0,"n_rows":48,"n_cols":16,"rows_kept":48,"cut":false,"hidden":false,"merged":[[31,10,31,11],[31,13,31,15],[24,2,24,4],[24,5,24,9],[24,10,24,15],[25,8,25,13],[26,8,26,13],[28,5,28,7],[29,10,29,11],[27,11,27,13],[17,12,18,12],[17,13,18,13],[17,14,18,14],[17,15,18,15],[23,2,23,4],[23,5,23,9],[23,10,23,15],[17,9,18,9],[17,10,18,10],[17,11,18,11],[17,1,18,1],[17,5,18,5],[17,6,18,6],[17,7,18,7],[17,8,18,8],[13,15,14,15],[15,1,16,1],[15,5,16,5],[15,6,16,6],[15,7,16,7],[15,8,16,8],[15,15,16,15],[15,12,16,12],[15,13,16,13],[15,14,16,14],[13,9,14,9],[13,10,14,10],[13,11,14,11],[15,9,16,9],[15,10,16,10],[15,11,16,11],[11,12,12,12],[11,13,12,13],[11,14,12,14],[13,12,14,12],[13,13,14,13],[13,14,14,14],[11,9,12,9],[11,10,12,10],[11,11,12,11],[13,1,14,1],[13,5,14,5],[13,6,14,6],[13,7,14,7],[13,8,14,8],[9,12,9,13],[9,14,9,15],[10,3,10,4],[10,7,10,8],[11,1,12,1],[11,5,12,5],[11,6,12,6],[11,7,12,7],[11,8,12,8],[9,1,10,1],[9,3,9,4],[9,5,10,5],[9,6,10,6],[9,7,9,8],[9,9,10,9],[11,15,12,15],[35,4,38,10],[47,3,47,16],[19,1,20,1],[19,5,20,5],[19,6,20,6],[19,7,20,7],[19,8,20,8],[19,9,20,9],[19,10,20,10],[19,11,20,11],[19,12,20,12],[19,13,20,13],[19,14,20,14],[19,15,20,15],[30,3,30,4],[31,3,31,4]]}
[]
[null,"この申込書は，保険の申込一覧を兼ねていますので合宿に参加する試合に出る生徒，合宿だけ参加する生徒，監督，コーチ，指導者"]
[null,"の名前，生年月日などをすべて一覧に入力してください"]
[null,"（注意）"]
[null,"・例えば，青木 豊が新宮レスリング俱楽部と新宮高校に所属し合宿参加する場合は，下記のように備考に入力してください（2023年～変更）"]
[null,"　 代表者が，合宿に来れない場合は一覧表には入力しませんが　下の代表者名には入力・押印が必要"]
[null,"　 合宿に参加する監督・コーチなどが，新宮レスリング倶楽部と新宮高校の両方で指導する場合は両方に入力してください　備考も入力を"]
[]
[null,"（公財）日本レスリング協会　会長　富山 英明　様"]
[null,"No","協会","なまえ（ひらがな）",null,"学年","性別","生年月日",null,"所属","試合","U15","U17",null,"U20"]
[null,null,"番号","名前",null,null,null,"注) 2006/10/10の形で入力",null,null,"参加","フリー","フリー","グレコ","フリー","グレコ"]
[null,"例","JWF22ー","しんぐう","たろう",2,"男","2006-10-10","生","高","○",null,48]
[null,null,123,"新宮","太朗"]
[null,1,"JWF22-","たなか","じろう","中3","男","2003-03-04","生","中","○",75]
[null,null,331,"田中","治郎"]
[null,2,"JWF22-","すずき","いちろう","中2","男","2002-05-25","生","中"]
[null,null,350,"鈴木","一朗"]
[null,3,"JWF22-","みなと","あんとにおかい","中1","男","2001-06-24","生","中"]
[null,null,401,"湊","アントニオ海"]
[null,4,"JWF22-","あおき","ゆたか",null,"男","1980-06-24","生","指"]
[null,null,101,"青木","豊"]
[]
[]
[null,null,"審判氏名",null,null,"青木　豊",null,null,null,null,"西田　一朗"]
[null,null,"必ず1名はお願いします"]
[null,null,null,null,null,null,null,null,"しんぐうれすりんぐくらぶ"]
[null,null,null,"所属都道府県","和歌山県",null,null,"学校名","新宮レスリング倶楽部"]
[null,null,null,null,null,null,null,null,null,null,"略称","新宮"]
[null,null,null,null,"代表者名","伊藤　博文",null,null,"印",null,null,"☝","表示に使う可能性あり"]
[]
[null,null,null,"令和５年　　月　　日"]
[]
[]
[]
[null,null,null,null,"備考"]
[null,null,null,null,"例）　青木 豊は，新宮レスリング倶楽部と\n新宮高校に入力"]
[]
[]
[]
[]
[]
[null,null,null,"【注意】"]
[null,null,null,"入力が終わったら"]
[null,null,null,"　ファイルは，指定されたアドレスまで送信してください（数日で，届いたとの返信が来ます　来なければ問い合わせてください）"]
[null,null,null,"　原本は，印刷して押印をして合宿大会で提出してください"]
[]
[null,null,null,"送信宛先は，"]
[null,null,null,"kinki.jr.wrestling@gmail.com"]

{"sheet":"申込①","index":1,"n_rows":53,"n_cols":60,"rows_kept":53,"cut":false,"hidden":false,"merged":[[16,11,17,11],[18,11,19,11],[20,11,21,11],[22,11,23,11],[10,18,10,19],[10,22,10,23],[10,26,10,27],[11,18,11,19],[11,22,11,23],[14,12,15,12],[14,14,15,14],[12,16,13,16],[12,20,13,20],[2,12,2,13],[4,13,5,13],[2,14,2,15],[6,11,7,11],[8,11,9,11],[10,11,11,11],[12,11,13,11],[14,11,15,11],[6,19,7,21],[8,19,9,21],[2,17,2,18],[4,19,5,21],[3,19,3,21],[16,16,17,16],[16,20,17,20],[16,21,17,21],[16,22,17,22],[16,23,17,23],[16,24,17,24],[8,22,9,22],[4,24,8,27],[16,30,17,30],[20,27,21,27],[16,31,17,31],[35,2,35,3],[4,28,5,28],[4,29,5,29],[22,23,23,23],[22,24,23,24],[22,25,23,25],[22,26,23,26],[22,28,23,28],[22,29,23,29],[18,20,19,20],[18,21,19,21],[18,22,19,22],[12,14,13,14],[12,15,13,15],[10,14,11,14],[10,15,11,15],[12,29,13,29],[4,22,5,22],[14,16,15,16],[14,20,15,20],[14,21,15,21],[22,30,23,30],[22,31,23,31],[18,30,19,30],[18,31,19,31],[20,16,21,16],[20,20,21,20],[20,21,21,21],[20,22,21,22],[20,26,21,26],[20,28,21,28],[20,29,21,29],[18,23,19,23],[18,16,19,16],[20,30,21,30],[20,31,21,31],[18,27,19,27],[36,2,36,3],[36,9,36,10],[24,31,25,31],[24,23,25,23],[24,24,25,24],[24,25,25,25],[24,26,25,26],[34,13,34,15],[36,13,36,15],[34,9,34,10],[24,16,25,16],[24,20,25,20],[24,21,25,21],[24,22,25,22],[33,4,33,6],[24,28,25,28],[24,29,25,29],[24,30,25,30],[27,1,27,3],[28,1,28,3],[27,4,27,8],[28,4,28,8],[32,10,32,17],[31,19,34,25],[12,23,13,23],[12,24,13,24],[12,25,13,25],[10,29,11,29],[10,21,11,21],[18,24,19,24],[18,25,19,25],[18,26,19,26],[16,29,17,29],[14,25,15,25],[14,26,15,26],[14,28,15,28],[14,29,15,29],[10,24,11,24],[14,22,15,22],[14,23,15,23],[14,24,15,24],[18,28,19,28],[18,29,19,29],[12,27,13,27],[14,27,15,27],[16,27,17,27],[16,25,17,25],[16,26,17,26],[22,27,23,27],[24,27,25,27],[24,11,25,11],[22,12,23,12],[22,13,23,13],[20,7,21,7],[20,8,21,8],[24,10,25,10],[20,10,21,10],[22,14,23,14],[22,15,23,15],[20,12,21,12],[20,13,21,13],[24,12,25,12],[24,13,25,13],[24,14,25,14],[24,15,25,15],[22,16,23,16],[22,20,23,20],[22,21,23,21],[22,22,23,22],[20,23,21,23],[20,24,21,24],[20,25,21,25],[14,13,15,13],[24,6,25,6],[24,7,25,7],[24,8,25,8],[24,9,25,9],[8,30,9,30],[14,15,15,15],[16,12,17,12],[16,13,17,13],[16,14,17,14],[16,15,17,15],[12,30,13,30],[10,28,11,28],[10,30,11,30],[10,16,11,16],[10,20,11,20],[16,9,17,9],[16,10,17,10],[10,13,11,13],[10,7,11,7],[16,28,17,28],[12,21,13,21],[12,22,13,22],[20,9,21,9],[10,31,11,31],[12,26,13,26],[12,28,13,28],[8,29,9,29],[12,31,13,31],[14,30,15,30],[14,31,15,31],[24,0,25,0],[24,4,25,4],[24,5,25,5],[18,12,19,12],[18,13,19,13],[18,14,19,14],[18,15,19,15],[20,14,21,14],[20,15,21,15],[22,0,23,0],[22,4,23,4],[22,5,23,5],[22,6,23,6],[22,7,23,7],[22,8,23,8],[22,9,23,9],[22,10,23,10],[20,0,21,0],[18,0,19,0],[18,4,19,4],[18,5,19,5],[18,6,19,6],[18,7,19,7],[18,8,19,8],[18,9,19,9],[18,10,19,10],[20,4,21,4],[20,5,21,5],[20,6,21,6],[10,0,11,0],[10,4,11,4],[10,5,11,5],[10,6,11,6],[4,10,5,10],[4,12,5,12],[6,6,7,6],[6,0,7,0],[6,8,7,8],[6,4,7,4],[6,5,7,5],[8,9,9,9],[8,10,9,10],[8,0,9,0],[8,8,9,8],[8,4,9,4],[8,5,9,5],[8,6,9,6],[8,7,9,7],[6,7,7,7],[6,9,7,9],[6,10,7,10],[4,0,5,0],[4,8,5,8],[6,28,7,28],[6,29,7,29],[6,30,7,30],[0,0,0,31],[2,28,2,29],[2,30,2,31],[4,30,5,30],[4,31,5,31],[2,10,2,11],[4,9,5,9],[2,0,3,0],[2,2,2,3],[3,2,3,3],[2,8,3,8],[2,4,3,4],[2,5,3,5],[4,4,5,4],[4,5,5,5],[4,6,5,6],[2,6,2,7],[3,6,3,7],[4,7,5,7],[4,11,5,11],[3,17,3,18],[12,9,13,9],[12,10,13,10],[12,12,13,12],[12,7,13,7],[10,9,11,9],[10,10,11,10],[10,12,11,12],[10,8,11,8],[0,46,0,47],[1,46,1,47],[8,12,9,12],[8,13,9,13],[8,15,9,15],[6,14,7,14],[6,15,7,15],[6,12,7,12],[6,13,7,13],[8,14,9,14],[4,14,5,14],[4,15,5,15],[6,22,7,22],[6,31,7,31],[8,31,9,31],[8,28,9,28],[27,9,27,18],[28,9,28,18],[30,7,30,17],[31,7,31,17],[12,0,13,0],[12,4,13,4],[12,5,13,5],[12,13,13,13],[14,7,15,7],[14,8,15,8],[14,9,15,9],[14,10,15,10],[14,0,15,0],[14,4,15,4],[14,5,15,5],[14,6,15,6],[16,0,17,0],[16,4,17,4],[16,5,17,5],[16,6,17,6],[16,7,17,7],[16,8,17,8],[12,6,13,6],[12,8,13,8]]}
["令和6年度NTS近畿ブロック研修会参加申込書（保険申込含む）兼　U15レスリングアジア選手権大会日本代表選考会ﾌﾞﾛｯｸ予選会参加申込書",null,null,null,null,null,null,null,null,null,null,null,null,null,null,null,null,null,null,null,null,null,null,null,null,null,null,null,null,null,null,null,null,0,null,null,null,null,null,null,null,null,null,null,null,null,"なまえ",null,"指"]
["（公財）日本レスリング協会　会長　富山 英明　様",null,null,null,null,null,null,null,null,null,null,null,null,null,null,null,null,null,null,null,null,null,null,null,null,"No",1,null,null,"No",1,null,null,1,"U15 グレコ選手出場可能",null,null,null,null,null,null,null,null,null,null,null,"名前",null,"監督"]
["No","協会","なまえ（ひらがな）",null,"学年\nなど","性別","生年月日",null,"所属","試合","U15",null,"U17",null,"U20",null,null,null,null,null,null,null,null,null,null,null,null,null,"U17",null,"U20",null,null,2,null,null,null,null,null,null,null,null,null,null,null,null,5,6,"コーチ",null,null,null,null,"U-15・F","U-15・G","U-17・F","U-17・G","U-20・F","U-20・G"]
[null,"番号","名前",null,null,null,"注) 2006/10/10の形で入力",null,null,"参加","フリー","グレコ","フリー","グレコ","フリー","グレコ",null,"スポーツ保険加入",null,"グレコローマン 指導者認定番号",null,null,null,null,null,null,null,null,"フリー","グレコ","フリー","グレコ",null,"U15F","U15G","U17F","U17G","U20F","U20G",null,null,null,"U15","U17","U20",null,3,4,"高",null,"高３","男","○",38,38,45,45,57,55,"滋賀県"]
[1,{"$f":"B11","v":"JWF24ー"},null,null,null,null,null,"生",null,null,null,null,null,null,null,null,null,null,false,null,null,null,{"$f":"VLOOKUP(S6,$AH$2:$AJ$4,2,FALSE)","v":{"$error":"#N/A"}},null,"U15のグレコローマンレスリングに選手を出場させる場合は，１～３にスポーツ保険に加入し認定番号のある人を入力してください",null,null,null,null,null,null,null,1,{"$f":"IF(K5=\"\",\"\",$AH$4)","v":""},{"$f":"IF(L5=\"\",\"\",$AI$4)","v":""},{"$f":"IF(M5=\"\",\"\",$AJ$4)","v":""},{"$f":"IF(N5=\"\",\"\",$AK$4)","v":""},{"$f":"IF(O5=\"\",\"\",$AL$4)","v":""},{"$f":"IF(P5=\"\",\"\",$AM$4)","v":""},{"$f":"AH5&AI5&AJ5&AK5&AL5&AM5","v":""},{"$f":"SUM(K5:P6)","v":0},null,null,null,null,null,"学年",13,"中",null,"高２","女",null,41,41,48,48,61,60,"京都府"]
[null,null,null,null,null,null,null,null,null,null,null,null,null,null,null,null,null,null,{"$f":"IF(OR(S5=FALSE,T5=\"\"),\"\",1)","v":""},null,null,null,null,null,null,null,null,null,null,null,null,null,null,null,null,null,null,null,null,null,null,null,{"$f":"IF(AND(G5>=$AU$8,G5<=$AV$8),$AQ$4,\"\")","v":""},{"$f":"IF(AND(G5>=$AU$9,G5<=$AV$9),$AR$4,\"\")","v":""},{"$f":"IF(AND(G5>=$AU$10,G5<=$AV$10),$AS$4,\"\")","v":""},null,"性別",7,"小",null,"高１",null,null,44,44,51,51,65,63,"大阪府"]
[2,{"$f":"B11","v":"JWF24ー"},null,null,null,null,null,"生",null,null,null,null,null,null,null,null,null,null,false,null,null,null,{"$f":"VLOOKUP(S8,$AH$2:$AJ$4,2,FALSE)","v":{"$error":"#N/A"}},null,null,null,null,null,null,null,null,null,2,{"$f":"IF(K7=\"\",\"\",$AH$4)","v":""},{"$f":"IF(L7=\"\",\"\",$AI$4)","v":""},{"$f":"IF(M7=\"\",\"\",$AJ$4)","v":""},{"$f":"IF(N7=\"\",\"\",$AK$4)","v":""},{"$f":"IF(O7=\"\",\"\",$AL$4)","v":""},{"$f":"IF(P7=\"\",\"\",$AM$4)","v":""},{"$f":"AH7&AI7&AJ7&AK7&AL7&AM7","v":""},{"$f":"SUM(K7:P8)","v":0},null,null,null,null,null,"生年月日",8,null,null,"中３",null,null,48,48,55,55,70,67,"兵庫県"]
[null,null,null,null,null,null,null,null,null,null,null,null,null,null,null,null,null,null,{"$f":"IF(OR(S7=FALSE,T7=\"\"),\"\",1)","v":""},null,null,null,null,null,null,null,null,null,null,null,null,null,null,null,null,null,null,null,null,null,null,null,{"$f":"IF(AND(G7>=$AU$8,G7<=$AV$8),$AQ$4,\"\")","v":""},{"$f":"IF(AND(G7>=$AU$9,G7<=$AV$9),$AR$4,\"\")","v":""},{"$f":"IF(AND(G7>=$AU$10,G7<=$AV$10),$AS$4,\"\")","v":""},"U15","2010-01-01","2012-12-31","H22",null,"中２",null,null,52,52,60,60,74,72,"奈良県"]
[3,{"$f":"B11","v":"JWF24ー"},null,null,null,null,null,"生",null,null,null,null,null,null,null,null,null,null,false,null,null,null,{"$f":"VLOOKUP(S10,$AH$2:$AJ$4,2,FALSE)","v":{"$error":"#N/A"}},null,null,null,null,null,null,null,null,null,3,{"$f":"IF(K9=\"\",\"\",$AH$4)","v":""},{"$f":"IF(L9=\"\",\"\",$AI$4)","v":""},{"$f":"IF(M9=\"\",\"\",$AJ$4)","v":""},{"$f":"IF(N9=\"\",\"\",$AK$4)","v":""},{"$f":"IF(O9=\"\",\"\",$AL$4)","v":""},{"$f":"IF(P9=\"\",\"\",$AM$4)","v":""},{"$f":"AH9&AI9&AJ9&AK9&AL9&AM9","v":""},{"$f":"SUM(K9:P10)","v":0},null,null,null,null,"U17","2008-01-01","2010-12-31","H20",null,"中１",null,null,57,57,65,65,79,77,"和歌山県"]
[null,null,null,null,null,null,null,null,null,null,null,null,null,null,null,null,null,null,{"$f":"IF(OR(S9=FALSE,T9=\"\"),\"\",1)","v":""},null,null,null,null,null,null,null,null,null,null,null,null,null,null,null,null,null,null,null,null,null,null,null,{"$f":"IF(AND(G9>=$AU$8,G9<=$AV$8),$AQ$4,\"\")","v":""},{"$f":"IF(AND(G9>=$AU$9,G9<=$AV$9),$AR$4,\"\")","v":""},{"$f":"IF(AND(G9>=$AU$10,G9<=$AV$10),$AS$4,\"\")","v":""},"U20","2005-01-01","2008-12-31","H17",null,"小６",null,null,62,62,71,71,86,82]
["例","JWF24ー","しんぐう","たろう","高２","男","2010-10-10","生",null,"○",52,null,null,null,null,null,"No","協会","なまえ（ひらがな）",null,"学年","性別","生年月日",null,"所属","試合","U15",null,null,null,null,null,null,null,null,null,null,null,null,null,null,null,null,null,null,null,null,null,null,null,null,null,null,68,68,80,80,92,87]
[null,123,"新宮","太朗",null,null,null,null,null,null,null,null,null,null,null,null,null,"番号","名前",null,null,null,"注) 2006/10/10の形で入力",null,null,"参加","フリー","グレコ",null,null,null,null,null,null,null,null,null,null,null,null,null,null,{"$f":"IF(AND(G11>=$AU$8,G11<=$AV$8),$AQ$4,\"\")","v":"U15"},{"$f":"IF(AND(G11>=$AU$9,G11<=$AV$9),$AR$4,\"\")","v":"U17"},{"$f":"IF(AND(G11>=$AU$10,G11<=$AV$10),$AS$4,\"\")","v":""},null,null,null,null,null,null,null,null,75,75,92,92,97,97]
[4,{"$f":"B11","v":"JWF24ー"},null,null,null,null,null,"生",null,null,null,null,null,null,null,null,11,{"$f":"B11","v":"JWF24ー"},null,null,null,null,null,"生",null,null,null,null,null,null,null,null,4,{"$f":"IF(K13=\"\",\"\",$AH$4)","v":""},{"$f":"IF(L13=\"\",\"\",$AI$4)","v":""},{"$f":"IF(M13=\"\",\"\",$AJ$4)","v":""},{"$f":"IF(N13=\"\",\"\",$AK$4)","v":""},{"$f":"IF(O13=\"\",\"\",$AL$4)","v":""},{"$f":"IF(P13=\"\",\"\",$AM$4)","v":""},{"$f":"AH13&AI13&AJ13&AK13&AL13&AM13","v":""},{"$f":"SUM(K13:P14)","v":0},null,null,null,null,null,null,null,null,null,null,null,null,85,85,110,110,125,130]
[null,null,null,null,null,null,null,null,null,null,null,null,null,null,null,null,null,null,null,null,null,null,null,null,null,null,null,null,null,null,null,null,null,null,null,null,null,null,null,null,null,null,{"$f":"IF(AND(G13>=$AU$8,G13<=$AV$8),$AQ$4,\"\")","v":""},{"$f":"IF(AND(G13>=$AU$9,G13<=$AV$9),$AR$4,\"\")","v":""},{"$f":"IF(AND(G13>=$AU$10,G13<=$AV$10),$AS$4,\"\")","v":""}]
[5,{"$f":"B11","v":"JWF24ー"},null,null,null,null,null,"生",null,null,null,null,null,null,null,null,12,{"$f":"B11","v":"JWF24ー"},null,null,null,null,null,"生",null,null,null,null,null,null,null,null,5,{"$f":"IF(K15=\"\",\"\",$AH$4)","v":""},{"$f":"IF(L15=\"\",\"\",$AI$4)","v":""},{"$f":"IF(M15=\"\",\"\",$AJ$4)","v":""},{"$f":"IF(N15=\"\",\"\",$AK$4)","v":""},{"$f":"IF(O15=\"\",\"\",$AL$4)","v":""},{"$f":"IF(P15=\"\",\"\",$AM$4)","v":""},{"$f":"AH15&AI15&AJ15&AK15&AL15&AM15","v":""},{"$f":"SUM(K15:P16)","v":0}]
[null,null,null,null,null,null,null,null,null,null,null,null,null,null,null,null,null,null,null,null,null,null,null,null,null,null,null,null,null,null,null,null,null,null,null,null,null,null,null,null,null,null,{"$f":"IF(AND(G15>=$AU$8,G15<=$AV$8),$AQ$4,\"\")","v":""},{"$f":"IF(AND(G15>=$AU$9,G15<=$AV$9),$AR$4,\"\")","v":""},{"$f":"IF(AND(G15>=$AU$10,G15<=$AV$10),$AS$4,\"\")","v":""}]
[6,{"$f":"B11","v":"JWF24ー"},null,null,null,null,null,"生",null,null,null,null,null,null,null,null,13,{"$f":"B11","v":"JWF24ー"},null,null,null,null,null,"生",null,null,null,null,null,null,null,null,6,{"$f":"IF(K17=\"\",\"\",$AH$4)","v":""},{"$f":"IF(L17=\"\",\"\",$AI$4)","v":""},{"$f":"IF(M17=\"\",\"\",$AJ$4)","v":""},{"$f":"IF(N17=\"\",\"\",$AK$4)","v":""},{"$f":"IF(O17=\"\",\"\",$AL$4)","v":""},{"$f":"IF(P17=\"\",\"\",$AM$4)","v":""},{"$f":"AH17&AI17&AJ17&AK17&AL17&AM17","v":""},{"$f":"SUM(K17:P18)","v":0}]
[null,null,null,null,null,null,null,null,null,null,null,null,null,null,null,null,null,null,null,null,null,null,null,null,null,null,null,null,null,null,null,null,null,null,null,null,null,null,null,null,null,null,{"$f":"IF(AND(G17>=$AU$8,G17<=$AV$8),$AQ$4,\"\")","v":""},{"$f":"IF(AND(G17>=$AU$9,G17<=$AV$9),$AR$4,\"\")","v":""},{"$f":"IF(AND(G17>=$AU$10,G17<=$AV$10),$AS$4,\"\")","v":""}]
[7,{"$f":"B11","v":"JWF24ー"},null,null,null,null,null,"生",null,null,null,null,null,null,null,null,14,{"$f":"B11","v":"JWF24ー"},null,null,null,null,null,"生",null,null,null,null,null,null,null,null,7,{"$f":"IF(K19=\"\",\"\",$AH$4)","v":""},{"$f":"IF(L19=\"\",\"\",$AI$4)","v":""},{"$f":"IF(M19=\"\",\"\",$AJ$4)","v":""},{"$f":"IF(N19=\"\",\"\",$AK$4)","v":""},{"$f":"IF(O19=\"\",\"\",$AL$4)","v":""},{"$f":"IF(P19=\"\",\"\",$AM$4)","v":""},{"$f":"AH19&AI19&AJ19&AK19&AL19&AM19","v":""},{"$f":"SUM(K19:P20)","v":0}]
[null,null,null,null,null,null,null,null,null,null,null,null,null,null,null,null,null,null,null,null,null,null,null,null,null,null,null,null,null,null,null,null,null,null,null,null,null,null,null,null,null,null,{"$f":"IF(AND(G19>=$AU$8,G19<=$AV$8),$AQ$4,\"\")","v":""},{"$f":"IF(AND(G19>=$AU$9,G19<=$AV$9),$AR$4,\"\")","v":""},{"$f":"IF(AND(G19>=$AU$10,G19<=$AV$10),$AS$4,\"\")","v":""}]
[8,{"$f":"B11","v":"JWF24ー"},null,null,null,null,null,"生",null,null,null,null,null,null,null,null,15,{"$f":"B11","v":"JWF24ー"},null,null,null,null,null,"生",null,null,null,null,null,null,null,null,8,{"$f":"IF(K21=\"\",\"\",$AH$4)","v":""},{"$f":"IF(L21=\"\",\"\",$AI$4)","v":""},{"$f":"IF(M21=\"\",\"\",$AJ$4)","v":""},{"$f":"IF(N21=\"\",\"\",$AK$4)","v":""},{"$f":"IF(O21=\"\",\"\",$AL$4)","v":""},{"$f":"IF(P21=\"\",\"\",$AM$4)","v":""},{"$f":"AH21&AI21&AJ21&AK21&AL21&AM21","v":""},{"$f":"SUM(K21:P22)","v":0}]
[null,null,null,null,null,null,null,null,null,null,null,null,null,null,null,null,null,null,null,null,null,null,null,null,null,null,null,null,null,null,null,null,null,null,null,null,null,null,null,null,null,null,{"$f":"IF(AND(G21>=$AU$8,G21<=$AV$8),$AQ$4,\"\")","v":""},{"$f":"IF(AND(G21>=$AU$9,G21<=$AV$9),$AR$4,\"\")","v":""},{"$f":"IF(AND(G21>=$AU$10,G21<=$AV$10),$AS$4,\"\")","v":""}]
[9,{"$f":"B11","v":"JWF24ー"},null,null,null,null,null,"生",null,null,null,null,null,null,null,null,16,{"$f":"B11","v":"JWF24ー"},null,null,null,null,null,"生",null,null,null,null,null,null,null,null,9,{"$f":"IF(K23=\"\",\"\",$AH$4)","v":""},{"$f":"IF(L23=\"\",\"\",$AI$4)","v":""},{"$f":"IF(M23=\"\",\"\",$AJ$4)","v":""},{"$f":"IF(N23=\"\",\"\",$AK$4)","v":""},{"$f":"IF(O23=\"\",\"\",$AL$4)","v":""},{"$f":"IF(P23=\"\",\"\",$AM$4)","v":""},{"$f":"AH23&AI23&AJ23&AK23&AL23&AM23","v":""},{"$f":"SUM(K23:P24)","v":0}]
[null,null,null,null,null,null,null,null,null,null,null,null,null,null,null,null,null,null,null,null,null,null,null,null,null,null,null,null,null,null,null,null,null,null,null,null,null,null,null,null,null,null,{"$f":"IF(AND(G23>=$AU$8,G23<=$AV$8),$AQ$4,\"\")","v":""},{"$f":"IF(AND(G23>=$AU$9,G23<=$AV$9),$AR$4,\"\")","v":""},{"$f":"IF(AND(G23>=$AU$10,G23<=$AV$10),$AS$4,\"\")","v":""}]
[10,{"$f":"B11","v":"JWF24ー"},null,null,null,null,null,"生",null,null,null,null,null,null,null,null,17,{"$f":"B11","v":"JWF24ー"},null,null,null,null,null,"生",null,null,null,null,null,null,null,null,10,{"$f":"IF(K25=\"\",\"\",$AH$4)","v":""},{"$f":"IF(L25=\"\",\"\",$AI$4)","v":""},{"$f":"IF(M25=\"\",\"\",$AJ$4)","v":""},{"$f":"IF(N25=\"\",\"\",$AK$4)","v":""},{"$f":"IF(O25=\"\",\"\",$AL$4)","v":""},{"$f":"IF(P25=\"\",\"\",$AM$4)","v":""},{"$f":"AH25&AI25&AJ25&AK25&AL25&AM25","v":""},{"$f":"SUM(K25:P26)","v":0}]
[null,null,null,null,null,null,null,null,null,null,null,null,null,null,null,null,null,null,null,null,null,null,null,null,null,null,null,null,null,null,null,null,null,null,null,null,null,null,null,null,null,null,{"$f":"IF(AND(G25>=$AU$8,G25<=$AV$8),$AQ$4,\"\")","v":""},{"$f":"IF(AND(G25>=$AU$9,G25<=$AV$9),$AR$4,\"\")","v":""},{"$f":"IF(AND(G25>=$AU$10,G25<=$AV$10),$AS$4,\"\")","v":""}]
[]
[null,"審判員",null,null,null,null,null,null,null,null,null,null,null,null,null,null,null,null,null,null,null,null,null,null,null,null,null,null,null,null,null,null,11,{"$f":"IF(AA13=\"\",\"\",$AH$4)","v":""},{"$f":"IF(AB13=\"\",\"\",$AI$4)","v":""},{"$f":"IF(AC13=\"\",\"\",$AJ$4)","v":""},{"$f":"IF(AD13=\"\",\"\",$AK$4)","v":""},{"$f":"IF(AE13=\"\",\"\",$AL$4)","v":""},{"$f":"IF(AF13=\"\",\"\",$AM$4)","v":""},{"$f":"AH28&AI28&AJ28&AK28&AL28&AM28","v":""},{"$f":"SUM(AA13:AF14)","v":0},null,{"$f":"IF(AND(W13>=$AU$8,W13<=$AV$8),$AQ$4,\"\")","v":""},{"$f":"IF(AND(W13>=$AU$9,W13<=$AV$9),$AR$4,\"\")","v":""},{"$f":"IF(AND(W13>=$AU$10,W13<=$AV$10),$AS$4,\"\")","v":""}]
[null,"必ず1名はお願いします",null,null,null,null,null,null,null,null,null,null,null,null,null,null,null,null,null,null,null,null,null,null,null,null,null,null,null,null,null,null,null,null,null,null,null,null,null,{"$f":"AH29&AI29&AJ29&AK29&AL29&AM29","v":""}]
[null,null,"上記の通り申し込みます",null,null,null,null,null,null,null,null,null,null,null,null,null,null,null,null,null,null,null,null,null,null,null,null,null,null,null,null,null,12,{"$f":"IF(AA15=\"\",\"\",$AH$4)","v":""},{"$f":"IF(AB15=\"\",\"\",$AI$4)","v":""},{"$f":"IF(AC15=\"\",\"\",$AJ$4)","v":""},{"$f":"IF(AD15=\"\",\"\",$AK$4)","v":""},{"$f":"IF(AE15=\"\",\"\",$AL$4)","v":""},{"$f":"IF(AF15=\"\",\"\",$AM$4)","v":""},"",{"$f":"SUM(AA15:AF16)","v":0},null,{"$f":"IF(AND(W15>=$AU$8,W15<=$AV$8),$AQ$4,\"\")","v":""},{"$f":"IF(AND(W15>=$AU$9,W15<=$AV$9),$AR$4,\"\")","v":""},{"$f":"IF(AND(W15>=$AU$10,W15<=$AV$10),$AS$4,\"\")","v":""}]
[null,null,null,null,null,null,"ふりがな",null,null,null,null,null,null,null,null,null,null,null,null,"備考",null,null,null,null,null,null,null,null,null,null,null,null,null,null,null,null,null,null,null,""]
[null,null,"所属都道府県",null,null,null,"団体名",null,null,null,null,null,null,null,null,null,null,null,null,null,null,null,null,null,null,null,null,null,null,null,null,null,13,{"$f":"IF(AA17=\"\",\"\",$AH$4)","v":""},{"$f":"IF(AB17=\"\",\"\",$AI$4)","v":""},{"$f":"IF(AC17=\"\",\"\",$AJ$4)","v":""},{"$f":"IF(AD17=\"\",\"\",$AK$4)","v":""},{"$f":"IF(AE17=\"\",\"\",$AL$4)","v":""},{"$f":"IF(AF17=\"\",\"\",$AM$4)","v":""},"",{"$f":"SUM(AA17:AF18)","v":0},null,{"$f":"IF(AND(W17>=$AU$8,W17<=$AV$8),$AQ$4,\"\")","v":""},{"$f":"IF(AND(W17>=$AU$9,W17<=$AV$9),$AR$4,\"\")","v":""},{"$f":"IF(AND(W17>=$AU$10,W17<=$AV$10),$AS$4,\"\")","v":""}]
[null,null,null,null,null,null,null,null,null,"略称",null,null,null,null,null,null,null,null,null,null,null,null,null,null,null,null,null,null,null,null,null,null,null,null,null,null,null,null,null,""]
[null,null,null,"代表者名",null,null,null,"印",null,null,"☝",null,null,null,null,null,"表示に使う可能性あり",null,null,null,null,null,null,null,null,null,null,null,null,null,null,null,14,{"$f":"IF(AA19=\"\",\"\",$AH$4)","v":""},{"$f":"IF(AB19=\"\",\"\",$AI$4)","v":""},{"$f":"IF(AC19=\"\",\"\",$AJ$4)","v":""},{"$f":"IF(AD19=\"\",\"\",$AK$4)","v":""},{"$f":"IF(AE19=\"\",\"\",$AL$4)","v":""},{"$f":"IF(AF19=\"\",\"\",$AM$4)","v":""},"",{"$f":"SUM(AA19:AF20)","v":0},null,{"$f":"IF(AND(W19>=$AU$8,W19<=$AV$8),$AQ$4,\"\")","v":""},{"$f":"IF(AND(W19>=$AU$9,W19<=$AV$9),$AR$4,\"\")","v":""},{"$f":"IF(AND(W19>=$AU$10,W19<=$AV$10),$AS$4,\"\")","v":""}]
[null,null,null,null,null,null,null,null,null,null,null,null,null,null,null,null,null,null,null,null,null,null,null,null,null,null,null,null,null,null,null,null,null,null,null,null,null,null,null,""]
[null,null,"令和６年　　月　　日",null,null,null,null,null,null,null,null,null,null,null,null,null,null,null,null,null,null,null,null,null,null,null,null,null,null,null,null,null,15,{"$f":"IF(AA21=\"\",\"\",$AH$4)","v":""},{"$f":"IF(AB21=\"\",\"\",$AI$4)","v":""},{"$f":"IF(AC21=\"\",\"\",$AJ$4)","v":""},{"$f":"IF(AD21=\"\",\"\",$AK$4)","v":""},{"$f":"IF(AE21=\"\",\"\",$AL$4)","v":""},{"$f":"IF(AF21=\"\",\"\",$AM$4)","v":""},"",{"$f":"SUM(AA21:AF22)","v":0},null,{"$f":"IF(AND(W21>=$AU$8,W21<=$AV$8),$AQ$4,\"\")","v":""},{"$f":"IF(AND(W21>=$AU$9,W21<=$AV$9),$AR$4,\"\")","v":""},{"$f":"IF(AND(W21>=$AU$10,W21<=$AV$10),$AS$4,\"\")","v":""}]
[null,null,null,null,null,null,null,null,null,null,null,null,null,null,null,null,null,null,null,null,null,null,null,null,null,null,null,null,null,null,null,null,null,null,null,null,null,null,null,""]
[null,null,null,null,null,null,null,null,null,null,null,null,null,null,null,null,null,null,null,null,null,null,null,null,null,null,null,null,null,null,null,null,16,{"$f":"IF(AA23=\"\",\"\",$AH$4)","v":""},{"$f":"IF(AB23=\"\",\"\",$AI$4)","v":""},{"$f":"IF(AC23=\"\",\"\",$AJ$4)","v":""},{"$f":"IF(AD23=\"\",\"\",$AK$4)","v":""},{"$f":"IF(AE23=\"\",\"\",$AL$4)","v":""},{"$f":"IF(AF23=\"\",\"\",$AM$4)","v":""},"",{"$f":"SUM(AA23:AF24)","v":0},null,{"$f":"IF(AND(W23>=$AU$8,W23<=$AV$8),$AQ$4,\"\")","v":""},{"$f":"IF(AND(W23>=$AU$9,W23<=$AV$9),$AR$4,\"\")","v":""},{"$f":"IF(AND(W23>=$AU$10,W23<=$AV$10),$AS$4,\"\")","v":""}]
[null,null,null,null,null,null,null,null,null,null,null,null,null,null,null,null,null,null,null,null,null,null,null,null,null,null,null,null,null,null,null,null,null,null,null,null,null,null,null,""]
[null,null,null,null,null,null,null,null,null,null,null,null,null,null,null,null,null,null,null,null,null,null,null,null,null,null,null,null,null,null,null,null,17,{"$f":"IF(AA25=\"\",\"\",$AH$4)","v":""},{"$f":"IF(AB25=\"\",\"\",$AI$4)","v":""},{"$f":"IF(AC25=\"\",\"\",$AJ$4)","v":""},{"$f":"IF(AD25=\"\",\"\",$AK$4)","v":""},{"$f":"IF(AE25=\"\",\"\",$AL$4)","v":""},{"$f":"IF(AF25=\"\",\"\",$AM$4)","v":""},"",{"$f":"SUM(AA25:AF26)","v":0},null,{"$f":"IF(AND(W25>=$AU$8,W25<=$AV$8),$AQ$4,\"\")","v":""},{"$f":"IF(AND(W25>=$AU$9,W25<=$AV$9),$AR$4,\"\")","v":""},{"$f":"IF(AND(W25>=$AU$10,W25<=$AV$10),$AS$4,\"\")","v":""}]
[]
[]
[]
[]
[null,null,null,null,null,null,null,null,null,null,null,null,null,null,null,null,null,null,null,null,null,null,null,null,null,null,null,null,null,null,null,null,null,null,null,null,null,null,null,null,null,null,{"$f":"IF(AND(W23>=$AU$8,W23<=$AV$8),$AQ$6,\"\")","v":""},{"$f":"IF(AND(W23>=$AU$9,W23<=$AV$9),$AR$6,\"\")","v":""},{"$f":"IF(AND(W23>=$AU$10,W23<=$AV$10),$AS$6,\"\")","v":""}]
[]
[null,null,null,null,null,null,null,null,null,null,null,null,null,null,null,null,null,null,null,null,null,null,null,null,null,null,null,null,null,null,null,null,null,null,null,null,null,null,null,null,null,null,{"$f":"IF(AND(W25>=$AU$8,W25<=$AV$8),$AQ$6,\"\")","v":""},{"$f":"IF(AND(W25>=$AU$9,W25<=$AV$9),$AR$6,\"\")","v":""},{"$f":"IF(AND(W25>=$AU$10,W25<=$AV$10),$AS$6,\"\")","v":""}]
[null,null,null,null,null,null,null,null,null,null,null,null,null,null,null,null,null,null,null,null,null,null,null,null,null,null,null,null,null,null,null,null,null,null,null,null,null,null,null,{"$f":"AH48&AJ48&AK48&AL48&AM48","v":""},{"$f":"SUM(K27:P28)","v":0}]
[]
[]
[]
[]
[null,null,null,null,null,null,null,null,null,null,null,null,null,null,null,null,null,null,null,null,null,null,null,null,null,null,null,null,null,null,null,null,null,null,null,null,null,null,null,null,null,null,null,null,null,null,null,{"$f":"VLOOKUP(#REF!,#REF!,2,FALSE)","v":{"$error":"#REF!"}}]

{"sheet":"申込②","index":2,"n_rows":47,"n_cols":59,"rows_kept":47,"cut":false,"hidden":false,"merged":[[22,27,23,27],[24,27,25,27],[2,26,2,27],[6,27,7,27],[8,27,9,27],[10,27,11,27],[12,27,13,27],[14,27,15,27],[16,27,17,27],[18,27,19,27],[20,27,21,27],[10,26,11,26],[6,11,7,11],[8,11,9,11],[10,11,11,11],[12,11,13,11],[14,11,15,11],[16,11,17,11],[18,11,19,11],[20,11,21,11],[22,11,23,11],[24,31,25,31],[20,26,21,26],[20,28,21,28],[20,29,21,29],[20,30,21,30],[22,26,23,26],[22,28,23,28],[4,26,5,26],[4,28,5,28],[4,29,5,29],[4,30,5,30],[4,31,5,31],[20,31,21,31],[14,31,15,31],[22,31,23,31],[16,31,17,31],[14,30,15,30],[6,31,7,31],[18,31,19,31],[10,31,11,31],[12,29,13,29],[12,30,13,30],[12,31,13,31],[8,31,9,31],[4,16,5,16],[4,17,5,17],[4,20,5,20],[4,21,5,21],[4,22,5,22],[4,23,5,23],[4,24,5,24],[4,25,5,25],[24,30,25,30],[20,25,21,25],[22,29,23,29],[22,30,23,30],[22,16,23,16],[22,20,23,20],[22,21,23,21],[22,22,23,22],[22,23,23,23],[22,24,23,24],[22,25,23,25],[20,16,21,16],[20,20,21,20],[20,21,21,21],[20,22,21,22],[20,23,21,23],[33,4,33,6],[35,2,35,3],[27,1,28,15],[24,16,25,16],[24,20,25,20],[24,21,25,21],[24,22,25,22],[24,29,25,29],[24,23,25,23],[24,24,25,24],[24,25,25,25],[24,26,25,26],[24,28,25,28],[24,10,25,10],[24,12,25,12],[24,13,25,13],[24,14,25,14],[24,15,25,15],[30,7,30,17],[31,7,31,17],[32,10,32,17],[34,9,34,10],[34,13,34,15],[24,11,25,11],[20,24,21,24],[18,23,19,23],[18,24,19,24],[16,26,17,26],[16,28,17,28],[16,29,17,29],[16,30,17,30],[18,16,19,16],[18,20,19,20],[18,21,19,21],[18,22,19,22],[18,29,19,29],[18,30,19,30],[18,25,19,25],[18,26,19,26],[18,28,19,28],[16,16,17,16],[16,21,17,21],[16,22,17,22],[16,23,17,23],[16,24,17,24],[16,25,17,25],[10,29,11,29],[10,30,11,30],[14,16,15,16],[14,20,15,20],[14,21,15,21],[14,22,15,22],[14,23,15,23],[14,24,15,24],[12,23,13,23],[12,24,13,24],[12,20,13,20],[12,21,13,21],[12,22,13,22],[14,25,15,25],[14,26,15,26],[14,28,15,28],[14,29,15,29],[10,16,11,16],[10,20,11,20],[10,21,11,21],[10,22,11,22],[10,23,11,23],[10,24,11,24],[10,25,11,25],[8,25,9,25],[6,16,7,16],[6,20,7,20],[6,21,7,21],[6,22,7,22],[8,26,9,26],[8,28,9,28],[8,29,9,29],[8,30,9,30],[8,16,9,16],[8,20,9,20],[8,21,9,21],[8,22,9,22],[8,23,9,23],[8,24,9,24],[6,23,7,23],[6,24,7,24],[6,29,7,29],[6,30,7,30],[6,25,7,25],[6,26,7,26],[6,28,7,28],[10,28,11,28],[16,20,17,20],[18,10,19,10],[18,12,19,12],[18,13,19,13],[12,16,13,16],[18,15,19,15],[12,25,13,25],[12,26,13,26],[12,28,13,28],[18,14,19,14],[14,13,15,13],[14,14,15,14],[14,15,15,15],[12,15,13,15],[16,15,17,15],[24,0,25,0],[24,4,25,4],[24,5,25,5],[24,6,25,6],[24,7,25,7],[24,8,25,8],[24,9,25,9],[20,0,21,0],[20,4,21,4],[20,5,21,5],[20,6,21,6],[22,7,23,7],[22,8,23,8],[20,7,21,7],[20,8,21,8],[20,9,21,9],[20,15,21,15],[22,0,23,0],[20,10,21,10],[20,12,21,12],[22,15,23,15],[22,9,23,9],[22,10,23,10],[22,12,23,12],[22,13,23,13],[22,14,23,14],[20,13,21,13],[20,14,21,14],[18,0,19,0],[18,4,19,4],[18,5,19,5],[18,6,19,6],[18,7,19,7],[18,8,19,8],[18,9,19,9],[22,4,23,4],[22,5,23,5],[22,6,23,6],[12,0,13,0],[12,4,13,4],[12,5,13,5],[12,6,13,6],[12,7,13,7],[12,8,13,8],[16,0,17,0],[16,4,17,4],[16,5,17,5],[16,6,17,6],[16,7,17,7],[16,8,17,8],[14,7,15,7],[14,8,15,8],[14,0,15,0],[14,4,15,4],[14,5,15,5],[14,6,15,6],[14,9,15,9],[14,10,15,10],[14,12,15,12],[16,13,17,13],[16,14,17,14],[12,10,13,10],[12,12,13,12],[12,13,13,13],[12,14,13,14],[16,9,17,9],[16,10,17,10],[16,12,17,12],[12,9,13,9],[8,7,9,7],[8,8,9,8],[10,0,11,0],[8,0,9,0],[8,4,9,4],[8,5,9,5],[8,6,9,6],[8,15,9,15],[8,9,9,9],[8,10,9,10],[8,12,9,12],[10,10,11,10],[10,12,11,12],[10,13,11,13],[10,14,11,14],[8,14,9,14],[8,13,9,13],[10,9,11,9],[10,7,11,7],[10,8,11,8],[10,15,11,15],[10,4,11,4],[10,5,11,5],[10,6,11,6],[4,15,5,15],[6,0,7,0],[6,4,7,4],[6,5,7,5],[6,6,7,6],[6,7,7,7],[6,8,7,8],[6,9,7,9],[4,9,5,9],[4,10,5,10],[4,12,5,12],[4,13,5,13],[4,14,5,14],[6,10,7,10],[6,15,7,15],[6,12,7,12],[6,13,7,13],[6,14,7,14],[4,0,5,0],[4,4,5,4],[4,5,5,5],[4,6,5,6],[4,7,5,7],[4,8,5,8],[0,45,0,46],[1,45,1,46],[2,0,3,0],[2,2,2,3],[2,4,3,4],[2,5,3,5],[2,6,2,7],[2,8,3,8],[2,12,2,13],[2,14,2,15],[3,2,3,3],[3,6,3,7],[2,16,3,16],[2,18,2,19],[2,20,3,20],[2,21,3,21],[2,22,2,23],[2,24,3,24],[2,28,2,29],[2,30,2,31],[3,18,3,19],[0,0,0,31],[3,22,3,23],[2,10,2,11]]}
[{"$f":"申込①!A1","v":"令和6年度NTS近畿ブロック研修会参加申込書（保険申込含む）兼　U15レスリングアジア選手権大会日本代表選考会ﾌﾞﾛｯｸ予選会参加申込書"},null,null,null,null,null,null,null,null,null,null,null,null,null,null,null,null,null,null,null,null,null,null,null,null,null,null,null,null,null,null,null,null,null,null,null,null,null,null,null,null,null,null,null,null,"なまえ",null,"指"]
[{"$f":"申込①!A2","v":"（公財）日本レスリング協会　会長　富山 英明　様"},null,null,null,null,null,null,null,null,null,null,null,null,null,null,null,null,null,null,null,null,null,null,null,null,"No",2,null,null,null,null,null,null,null,null,null,null,null,null,null,null,null,null,null,null,"名前",null,"監督"]
["No","協会","なまえ（ひらがな）",null,"学年","性別","生年月日",null,"所属","試合","U15",null,"U17",null,"U20",null,"No","協会","なまえ（ひらがな）",null,"学年","性別","生年月日",null,"所属","試合","U15",null,"U17",null,"U20",null,null,null,null,null,null,null,null,null,null,null,null,null,null,5,6,"コーチ",null,null,null,null,"U-15・F","U-15・G","U-17・F","U-17・G","U-20・F","U-20・G"]
[null,"番号","名前",null,null,null,"注) 2006/10/10の形で入力",null,null,"参加","フリー","グレコ","フリー","グレコ","フリー","グレコ",null,"番号","名前",null,null,null,"注) 2006/10/10の形で入力",null,null,"参加","フリー","グレコ","フリー","グレコ","フリー","グレコ",null,null,null,null,null,null,null,null,null,null,null,null,null,3,4,"高",null,"高３","男","○",38,38,45,45,57,55,"滋賀県"]
["例","JWF24ー","しんぐう","たろう",2,"男","2006-10-10","生","高","○",null,null,48,null,null,null,null,null,null,null,null,null,null,null,null,null,null,null,null,null,null,null,null,null,null,null,null,null,null,null,null,null,null,null,null,"学年",13,"中",null,"高２","女",null,41,41,48,48,61,60,"京都府"]
[null,123,"新宮","太朗",null,null,null,null,null,null,null,null,null,null,null,null,null,null,null,null,null,null,null,null,null,null,null,null,null,null,null,null,null,null,null,null,null,null,null,null,9,"U-15","U-17","U-20",null,"性別",7,"小",null,"高１",null,null,44,44,51,51,65,63,"大阪府"]
[18,{"$f":"B5","v":"JWF24ー"},null,null,null,null,null,"生",null,null,null,null,null,null,null,null,{"$f":"A25+1","v":28},{"$f":"B5","v":"JWF24ー"},null,null,null,null,null,"生",null,null,null,null,null,null,null,null,null,{"$f":"IF(K7=\"\",\"\",\"U-15F\")","v":""},{"$f":"IF(M7=\"\",\"\",\"U-17F\")","v":""},{"$f":"IF(N7=\"\",\"\",\"U-17G\")","v":""},{"$f":"IF(O7=\"\",\"\",\"U-20F\")","v":""},{"$f":"IF(P7=\"\",\"\",\"U-20G\")","v":""},{"$f":"AH7&AI7&AJ7&AK7&AL7","v":""},{"$f":"SUM(K7:P8)","v":0},null,null,null,null,null,"生年月日",8,null,null,"中３",null,null,48,48,55,55,70,67,"兵庫県"]
[null,null,null,null,null,null,null,null,null,null,null,null,null,null,null,null,null,null,null,null,null,null,null,null,null,null,null,null,null,null,null,null,null,null,null,null,null,null,null,null,{"$f":"IF(B7=\"\",\"\",VLOOKUP(B7,#REF!,$AO$6,FALSE))","v":{"$error":"#REF!"}},{"$f":"IF(AND(G7>=$AT$8,G7<=$AU$8),\"U-15\",\"\")","v":""},{"$f":"IF(AND(G7>=$AT$9,G7<=$AU$9),\"U-17\",\"\")","v":""},{"$f":"IF(AND(G7>=$AT$10,G7<=$AU$10),\"U-20\",\"\")","v":""},"U-15","2010-01-01","2012-12-31","H22",null,"中２",null,null,52,52,60,60,74,72,"奈良県"]
[{"$f":"A7+1","v":19},{"$f":"B5","v":"JWF24ー"},null,null,null,null,null,"生",null,null,null,null,null,null,null,null,{"$f":"Q7+1","v":29},{"$f":"B5","v":"JWF24ー"},null,null,null,null,null,"生",null,null,null,null,null,null,null,null,null,{"$f":"IF(K9=\"\",\"\",\"U-15F\")","v":""},{"$f":"IF(M9=\"\",\"\",\"U-17F\")","v":""},{"$f":"IF(N9=\"\",\"\",\"U-17G\")","v":""},{"$f":"IF(O9=\"\",\"\",\"U-20F\")","v":""},{"$f":"IF(P9=\"\",\"\",\"U-20G\")","v":""},{"$f":"AH9&AI9&AJ9&AK9&AL9","v":""},{"$f":"SUM(K9:P10)","v":0},null,null,null,null,"U-17","2008-01-01","2010-12-31","H20",null,"中１",null,null,57,57,65,65,79,77,"和歌山県"]
[null,null,null,null,null,null,null,null,null,null,null,null,null,null,null,null,null,null,null,null,null,null,null,null,null,null,null,null,null,null,null,null,null,null,null,null,null,null,null,null,{"$f":"IF(B9=\"\",\"\",VLOOKUP(B9,#REF!,$AO$6,FALSE))","v":{"$error":"#REF!"}},{"$f":"IF(AND(G9>=$AT$8,G9<=$AU$8),\"U-15\",\"\")","v":""},{"$f":"IF(AND(G9>=$AT$9,G9<=$AU$9),\"U-17\",\"\")","v":""},{"$f":"IF(AND(G9>=$AT$10,G9<=$AU$10),\"U-20\",\"\")","v":""},"U-20","2005-01-01","2008-12-31","H17",null,"小６",null,null,62,62,71,71,86,82]
[{"$f":"A9+1","v":20},{"$f":"B5","v":"JWF24ー"},null,null,null,null,null,"生",null,null,null,null,null,null,null,null,{"$f":"Q9+1","v":30},{"$f":"B5","v":"JWF24ー"},null,null,null,null,null,"生",null,null,null,null,null,null,null,null,null,{"$f":"IF(K11=\"\",\"\",\"U-15F\")","v":""},{"$f":"IF(M11=\"\",\"\",\"U-17F\")","v":""},{"$f":"IF(N11=\"\",\"\",\"U-17G\")","v":""},{"$f":"IF(O11=\"\",\"\",\"U-20F\")","v":""},{"$f":"IF(P11=\"\",\"\",\"U-20G\")","v":""},{"$f":"AH11&AI11&AJ11&AK11&AL11","v":""},{"$f":"SUM(K11:P12)","v":0},null,null,null,null,null,null,null,null,null,null,null,null,68,68,80,80,92,87]
[null,null,null,null,null,null,null,null,null,null,null,null,null,null,null,null,null,null,null,null,null,null,null,null,null,null,null,null,null,null,null,null,null,null,null,null,null,null,null,null,{"$f":"IF(B11=\"\",\"\",VLOOKUP(B11,#REF!,$AO$6,FALSE))","v":{"$error":"#REF!"}},{"$f":"IF(AND(G11>=$AT$8,G11<=$AU$8),\"U-15\",\"\")","v":""},{"$f":"IF(AND(G11>=$AT$9,G11<=$AU$9),\"U-17\",\"\")","v":""},{"$f":"IF(AND(G11>=$AT$10,G11<=$AU$10),\"U-20\",\"\")","v":""},null,null,null,null,null,null,null,null,75,75,92,92,97,97]
[{"$f":"A11+1","v":21},{"$f":"B5","v":"JWF24ー"},null,null,null,null,null,"生",null,null,null,null,null,null,null,null,{"$f":"Q11+1","v":31},{"$f":"B5","v":"JWF24ー"},null,null,null,null,null,"生",null,null,null,null,null,null,null,null,null,{"$f":"IF(K13=\"\",\"\",\"U-15F\")","v":""},{"$f":"IF(M13=\"\",\"\",\"U-17F\")","v":""},{"$f":"IF(N13=\"\",\"\",\"U-17G\")","v":""},{"$f":"IF(O13=\"\",\"\",\"U-20F\")","v":""},{"$f":"IF(P13=\"\",\"\",\"U-20G\")","v":""},{"$f":"AH13&AI13&AJ13&AK13&AL13","v":""},{"$f":"SUM(K13:P14)","v":0},null,null,null,null,null,null,null,null,null,null,null,null,85,85,110,110,125,130]
[null,null,null,null,null,null,null,null,null,null,null,null,null,null,null,null,null,null,null,null,null,null,null,null,null,null,null,null,null,null,null,null,null,null,null,null,null,null,null,null,{"$f":"IF(B13=\"\",\"\",VLOOKUP(B13,#REF!,$AO$6,FALSE))","v":{"$error":"#REF!"}},{"$f":"IF(AND(G13>=$AT$8,G13<=$AU$8),\"U-15\",\"\")","v":""},{"$f":"IF(AND(G13>=$AT$9,G13<=$AU$9),\"U-17\",\"\")","v":""},{"$f":"IF(AND(G13>=$AT$10,G13<=$AU$10),\"U-20\",\"\")","v":""}]
[{"$f":"A13+1","v":22},{"$f":"B5","v":"JWF24ー"},null,null,null,null,null,"生",null,null,null,null,null,null,null,null,{"$f":"Q13+1","v":32},{"$f":"B5","v":"JWF24ー"},null,null,null,null,null,"生",null,null,null,null,null,null,null,null,null,{"$f":"IF(K15=\"\",\"\",\"U-15F\")","v":""},{"$f":"IF(M15=\"\",\"\",\"U-17F\")","v":""},{"$f":"IF(N15=\"\",\"\",\"U-17G\")","v":""},{"$f":"IF(O15=\"\",\"\",\"U-20F\")","v":""},{"$f":"IF(P15=\"\",\"\",\"U-20G\")","v":""},{"$f":"AH15&AI15&AJ15&AK15&AL15","v":""},{"$f":"SUM(K15:P16)","v":0}]
[null,null,null,null,null,null,null,null,null,null,null,null,null,null,null,null,null,null,null,null,null,null,null,null,null,null,null,null,null,null,null,null,null,null,null,null,null,null,null,null,{"$f":"IF(B15=\"\",\"\",VLOOKUP(B15,#REF!,$AO$6,FALSE))","v":{"$error":"#REF!"}},{"$f":"IF(AND(G15>=$AT$8,G15<=$AU$8),\"U-15\",\"\")","v":""},{"$f":"IF(AND(G15>=$AT$9,G15<=$AU$9),\"U-17\",\"\")","v":""},{"$f":"IF(AND(G15>=$AT$10,G15<=$AU$10),\"U-20\",\"\")","v":""}]
[{"$f":"A15+1","v":23},{"$f":"B5","v":"JWF24ー"},null,null,null,null,null,"生",null,null,null,null,null,null,null,null,{"$f":"Q15+1","v":33},{"$f":"B5","v":"JWF24ー"},null,null,null,null,null,"生",null,null,null,null,null,null,null,null,null,{"$f":"IF(K17=\"\",\"\",\"U-15F\")","v":""},{"$f":"IF(M17=\"\",\"\",\"U-17F\")","v":""},{"$f":"IF(N17=\"\",\"\",\"U-17G\")","v":""},{"$f":"IF(O17=\"\",\"\",\"U-20F\")","v":""},{"$f":"IF(P17=\"\",\"\",\"U-20G\")","v":""},{"$f":"AH17&AI17&AJ17&AK17&AL17","v":""},{"$f":"SUM(K17:P18)","v":0}]
[null,null,null,null,null,null,null,null,null,null,null,null,null,null,null,null,null,null,null,null,null,null,null,null,null,null,null,null,null,null,null,null,null,null,null,null,null,null,null,null,{"$f":"IF(B17=\"\",\"\",VLOOKUP(B17,#REF!,$AO$6,FALSE))","v":{"$error":"#REF!"}},{"$f":"IF(AND(G17>=$AT$8,G17<=$AU$8),\"U-15\",\"\")","v":""},{"$f":"IF(AND(G17>=$AT$9,G17<=$AU$9),\"U-17\",\"\")","v":""},{"$f":"IF(AND(G17>=$AT$10,G17<=$AU$10),\"U-20\",\"\")","v":""}]
[{"$f":"A17+1","v":24},{"$f":"B5","v":"JWF24ー"},null,null,null,null,null,"生",null,null,null,null,null,null,null,null,{"$f":"Q17+1","v":34},{"$f":"B5","v":"JWF24ー"},null,null,null,null,null,"生",null,null,null,null,null,null,null,null,null,{"$f":"IF(K19=\"\",\"\",\"U-15F\")","v":""},{"$f":"IF(M19=\"\",\"\",\"U-17F\")","v":""},{"$f":"IF(N19=\"\",\"\",\"U-17G\")","v":""},{"$f":"IF(O19=\"\",\"\",\"U-20F\")","v":""},{"$f":"IF(P19=\"\",\"\",\"U-20G\")","v":""},{"$f":"AH19&AI19&AJ19&AK19&AL19","v":""},{"$f":"SUM(K19:P20)","v":0}]
[null,null,null,null,null,null,null,null,null,null,null,null,null,null,null,null,null,null,null,null,null,null,null,null,null,null,null,null,null,null,null,null,null,null,null,null,null,null,null,null,{"$f":"IF(B19=\"\",\"\",VLOOKUP(B19,#REF!,$AO$6,FALSE))","v":{"$error":"#REF!"}},{"$f":"IF(AND(G19>=$AT$8,G19<=$AU$8),\"U-15\",\"\")","v":""},{"$f":"IF(AND(G19>=$AT$9,G19<=$AU$9),\"U-17\",\"\")","v":""},{"$f":"IF(AND(G19>=$AT$10,G19<=$AU$10),\"U-20\",\"\")","v":""}]
[{"$f":"A19+1","v":25},{"$f":"B5","v":"JWF24ー"},null,null,null,null,null,"生",null,null,null,null,null,null,null,null,{"$f":"Q19+1","v":35},{"$f":"B5","v":"JWF24ー"},null,null,null,null,null,"生",null,null,null,null,null,null,null,null,null,{"$f":"IF(K21=\"\",\"\",\"U-15F\")","v":""},{"$f":"IF(M21=\"\",\"\",\"U-17F\")","v":""},{"$f":"IF(N21=\"\",\"\",\"U-17G\")","v":""},{"$f":"IF(O21=\"\",\"\",\"U-20F\")","v":""},{"$f":"IF(P21=\"\",\"\",\"U-20G\")","v":""},{"$f":"AH21&AI21&AJ21&AK21&AL21","v":""},{"$f":"SUM(K21:P22)","v":0}]
[null,null,null,null,null,null,null,null,null,null,null,null,null,null,null,null,null,null,null,null,null,null,null,null,null,null,null,null,null,null,null,null,null,null,null,null,null,null,null,null,{"$f":"IF(B21=\"\",\"\",VLOOKUP(B21,#REF!,$AO$6,FALSE))","v":{"$error":"#REF!"}},{"$f":"IF(AND(G21>=$AT$8,G21<=$AU$8),\"U-15\",\"\")","v":""},{"$f":"IF(AND(G21>=$AT$9,G21<=$AU$9),\"U-17\",\"\")","v":""},{"$f":"IF(AND(G21>=$AT$10,G21<=$AU$10),\"U-20\",\"\")","v":""}]
[{"$f":"A21+1","v":26},{"$f":"B5","v":"JWF24ー"},null,null,null,null,null,"生",null,null,null,null,null,null,null,null,{"$f":"Q21+1","v":36},{"$f":"B5","v":"JWF24ー"},null,null,null,null,null,"生",null,null,null,null,null,null,null,null,null,{"$f":"IF(K23=\"\",\"\",\"U-15F\")","v":""},{"$f":"IF(M23=\"\",\"\",\"U-17F\")","v":""},{"$f":"IF(N23=\"\",\"\",\"U-17G\")","v":""},{"$f":"IF(O23=\"\",\"\",\"U-20F\")","v":""},{"$f":"IF(P23=\"\",\"\",\"U-20G\")","v":""},{"$f":"AH23&AI23&AJ23&AK23&AL23","v":""},{"$f":"SUM(K23:P24)","v":0}]
[null,null,null,null,null,null,null,null,null,null,null,null,null,null,null,null,null,null,null,null,null,null,null,null,null,null,null,null,null,null,null,null,null,null,null,null,null,null,null,null,{"$f":"IF(B23=\"\",\"\",VLOOKUP(B23,#REF!,$AO$6,FALSE))","v":{"$error":"#REF!"}},{"$f":"IF(AND(G23>=$AT$8,G23<=$AU$8),\"U-15\",\"\")","v":""},{"$f":"IF(AND(G23>=$AT$9,G23<=$AU$9),\"U-17\",\"\")","v":""},{"$f":"IF(AND(G23>=$AT$10,G23<=$AU$10),\"U-20\",\"\")","v":""}]
[{"$f":"A23+1","v":27},{"$f":"B5","v":"JWF24ー"},null,null,null,null,null,"生",null,null,null,null,null,null,null,null,{"$f":"Q23+1","v":37},{"$f":"B5","v":"JWF24ー"},null,null,null,null,null,"生",null,null,null,null,null,null,null,null,null,{"$f":"IF(K25=\"\",\"\",\"U-15F\")","v":""},{"$f":"IF(M25=\"\",\"\",\"U-17F\")","v":""},{"$f":"IF(N25=\"\",\"\",\"U-17G\")","v":""},{"$f":"IF(O25=\"\",\"\",\"U-20F\")","v":""},{"$f":"IF(P25=\"\",\"\",\"U-20G\")","v":""},{"$f":"AH25&AI25&AJ25&AK25&AL25","v":""},{"$f":"SUM(K25:P26)","v":0}]
[null,null,null,null,null,null,null,null,null,null,null,null,null,null,null,null,null,null,null,null,null,null,null,null,null,null,null,null,null,null,null,null,null,null,null,null,null,null,null,null,{"$f":"IF(B25=\"\",\"\",VLOOKUP(B25,#REF!,$AO$6,FALSE))","v":{"$error":"#REF!"}},{"$f":"IF(AND(G25>=$AT$8,G25<=$AU$8),\"U-15\",\"\")","v":""},{"$f":"IF(AND(G25>=$AT$9,G25<=$AU$9),\"U-17\",\"\")","v":""},{"$f":"IF(AND(G25>=$AT$10,G25<=$AU$10),\"U-20\",\"\")","v":""}]
[null,null,null,null,null,null,null,null,null,null,null,null,null,null,null,null,null,null,null,null,null,null,null,null,null,null,null,null,null,null,null,null,null,{"$f":"IF(AA7=\"\",\"\",\"U-15F\")","v":""},{"$f":"IF(AC7=\"\",\"\",\"U-17F\")","v":""},{"$f":"IF(AD7=\"\",\"\",\"U-17G\")","v":""},{"$f":"IF(AE7=\"\",\"\",\"U-20F\")","v":""},{"$f":"IF(AF7=\"\",\"\",\"U-20G\")","v":""},{"$f":"AH27&AI27&AJ27&AK27&AL27","v":""},{"$f":"SUM(AA7:AF8)","v":0}]
[null,"審判氏名\nNo1に入力をお願いします",null,null,null,null,null,null,null,null,null,null,null,null,null,null,null,null,null,null,null,null,null,null,null,null,null,null,null,null,null,null,null,null,null,null,null,null,null,null,{"$f":"IF(R7=\"\",\"\",VLOOKUP(R7,#REF!,$AO$6,FALSE))","v":{"$error":"#REF!"}},{"$f":"IF(AND(W7>=$AT$8,W7<=$AU$8),\"U-15\",\"\")","v":""},{"$f":"IF(AND(W7>=$AT$9,W7<=$AU$9),\"U-17\",\"\")","v":""},{"$f":"IF(AND(W7>=$AT$10,W7<=$AU$10),\"U-20\",\"\")","v":""}]
[null,null,null,null,null,null,null,null,null,null,null,null,null,null,null,null,null,null,null,null,null,null,null,null,null,null,null,null,null,null,null,null,null,{"$f":"IF(AA9=\"\",\"\",\"U-15F\")","v":""},{"$f":"IF(AC9=\"\",\"\",\"U-17F\")","v":""},{"$f":"IF(AD9=\"\",\"\",\"U-17G\")","v":""},{"$f":"IF(AE9=\"\",\"\",\"U-20F\")","v":""},{"$f":"IF(AF9=\"\",\"\",\"U-20G\")","v":""},{"$f":"AH29&AI29&AJ29&AK29&AL29","v":""},{"$f":"SUM(AA9:AF10)","v":0}]
[null,null,"上記の通り申し込みます",null,null,null,null,null,null,null,null,null,null,null,null,null,null,null,null,null,null,null,null,null,null,null,null,null,null,null,null,null,null,null,null,null,null,null,null,null,{"$f":"IF(R9=\"\",\"\",VLOOKUP(R9,#REF!,$AO$6,FALSE))","v":{"$error":"#REF!"}},{"$f":"IF(AND(W9>=$AT$8,W9<=$AU$8),\"U-15\",\"\")","v":""},{"$f":"IF(AND(W9>=$AT$9,W9<=$AU$9),\"U-17\",\"\")","v":""},{"$f":"IF(AND(W9>=$AT$10,W9<=$AU$10),\"U-20\",\"\")","v":""}]
[null,null,null,null,null,null,"ふりがな",{"$f":"申込①!H31","v":0},null,null,null,null,null,null,null,null,null,null,null,null,null,null,null,null,null,null,null,null,null,null,null,null,null,{"$f":"IF(AA11=\"\",\"\",\"U-15F\")","v":""},{"$f":"IF(AC11=\"\",\"\",\"U-17F\")","v":""},{"$f":"IF(AD11=\"\",\"\",\"U-17G\")","v":""},{"$f":"IF(AE11=\"\",\"\",\"U-20F\")","v":""},{"$f":"IF(AF11=\"\",\"\",\"U-20G\")","v":""},{"$f":"AH31&AI31&AJ31&AK31&AL31","v":""},{"$f":"SUM(AA11:AF12)","v":0}]
[null,null,"所属都道府県",{"$f":"申込①!D32","v":0},null,null,"団体名",{"$f":"申込①!H32","v":0},null,null,null,null,null,null,null,null,null,null,null,null,null,null,null,null,null,null,null,null,null,null,null,null,null,null,null,null,null,null,null,null,{"$f":"IF(R11=\"\",\"\",VLOOKUP(R11,#REF!,$AO$6,FALSE))","v":{"$error":"#REF!"}},{"$f":"IF(AND(W11>=$AT$8,W11<=$AU$8),\"U-15\",\"\")","v":""},{"$f":"IF(AND(W11>=$AT$9,W11<=$AU$9),\"U-17\",\"\")","v":""},{"$f":"IF(AND(W11>=$AT$10,W11<=$AU$10),\"U-20\",\"\")","v":""}]
[null,null,null,null,null,null,null,null,null,"略称",{"$f":"申込①!K33","v":0},null,null,null,null,null,null,null,null,null,null,null,null,null,null,null,null,null,null,null,null,null,null,{"$f":"IF(AA13=\"\",\"\",\"U-15F\")","v":""},{"$f":"IF(AC13=\"\",\"\",\"U-17F\")","v":""},{"$f":"IF(AD13=\"\",\"\",\"U-17G\")","v":""},{"$f":"IF(AE13=\"\",\"\",\"U-20F\")","v":""},{"$f":"IF(AF13=\"\",\"\",\"U-20G\")","v":""},{"$f":"AH33&AI33&AJ33&AK33&AL33","v":""},{"$f":"SUM(AA13:AF14)","v":0}]
[null,null,null,"代表者名",null,null,null,"印",null,null,"☝",null,null,null,null,null,"表示に使う可能性あり",null,null,null,null,null,null,null,null,null,null,null,null,null,null,null,null,null,null,null,null,null,null,null,{"$f":"IF(R13=\"\",\"\",VLOOKUP(R13,#REF!,$AO$6,FALSE))","v":{"$error":"#REF!"}},{"$f":"IF(AND(W13>=$AT$8,W13<=$AU$8),\"U-15\",\"\")","v":""},{"$f":"IF(AND(W13>=$AT$9,W13<=$AU$9),\"U-17\",\"\")","v":""},{"$f":"IF(AND(W13>=$AT$10,W13<=$AU$10),\"U-20\",\"\")","v":""}]
[null,null,null,null,null,null,null,null,null,null,null,null,null,null,null,null,"全角5文字以内で",null,null,null,null,null,null,null,null,null,null,null,null,null,null,null,null,{"$f":"IF(AA15=\"\",\"\",\"U-15F\")","v":""},{"$f":"IF(AC15=\"\",\"\",\"U-17F\")","v":""},{"$f":"IF(AD15=\"\",\"\",\"U-17G\")","v":""},{"$f":"IF(AE15=\"\",\"\",\"U-20F\")","v":""},{"$f":"IF(AF15=\"\",\"\",\"U-20G\")","v":""},{"$f":"AH35&AI35&AJ35&AK35&AL35","v":""},{"$f":"SUM(AA15:AF16)","v":0}]
[null,null,{"$f":"申込①!C36","v":"令和６年　　月　　日"},null,null,null,null,null,null,null,null,null,null,null,null,null,null,null,null,null,null,null,null,null,null,null,null,null,null,null,null,null,null,null,null,null,null,null,null,null,{"$f":"IF(R15=\"\",\"\",VLOOKUP(R15,#REF!,$AO$6,FALSE))","v":{"$error":"#REF!"}},{"$f":"IF(AND(W15>=$AT$8,W15<=$AU$8),\"U-15\",\"\")","v":""},{"$f":"IF(AND(W15>=$AT$9,W15<=$AU$9),\"U-17\",\"\")","v":""},{"$f":"IF(AND(W15>=$AT$10,W15<=$AU$10),\"U-20\",\"\")","v":""}]
[null,null,null,null,null,null,null,null,null,null,null,null,null,null,null,null,null,null,null,null,null,null,null,null,null,null,null,null,null,null,null,null,null,{"$f":"IF(AA17=\"\",\"\",\"U-15F\")","v":""},{"$f":"IF(AC17=\"\",\"\",\"U-17F\")","v":""},{"$f":"IF(AD17=\"\",\"\",\"U-17G\")","v":""},{"$f":"IF(AE17=\"\",\"\",\"U-20F\")","v":""},{"$f":"IF(AF17=\"\",\"\",\"U-20G\")","v":""},{"$f":"AH37&AI37&AJ37&AK37&AL37","v":""},{"$f":"SUM(AA17:AF18)","v":0}]
[null,null,null,null,null,null,null,null,null,null,null,null,null,null,null,null,null,null,null,null,null,null,null,null,null,null,null,null,null,null,null,null,null,null,null,null,null,null,null,null,{"$f":"IF(R17=\"\",\"\",VLOOKUP(R17,#REF!,$AO$6,FALSE))","v":{"$error":"#REF!"}},{"$f":"IF(AND(W17>=$AT$8,W17<=$AU$8),\"U-15\",\"\")","v":""},{"$f":"IF(AND(W17>=$AT$9,W17<=$AU$9),\"U-17\",\"\")","v":""},{"$f":"IF(AND(W17>=$AT$10,W17<=$AU$10),\"U-20\",\"\")","v":""}]
[null,null,null,null,null,null,null,null,null,null,null,null,null,null,null,null,null,null,null,null,null,null,null,null,null,null,null,null,null,null,null,null,null,{"$f":"IF(AA19=\"\",\"\",\"U-15F\")","v":""},{"$f":"IF(AC19=\"\",\"\",\"U-17F\")","v":""},{"$f":"IF(AD19=\"\",\"\",\"U-17G\")","v":""},{"$f":"IF(AE19=\"\",\"\",\"U-20F\")","v":""},{"$f":"IF(AF19=\"\",\"\",\"U-20G\")","v":""},{"$f":"AH39&AI39&AJ39&AK39&AL39","v":""},{"$f":"SUM(AA19:AF20)","v":0}]
[null,null,null,null,null,null,null,null,null,null,null,null,null,null,null,null,null,null,null,null,null,null,null,null,null,null,null,null,null,null,null,null,null,null,null,null,null,null,null,null,{"$f":"IF(R19=\"\",\"\",VLOOKUP(R19,#REF!,$AO$6,FALSE))","v":{"$error":"#REF!"}},{"$f":"IF(AND(W19>=$AT$8,W19<=$AU$8),\"U-15\",\"\")","v":""},{"$f":"IF(AND(W19>=$AT$9,W19<=$AU$9),\"U-17\",\"\")","v":""},{"$f":"IF(AND(W19>=$AT$10,W19<=$AU$10),\"U-20\",\"\")","v":""}]
[null,null,null,null,null,null,null,null,null,null,null,null,null,null,null,null,null,null,null,null,null,null,null,null,null,null,null,null,null,null,null,null,null,{"$f":"IF(AA21=\"\",\"\",\"U-15F\")","v":""},{"$f":"IF(AC21=\"\",\"\",\"U-17F\")","v":""},{"$f":"IF(AD21=\"\",\"\",\"U-17G\")","v":""},{"$f":"IF(AE21=\"\",\"\",\"U-20F\")","v":""},{"$f":"IF(AF21=\"\",\"\",\"U-20G\")","v":""},{"$f":"AH41&AI41&AJ41&AK41&AL41","v":""},{"$f":"SUM(AA21:AF22)","v":0}]
[null,null,null,null,null,null,null,null,null,null,null,null,null,null,null,null,null,null,null,null,null,null,null,null,null,null,null,null,null,null,null,null,null,null,null,null,null,null,null,null,{"$f":"IF(R21=\"\",\"\",VLOOKUP(R21,#REF!,$AO$6,FALSE))","v":{"$error":"#REF!"}},{"$f":"IF(AND(W21>=$AT$8,W21<=$AU$8),\"U-15\",\"\")","v":""},{"$f":"IF(AND(W21>=$AT$9,W21<=$AU$9),\"U-17\",\"\")","v":""},{"$f":"IF(AND(W21>=$AT$10,W21<=$AU$10),\"U-20\",\"\")","v":""}]
[null,null,null,null,null,null,null,null,null,null,null,null,null,null,null,null,null,null,null,null,null,null,null,null,null,null,null,null,null,null,null,null,null,{"$f":"IF(AA23=\"\",\"\",\"U-15F\")","v":""},{"$f":"IF(AC23=\"\",\"\",\"U-17F\")","v":""},{"$f":"IF(AD23=\"\",\"\",\"U-17G\")","v":""},{"$f":"IF(AE23=\"\",\"\",\"U-20F\")","v":""},{"$f":"IF(AF23=\"\",\"\",\"U-20G\")","v":""},{"$f":"AH43&AI43&AJ43&AK43&AL43","v":""},{"$f":"SUM(AA23:AF24)","v":0}]
[null,null,null,null,null,null,null,null,null,null,null,null,null,null,null,null,null,null,null,null,null,null,null,null,null,null,null,null,null,null,null,null,null,null,null,null,null,null,null,null,{"$f":"IF(R23=\"\",\"\",VLOOKUP(R23,#REF!,$AO$6,FALSE))","v":{"$error":"#REF!"}},{"$f":"IF(AND(W23>=$AT$8,W23<=$AU$8),\"U-15\",\"\")","v":""},{"$f":"IF(AND(W23>=$AT$9,W23<=$AU$9),\"U-17\",\"\")","v":""},{"$f":"IF(AND(W23>=$AT$10,W23<=$AU$10),\"U-20\",\"\")","v":""}]
[null,null,null,null,null,null,null,null,null,null,null,null,null,null,null,null,null,null,null,null,null,null,null,null,null,null,null,null,null,null,null,null,null,{"$f":"IF(AA25=\"\",\"\",\"U-15F\")","v":""},{"$f":"IF(AC25=\"\",\"\",\"U-17F\")","v":""},{"$f":"IF(AD25=\"\",\"\",\"U-17G\")","v":""},{"$f":"IF(AE25=\"\",\"\",\"U-20F\")","v":""},{"$f":"IF(AF25=\"\",\"\",\"U-20G\")","v":""},{"$f":"AH45&AI45&AJ45&AK45&AL45","v":""},{"$f":"SUM(AA25:AF26)","v":0}]
[null,null,null,null,null,null,null,null,null,null,null,null,null,null,null,null,null,null,null,null,null,null,null,null,null,null,null,null,null,null,null,null,null,null,null,null,null,null,null,null,{"$f":"IF(R25=\"\",\"\",VLOOKUP(R25,#REF!,$AO$6,FALSE))","v":{"$error":"#REF!"}},{"$f":"IF(AND(W25>=$AT$8,W25<=$AU$8),\"U-15\",\"\")","v":""},{"$f":"IF(AND(W25>=$AT$9,W25<=$AU$9),\"U-17\",\"\")","v":""},{"$f":"IF(AND(W25>=$AT$10,W25<=$AU$10),\"U-20\",\"\")","v":""}]
[null,null,null,null,null,null,null,null,null,null,null,null,null,null,null,null,null,null,null,null,null,null,null,null,null,null,null,null,null,null,null,null,null,null,null,null,null,null,{"$f":"AH47&AI47&AJ47&AK47&AL47","v":""},{"$f":"SUM(K28:P28)","v":0}]

{"sheet":"List","index":3,"n_rows":44,"n_cols":16,"rows_kept":44,"cut":false,"hidden":false,"merged":[[40,1,43,1]]}
["ID",null,"No","名前","なまえ","都道府県","所属名","しょぞくめい","Grade","階級","学年","抽選","所属","kg","ブロック","略称"]
[null,null,{"$f":"申込①!A5","v":1},{"$f":"IF(申込①!C6=\"\",\"-- --\",申込①!C6&\" \"&申込①!D6)","v":"-- --"},{"$f":"IF(申込①!C6=\"\",\"-- --\",申込①!C5&\" \"&申込①!D5)","v":"-- --"},{"$f":"申込①!$D$32","v":0},{"$f":"申込①!$H$32","v":0},{"$f":"申込①!$H$31","v":0},{"$f":"申込①!AN5","v":""},{"$f":"申込①!AO5","v":0},{"$f":"申込①!E5","v":0},null,{"$f":"申込①!I5","v":0},{"$f":"J2","v":0},{"$f":"申込①!$D$32","v":0},{"$f":"申込①!$K$33","v":0}]
[null,null,{"$f":"申込①!A7","v":2},{"$f":"IF(申込①!C8=\"\",\"-- --\",申込①!C8&\" \"&申込①!D8)","v":"-- --"},{"$f":"IF(申込①!C8=\"\",\"-- --\",申込①!C7&\" \"&申込①!D7)","v":"-- --"},{"$f":"申込①!$D$32","v":0},{"$f":"申込①!$H$32","v":0},{"$f":"申込①!$H$31","v":0},{"$f":"申込①!AN7","v":""},{"$f":"申込①!AO7","v":0},{"$f":"申込①!E7","v":0},null,{"$f":"申込①!I7","v":0},{"$f":"J3","v":0},{"$f":"申込①!$D$32","v":0},{"$f":"申込①!$K$33","v":0}]
[null,null,{"$f":"申込①!A9","v":3},{"$f":"IF(申込①!C10=\"\",\"-- --\",申込①!C10&\" \"&申込①!D10)","v":"-- --"},{"$f":"IF(申込①!C10=\"\",\"-- --\",申込①!C9&\" \"&申込①!D9)","v":"-- --"},{"$f":"申込①!$D$32","v":0},{"$f":"申込①!$H$32","v":0},{"$f":"申込①!$H$31","v":0},{"$f":"申込①!AN7","v":""},{"$f":"申込①!AO10","v":0},{"$f":"申込①!E9","v":0},null,{"$f":"申込①!I9","v":0},{"$f":"J4","v":0},{"$f":"申込①!$D$32","v":0},{"$f":"申込①!$K$33","v":0}]
[null,null,{"$f":"申込①!A13","v":4},{"$f":"IF(申込①!C14=\"\",\"-- --\",申込①!C14&\" \"&申込①!D14)","v":"-- --"},{"$f":"IF(申込①!C14=\"\",\"-- --\",申込①!C13&\" \"&申込①!D13)","v":"-- --"},{"$f":"申込①!$D$32","v":0},{"$f":"申込①!$H$32","v":0},{"$f":"申込①!$H$31","v":0},{"$f":"申込①!AN13","v":""},{"$f":"申込①!AO13","v":0},{"$f":"申込①!E13","v":0},null,{"$f":"申込①!I13","v":0},0,{"$f":"申込①!$D$32","v":0},{"$f":"申込①!$K$33","v":0}]
[null,null,{"$f":"申込①!A15","v":5},{"$f":"IF(申込①!C12=\"\",\"-- --\",申込①!C16&\" \"&申込①!D16)","v":" "},{"$f":"IF(申込①!C16=\"\",\"-- --\",申込①!C15&\" \"&申込①!D15)","v":"-- --"},{"$f":"申込①!$D$32","v":0},{"$f":"申込①!$H$32","v":0},{"$f":"申込①!$H$31","v":0},{"$f":"申込①!AN15","v":""},{"$f":"申込①!AO15","v":0},{"$f":"申込①!E15","v":0},null,{"$f":"申込①!I15","v":0},0,{"$f":"申込①!$D$32","v":0},{"$f":"申込①!$K$33","v":0}]
[null,null,{"$f":"申込①!A17","v":6},{"$f":"IF(申込①!C18=\"\",\"-- --\",申込①!C18&\" \"&申込①!D18)","v":"-- --"},{"$f":"IF(申込①!C18=\"\",\"-- --\",申込①!C17&\" \"&申込①!D17)","v":"-- --"},{"$f":"申込①!$D$32","v":0},{"$f":"申込①!$H$32","v":0},{"$f":"申込①!$H$31","v":0},{"$f":"申込①!AN17","v":""},{"$f":"申込①!AO17","v":0},{"$f":"申込①!E17","v":0},null,{"$f":"申込①!I17","v":0},0,{"$f":"申込①!$D$32","v":0},{"$f":"申込①!$K$33","v":0}]
[null,null,{"$f":"申込①!A19","v":7},{"$f":"IF(申込①!C20=\"\",\"-- --\",申込①!C20&\" \"&申込①!D20)","v":"-- --"},{"$f":"IF(申込①!C20=\"\",\"-- --\",申込①!C19&\" \"&申込①!D19)","v":"-- --"},{"$f":"申込①!$D$32","v":0},{"$f":"申込①!$H$32","v":0},{"$f":"申込①!$H$31","v":0},{"$f":"申込①!AN19","v":""},{"$f":"申込①!AO19","v":0},{"$f":"申込①!E19","v":0},null,{"$f":"申込①!I19","v":0},0,{"$f":"申込①!$D$32","v":0},{"$f":"申込①!$K$33","v":0}]
[null,null,{"$f":"申込①!A21","v":8},{"$f":"IF(申込①!C22=\"\",\"-- --\",申込①!C22&\" \"&申込①!D22)","v":"-- --"},{"$f":"IF(申込①!C22=\"\",\"-- --\",申込①!C21&\" \"&申込①!D21)","v":"-- --"},{"$f":"申込①!$D$32","v":0},{"$f":"申込①!$H$32","v":0},{"$f":"申込①!$H$31","v":0},{"$f":"申込①!AN21","v":""},{"$f":"申込①!AO21","v":0},{"$f":"申込①!E21","v":0},null,{"$f":"申込①!I21","v":0},0,{"$f":"申込①!$D$32","v":0},{"$f":"申込①!$K$33","v":0}]
[null,null,{"$f":"申込①!A23","v":9},{"$f":"IF(申込①!C24=\"\",\"-- --\",申込①!C24&\" \"&申込①!D24)","v":"-- --"},{"$f":"IF(申込①!C24=\"\",\"-- --\",申込①!C23&\" \"&申込①!D23)","v":"-- --"},{"$f":"申込①!$D$32","v":0},{"$f":"申込①!$H$32","v":0},{"$f":"申込①!$H$31","v":0},{"$f":"申込①!AN23","v":""},{"$f":"申込①!AO23","v":0},{"$f":"申込①!E23","v":0},null,{"$f":"申込①!I23","v":0},0,{"$f":"申込①!$D$32","v":0},{"$f":"申込①!$K$33","v":0}]
[null,null,{"$f":"申込①!A25","v":10},{"$f":"IF(申込①!C26=\"\",\"-- --\",申込①!C26&\" \"&申込①!D26)","v":"-- --"},{"$f":"IF(申込①!C26=\"\",\"-- --\",申込①!C25&\" \"&申込①!D25)","v":"-- --"},{"$f":"申込①!$D$32","v":0},{"$f":"申込①!$H$32","v":0},{"$f":"申込①!$H$31","v":0},{"$f":"申込①!AN25","v":""},{"$f":"申込①!AO25","v":0},{"$f":"申込①!E25","v":0},null,{"$f":"申込①!I25","v":0},0,{"$f":"申込①!$D$32","v":0},{"$f":"申込①!$K$33","v":0}]
[null,null,{"$f":"申込①!Q13","v":11},{"$f":"IF(申込①!S14=\"\",\"-- --\",申込①!S14&\" \"&申込①!T14)","v":"-- --"},{"$f":"IF(申込①!S14=\"\",\"-- --\",申込①!S13&\" \"&申込①!T13)","v":"-- --"},{"$f":"申込①!$D$32","v":0},{"$f":"申込①!$H$32","v":0},{"$f":"申込①!$H$31","v":0},{"$f":"申込①!AN28","v":""},{"$f":"申込①!AO28","v":0},{"$f":"申込①!U13","v":0},null,{"$f":"申込①!Y13","v":0},{"$f":"J12","v":0},{"$f":"申込①!$D$32","v":0},{"$f":"申込①!$K$33","v":0}]
[null,null,{"$f":"申込①!Q15","v":12},{"$f":"IF(申込①!S16=\"\",\"-- --\",申込①!S16&\" \"&申込①!T16)","v":"-- --"},{"$f":"IF(申込①!S16=\"\",\"-- --\",申込①!S15&\" \"&申込①!T15)","v":"-- --"},{"$f":"申込①!$D$32","v":0},{"$f":"申込①!$H$32","v":0},{"$f":"申込①!$H$31","v":0},{"$f":"申込①!AN30","v":""},{"$f":"申込①!AO30","v":0},{"$f":"申込①!U15","v":0},null,{"$f":"申込①!Y15","v":0},{"$f":"J13","v":0},{"$f":"申込①!$D$32","v":0},{"$f":"申込①!$K$33","v":0}]
[null,null,{"$f":"申込①!Q17","v":13},{"$f":"IF(申込①!S18=\"\",\"-- --\",申込①!S18&\" \"&申込①!T18)","v":"-- --"},{"$f":"IF(申込①!S18=\"\",\"-- --\",申込①!S17&\" \"&申込①!T17)","v":"-- --"},{"$f":"申込①!$D$32","v":0},{"$f":"申込①!$H$32","v":0},{"$f":"申込①!$H$31","v":0},{"$f":"申込①!AN32","v":""},{"$f":"申込①!AO32","v":0},{"$f":"申込①!U17","v":0},null,{"$f":"申込①!Y17","v":0},0,{"$f":"申込①!$D$32","v":0},{"$f":"申込①!$K$33","v":0}]
[null,null,{"$f":"申込①!Q19","v":14},{"$f":"IF(申込①!S20=\"\",\"-- --\",申込①!S20&\" \"&申込①!T20)","v":"-- --"},{"$f":"IF(申込①!S20=\"\",\"-- --\",申込①!S19&\" \"&申込①!T19)","v":"-- --"},{"$f":"申込①!$D$32","v":0},{"$f":"申込①!$H$32","v":0},{"$f":"申込①!$H$31","v":0},{"$f":"申込①!AN34","v":""},{"$f":"申込①!AO34","v":0},{"$f":"申込①!U19","v":0},null,{"$f":"申込①!Y19","v":0},0,{"$f":"申込①!$D$32","v":0},{"$f":"申込①!$K$33","v":0}]
[null,null,{"$f":"申込①!Q21","v":15},{"$f":"IF(申込①!S22=\"\",\"-- --\",申込①!S22&\" \"&申込①!T22)","v":"-- --"},{"$f":"IF(申込①!S22=\"\",\"-- --\",申込①!S21&\" \"&申込①!T21)","v":"-- --"},{"$f":"申込①!$D$32","v":0},{"$f":"申込①!$H$32","v":0},{"$f":"申込①!$H$31","v":0},{"$f":"申込①!AN36","v":""},{"$f":"申込①!AO36","v":0},{"$f":"申込①!U21","v":0},null,{"$f":"申込①!Y21","v":0},0,{"$f":"申込①!$D$32","v":0},{"$f":"申込①!$K$33","v":0}]
[null,null,{"$f":"申込①!Q23","v":16},{"$f":"IF(申込①!S24=\"\",\"-- --\",申込①!S24&\" \"&申込①!T24)","v":"-- --"},{"$f":"IF(申込①!S24=\"\",\"-- --\",申込①!S23&\" \"&申込①!T23)","v":"-- --"},{"$f":"申込①!$D$32","v":0},{"$f":"申込①!$H$32","v":0},{"$f":"申込①!$H$31","v":0},{"$f":"申込①!AN38","v":""},{"$f":"申込①!AO38","v":0},{"$f":"申込①!U23","v":0},null,{"$f":"申込①!Y23","v":0},0,{"$f":"申込①!$D$32","v":0},{"$f":"申込①!$K$33","v":0}]
[null,null,{"$f":"申込①!Q25","v":17},{"$f":"IF(申込①!S26=\"\",\"-- --\",申込①!S26&\" \"&申込①!T26)","v":"-- --"},{"$f":"IF(申込①!S26=\"\",\"-- --\",申込①!S25&\" \"&申込①!T25)","v":"-- --"},{"$f":"申込①!$D$32","v":0},{"$f":"申込①!$H$32","v":0},{"$f":"申込①!$H$31","v":0},{"$f":"申込①!AN40","v":""},{"$f":"申込①!AO40","v":0},{"$f":"申込①!U25","v":0},null,{"$f":"申込①!Y25","v":0},0,{"$f":"申込①!$D$32","v":0},{"$f":"申込①!$K$33","v":0}]
[null,null,{"$f":"申込②!A7","v":18},{"$f":"IF(申込②!C8=\"\",\"-- --\",申込②!C8&\" \"&申込②!D8)","v":"-- --"},{"$f":"IF(申込②!C8=\"\",\"-- --\",申込②!C7&\" \"&申込②!D7)","v":"-- --"},{"$f":"申込①!$D$32","v":0},{"$f":"申込①!$H$32","v":0},{"$f":"申込①!$H$31","v":0},{"$f":"申込②!AM7","v":""},{"$f":"申込②!AN7","v":0},{"$f":"申込②!E7","v":0},null,{"$f":"申込②!I7","v":0},{"$f":"J19","v":0},{"$f":"申込①!$D$32","v":0},{"$f":"申込①!$K$33","v":0}]
[null,null,{"$f":"申込②!A9","v":19},{"$f":"IF(申込②!C10=\"\",\"-- --\",申込②!C10&\" \"&申込②!D10)","v":"-- --"},{"$f":"IF(申込②!C10=\"\",\"-- --\",申込②!C9&\" \"&申込②!D9)","v":"-- --"},{"$f":"申込①!$D$32","v":0},{"$f":"申込①!$H$32","v":0},{"$f":"申込①!$H$31","v":0},{"$f":"申込②!AM9","v":""},{"$f":"申込②!AN9","v":0},{"$f":"申込②!E9","v":0},null,{"$f":"申込②!I9","v":0},{"$f":"J20","v":0},{"$f":"申込①!$D$32","v":0},{"$f":"申込①!$K$33","v":0}]
[null,null,{"$f":"申込②!A11","v":20},{"$f":"IF(申込②!C12=\"\",\"-- --\",申込②!C12&\" \"&申込②!D12)","v":"-- --"},{"$f":"IF(申込②!C12=\"\",\"-- --\",申込②!C11&\" \"&申込②!D11)","v":"-- --"},{"$f":"申込①!$D$32","v":0},{"$f":"申込①!$H$32","v":0},{"$f":"申込①!$H$31","v":0},{"$f":"申込②!AM11","v":""},{"$f":"申込②!AN11","v":0},{"$f":"申込②!E11","v":0},null,{"$f":"申込②!I11","v":0},0,{"$f":"申込①!$D$32","v":0},{"$f":"申込①!$K$33","v":0}]
[null,null,{"$f":"申込②!A13","v":21},{"$f":"IF(申込②!C14=\"\",\"-- --\",申込②!C14&\" \"&申込②!D14)","v":"-- --"},{"$f":"IF(申込②!C14=\"\",\"-- --\",申込②!C13&\" \"&申込②!D13)","v":"-- --"},{"$f":"申込①!$D$32","v":0},{"$f":"申込①!$H$32","v":0},{"$f":"申込①!$H$31","v":0},{"$f":"申込②!AM13","v":""},{"$f":"申込②!AN13","v":0},{"$f":"申込②!E13","v":0},null,{"$f":"申込②!I13","v":0},0,{"$f":"申込①!$D$32","v":0},{"$f":"申込①!$K$33","v":0}]
[null,null,{"$f":"申込②!A15","v":22},{"$f":"IF(申込②!C16=\"\",\"-- --\",申込②!C16&\" \"&申込②!D16)","v":"-- --"},{"$f":"IF(申込②!C16=\"\",\"-- --\",申込②!C15&\" \"&申込②!D15)","v":"-- --"},{"$f":"申込①!$D$32","v":0},{"$f":"申込①!$H$32","v":0},{"$f":"申込①!$H$31","v":0},{"$f":"申込②!AM15","v":""},{"$f":"申込②!AN15","v":0},{"$f":"申込②!E15","v":0},null,{"$f":"申込②!I15","v":0},0,{"$f":"申込①!$D$32","v":0},{"$f":"申込①!$K$33","v":0}]
[null,null,{"$f":"申込②!A17","v":23},{"$f":"IF(申込②!C18=\"\",\"-- --\",申込②!C18&\" \"&申込②!D18)","v":"-- --"},{"$f":"IF(申込②!C18=\"\",\"-- --\",申込②!C17&\" \"&申込②!D17)","v":"-- --"},{"$f":"申込①!$D$32","v":0},{"$f":"申込①!$H$32","v":0},{"$f":"申込①!$H$31","v":0},{"$f":"申込②!AM17","v":""},{"$f":"申込②!AN17","v":0},{"$f":"申込②!E17","v":0},null,{"$f":"申込②!I17","v":0},0,{"$f":"申込①!$D$32","v":0},{"$f":"申込①!$K$33","v":0}]
[null,null,{"$f":"申込②!A19","v":24},{"$f":"IF(申込②!C20=\"\",\"-- --\",申込②!C20&\" \"&申込②!D20)","v":"-- --"},{"$f":"IF(申込②!C20=\"\",\"-- --\",申込②!C19&\" \"&申込②!D19)","v":"-- --"},{"$f":"申込①!$D$32","v":0},{"$f":"申込①!$H$32","v":0},{"$f":"申込①!$H$31","v":0},{"$f":"申込②!AM19","v":""},{"$f":"申込②!AN19","v":0},{"$f":"申込②!E19","v":0},null,{"$f":"申込②!I19","v":0},0,{"$f":"申込①!$D$32","v":0},{"$f":"申込①!$K$33","v":0}]
[null,null,{"$f":"申込②!A21","v":25},{"$f":"IF(申込②!C22=\"\",\"-- --\",申込②!C22&\" \"&申込②!D22)","v":"-- --"},{"$f":"IF(申込②!C22=\"\",\"-- --\",申込②!C21&\" \"&申込②!D21)","v":"-- --"},{"$f":"申込①!$D$32","v":0},{"$f":"申込①!$H$32","v":0},{"$f":"申込①!$H$31","v":0},{"$f":"申込②!AM21","v":""},{"$f":"申込②!AN21","v":0},{"$f":"申込②!E21","v":0},null,{"$f":"申込②!I21","v":0},0,{"$f":"申込①!$D$32","v":0},{"$f":"申込①!$K$33","v":0}]
[null,null,{"$f":"申込②!A23","v":26},{"$f":"IF(申込②!C24=\"\",\"-- --\",申込②!C24&\" \"&申込②!D24)","v":"-- --"},{"$f":"IF(申込②!C24=\"\",\"-- --\",申込②!C23&\" \"&申込②!D23)","v":"-- --"},{"$f":"申込①!$D$32","v":0},{"$f":"申込①!$H$32","v":0},{"$f":"申込①!$H$31","v":0},{"$f":"申込②!AM23","v":""},{"$f":"申込②!AN23","v":0},{"$f":"申込②!E23","v":0},null,{"$f":"申込②!I23","v":0},0,{"$f":"申込①!$D$32","v":0},{"$f":"申込①!$K$33","v":0}]
[null,null,{"$f":"申込②!A25","v":27},{"$f":"IF(申込②!C26=\"\",\"-- --\",申込②!C26&\" \"&申込②!D26)","v":"-- --"},{"$f":"IF(申込②!C26=\"\",\"-- --\",申込②!C25&\" \"&申込②!D25)","v":"-- --"},{"$f":"申込①!$D$32","v":0},{"$f":"申込①!$H$32","v":0},{"$f":"申込①!$H$31","v":0},{"$f":"申込②!AM25","v":""},{"$f":"申込②!AN25","v":0},{"$f":"申込②!E25","v":0},null,{"$f":"申込②!I25","v":0},0,{"$f":"申込①!$D$32","v":0},{"$f":"申込①!$K$33","v":0}]
[null,null,{"$f":"申込②!Q7","v":28},{"$f":"IF(申込②!S8=\"\",\"-- --\",申込②!S8&\" \"&申込②!T8)","v":"-- --"},{"$f":"IF(申込②!S8=\"\",\"-- --\",申込②!S7&\" \"&申込②!T7)","v":"-- --"},{"$f":"申込①!$D$32","v":0},{"$f":"申込①!$H$32","v":0},{"$f":"申込①!$H$31","v":0},{"$f":"申込②!AM27","v":""},{"$f":"申込②!AN27","v":0},{"$f":"申込②!U7","v":0},null,{"$f":"申込②!Y7","v":0},0,{"$f":"申込①!$D$32","v":0},{"$f":"申込①!$K$33","v":0}]
[null,null,{"$f":"申込②!Q9","v":29},{"$f":"IF(申込②!S10=\"\",\"-- --\",申込②!S10&\" \"&申込②!T10)","v":"-- --"},{"$f":"IF(申込②!S10=\"\",\"-- --\",申込②!S9&\" \"&申込②!T9)","v":"-- --"},{"$f":"申込①!$D$32","v":0},{"$f":"申込①!$H$32","v":0},{"$f":"申込①!$H$31","v":0},{"$f":"申込②!AM29","v":""},{"$f":"申込②!AN29","v":0},{"$f":"申込②!U9","v":0},null,{"$f":"申込②!Y9","v":0},0,{"$f":"申込①!$D$32","v":0},{"$f":"申込①!$K$33","v":0}]
[null,null,{"$f":"申込②!Q11","v":30},{"$f":"IF(申込②!S12=\"\",\"-- --\",申込②!S12&\" \"&申込②!T12)","v":"-- --"},{"$f":"IF(申込②!S12=\"\",\"-- --\",申込②!S11&\" \"&申込②!T11)","v":"-- --"},{"$f":"申込①!$D$32","v":0},{"$f":"申込①!$H$32","v":0},{"$f":"申込①!$H$31","v":0},{"$f":"申込②!AM31","v":""},{"$f":"申込②!AN31","v":0},{"$f":"申込②!U11","v":0},null,{"$f":"申込②!Y11","v":0},0,{"$f":"申込①!$D$32","v":0},{"$f":"申込①!$K$33","v":0}]
[null,null,{"$f":"申込②!Q13","v":31},{"$f":"IF(申込②!S14=\"\",\"-- --\",申込②!S14&\" \"&申込②!T14)","v":"-- --"},{"$f":"IF(申込②!S14=\"\",\"-- --\",申込②!S13&\" \"&申込②!T13)","v":"-- --"},{"$f":"申込①!$D$32","v":0},{"$f":"申込①!$H$32","v":0},{"$f":"申込①!$H$31","v":0},{"$f":"申込②!AM33","v":""},{"$f":"申込②!AN33","v":0},{"$f":"申込②!U13","v":0},null,{"$f":"申込②!Y13","v":0},0,{"$f":"申込①!$D$32","v":0},{"$f":"申込①!$K$33","v":0}]
[null,null,{"$f":"申込②!Q15","v":32},{"$f":"IF(申込②!S16=\"\",\"-- --\",申込②!S16&\" \"&申込②!T16)","v":"-- --"},{"$f":"IF(申込②!S16=\"\",\"-- --\",申込②!S15&\" \"&申込②!T15)","v":"-- --"},{"$f":"申込①!$D$32","v":0},{"$f":"申込①!$H$32","v":0},{"$f":"申込①!$H$31","v":0},{"$f":"申込②!AM35","v":""},{"$f":"申込②!AN35","v":0},{"$f":"申込②!U15","v":0},null,{"$f":"申込②!Y15","v":0},0,{"$f":"申込①!$D$32","v":0},{"$f":"申込①!$K$33","v":0}]
[null,null,{"$f":"申込②!Q17","v":33},{"$f":"IF(申込②!S18=\"\",\"-- --\",申込②!S18&\" \"&申込②!T18)","v":"-- --"},{"$f":"IF(申込②!S18=\"\",\"-- --\",申込②!S17&\" \"&申込②!T17)","v":"-- --"},{"$f":"申込①!$D$32","v":0},{"$f":"申込①!$H$32","v":0},{"$f":"申込①!$H$31","v":0},{"$f":"申込②!AM37","v":""},{"$f":"申込②!AN37","v":0},{"$f":"申込②!U17","v":0},null,{"$f":"申込②!Y17","v":0},0,{"$f":"申込①!$D$32","v":0},{"$f":"申込①!$K$33","v":0}]
[null,null,{"$f":"申込②!Q19","v":34},{"$f":"IF(申込②!S20=\"\",\"-- --\",申込②!S20&\" \"&申込②!T20)","v":"-- --"},{"$f":"IF(申込②!S20=\"\",\"-- --\",申込②!S19&\" \"&申込②!T19)","v":"-- --"},{"$f":"申込①!$D$32","v":0},{"$f":"申込①!$H$32","v":0},{"$f":"申込①!$H$31","v":0},{"$f":"申込②!AM39","v":""},{"$f":"申込②!AN39","v":0},{"$f":"申込②!U19","v":0},null,{"$f":"申込②!Y19","v":0},0,{"$f":"申込①!$D$32","v":0},{"$f":"申込①!$K$33","v":0}]
[null,null,{"$f":"申込②!Q21","v":35},{"$f":"IF(申込②!S22=\"\",\"-- --\",申込②!S22&\" \"&申込②!T22)","v":"-- --"},{"$f":"IF(申込②!S22=\"\",\"-- --\",申込②!S21&\" \"&申込②!T21)","v":"-- --"},{"$f":"申込①!$D$32","v":0},{"$f":"申込①!$H$32","v":0},{"$f":"申込①!$H$31","v":0},{"$f":"申込②!AM41","v":""},{"$f":"申込②!AN41","v":0},{"$f":"申込②!U21","v":0},null,{"$f":"申込②!Y21","v":0},0,{"$f":"申込①!$D$32","v":0},{"$f":"申込①!$K$33","v":0}]
[null,null,{"$f":"申込②!Q23","v":36},{"$f":"IF(申込②!S24=\"\",\"-- --\",申込②!S24&\" \"&申込②!T24)","v":"-- --"},{"$f":"IF(申込②!S24=\"\",\"-- --\",申込②!S23&\" \"&申込②!T23)","v":"-- --"},{"$f":"申込①!$D$32","v":0},{"$f":"申込①!$H$32","v":0},{"$f":"申込①!$H$31","v":0},{"$f":"申込②!AM43","v":""},{"$f":"申込②!AN43","v":0},{"$f":"申込②!U23","v":0},null,{"$f":"申込②!Y23","v":0},0,{"$f":"申込①!$D$32","v":0},{"$f":"申込①!$K$33","v":0}]
[null,null,{"$f":"申込②!Q25","v":37},{"$f":"IF(申込②!S26=\"\",\"-- --\",申込②!S26&\" \"&申込②!T26)","v":"-- --"},{"$f":"IF(申込②!S26=\"\",\"-- --\",申込②!S25&\" \"&申込②!T25)","v":"-- --"},{"$f":"申込①!$D$32","v":0},{"$f":"申込①!$H$32","v":0},{"$f":"申込①!$H$31","v":0},{"$f":"申込②!AM45","v":""},{"$f":"申込②!AN45","v":0},{"$f":"申込②!U25","v":0},null,{"$f":"申込②!Y25","v":0},0,{"$f":"申込①!$D$32","v":0},{"$f":"申込①!$K$33","v":0}]
[]
[null,null,null,"名前","所属","都道府県"]
[null,"審判員",1,{"$f":"IF(申込①!$E$28=\"\",\"--  --\",申込①!$E$28)","v":"--  --"},{"$f":"申込①!$H$32","v":0},{"$f":"申込①!$D$32","v":0}]
[null,null,2,{"$f":"IF(申込①!$J$28=\"\",\"--  --\",申込①!$J$28)","v":"--  --"},{"$f":"申込①!$H$32","v":0},{"$f":"申込①!$D$32","v":0}]
[null,null,3,{"$f":"IF(申込①!$E$29=\"\",\"--  --\",申込①!$E$29)","v":"--  --"},{"$f":"申込①!$H$32","v":0},{"$f":"申込①!$D$32","v":0}]
[null,null,4,{"$f":"IF(申込①!$J$29=\"\",\"--  --\",申込①!$J$29)","v":"--  --"},{"$f":"申込①!$H$32","v":0},{"$f":"申込①!$D$32","v":0}]

{"sheet":"一覧","index":4,"n_rows":53,"n_cols":8,"rows_kept":53,"cut":false,"hidden":false,"merged":[[0,2,0,3],[5,6,5,7],[1,6,1,7],[46,0,49,0],[52,1,55,7],[51,1,51,2],[44,1,44,2]]}
[{"$f":"申込①!$D$32","v":0},null,{"$f":"申込①!$H$32","v":0},null,"略称",{"$f":"申込①!$K$33","v":0}]
[null," 以下のように登録しましたので，お知らせします",null,null,null,null,{"$f":"NOW()","v":"2024-10-18T05:47:59.820"}]
[null,null,"合宿参加者全員の名前がありますか？"]
[null,null,"保険の申込書を兼ねているので，生徒や指導者全員の名前が必要です"]
[]
[null,"No","名前","なまえ","学年","試合","階級"]
[null,{"$f":"List!C2","v":1},{"$f":"List!D2","v":"-- --"},{"$f":"List!E2","v":"-- --"},{"$f":"List!K2","v":0},{"$f":"IF(G7=\"\",\"\",\"〇\")","v":""},{"$f":"List!I2","v":""},{"$f":"List!J2","v":0}]
[null,{"$f":"List!C3","v":2},{"$f":"List!D3","v":"-- --"},{"$f":"List!E3","v":"-- --"},{"$f":"List!K3","v":0},{"$f":"IF(G8=\"\",\"\",\"〇\")","v":""},{"$f":"List!I3","v":""},{"$f":"List!J3","v":0}]
[null,{"$f":"List!C4","v":3},{"$f":"List!D4","v":"-- --"},{"$f":"List!E4","v":"-- --"},{"$f":"List!K4","v":0},"",{"$f":"List!I4","v":""},{"$f":"List!J4","v":0}]
[null,{"$f":"List!C5","v":4},{"$f":"List!D5","v":"-- --"},{"$f":"List!E5","v":"-- --"},{"$f":"List!K5","v":0},"",{"$f":"List!I5","v":""},{"$f":"List!J5","v":0}]
[null,{"$f":"List!C6","v":5},{"$f":"List!D6","v":" "},{"$f":"List!E6","v":"-- --"},{"$f":"List!K6","v":0},"",{"$f":"List!I6","v":""},{"$f":"List!J6","v":0}]
[null,{"$f":"List!C7","v":6},{"$f":"List!D7","v":"-- --"},{"$f":"List!E7","v":"-- --"},{"$f":"List!K7","v":0},"",{"$f":"List!I7","v":""},{"$f":"List!J7","v":0}]
[null,{"$f":"List!C8","v":7},{"$f":"List!D8","v":"-- --"},{"$f":"List!E8","v":"-- --"},{"$f":"List!K8","v":0},"",{"$f":"List!I8","v":""},{"$f":"List!J8","v":0}]
[null,{"$f":"List!C9","v":8},{"$f":"List!D9","v":"-- --"},{"$f":"List!E9","v":"-- --"},{"$f":"List!K9","v":0},"",{"$f":"List!I9","v":""},{"$f":"List!J9","v":0}]
[null,{"$f":"List!C10","v":9},{"$f":"List!D10","v":"-- --"},{"$f":"List!E10","v":"-- --"},{"$f":"List!K10","v":0},"",{"$f":"List!I10","v":""},{"$f":"List!J10","v":0}]
[null,{"$f":"List!C11","v":10},{"$f":"List!D11","v":"-- --"},{"$f":"List!E11","v":"-- --"},{"$f":"List!K11","v":0},"",{"$f":"List!I11","v":""},{"$f":"List!J11","v":0}]
[null,{"$f":"List!C12","v":11},{"$f":"List!D12","v":"-- --"},{"$f":"List!E12","v":"-- --"},{"$f":"List!K12","v":0},"",{"$f":"List!I12","v":""},{"$f":"List!J12","v":0}]
[null,{"$f":"List!C13","v":12},{"$f":"List!D13","v":"-- --"},{"$f":"List!E13","v":"-- --"},{"$f":"List!K13","v":0},"",{"$f":"List!I13","v":""},{"$f":"List!J13","v":0}]
[null,{"$f":"List!C14","v":13},{"$f":"List!D14","v":"-- --"},{"$f":"List!E14","v":"-- --"},{"$f":"List!K14","v":0},"",{"$f":"List!I14","v":""},{"$f":"List!J14","v":0}]
[null,{"$f":"List!C15","v":14},{"$f":"List!D15","v":"-- --"},{"$f":"List!E15","v":"-- --"},{"$f":"List!K15","v":0},"",{"$f":"List!I15","v":""},{"$f":"List!J15","v":0}]
[null,{"$f":"List!C16","v":15},{"$f":"List!D16","v":"-- --"},{"$f":"List!E16","v":"-- --"},{"$f":"List!K16","v":0},"",{"$f":"List!I16","v":""},{"$f":"List!J16","v":0}]
[null,{"$f":"List!C17","v":16},{"$f":"List!D17","v":"-- --"},{"$f":"List!E17","v":"-- --"},{"$f":"List!K17","v":0},"",{"$f":"List!I17","v":""},{"$f":"List!J17","v":0}]
[null,{"$f":"List!C18","v":17},{"$f":"List!D18","v":"-- --"},{"$f":"List!E18","v":"-- --"},{"$f":"List!K18","v":0},"",{"$f":"List!I18","v":""},{"$f":"List!J18","v":0}]
[null,{"$f":"List!C19","v":18},{"$f":"List!D19","v":"-- --"},{"$f":"List!E19","v":"-- --"},{"$f":"List!K19","v":0},"",{"$f":"List!I19","v":""},{"$f":"List!J19","v":0}]
[null,{"$f":"List!C20","v":19},{"$f":"List!D20","v":"-- --"},{"$f":"List!E20","v":"-- --"},{"$f":"List!K20","v":0},"",{"$f":"List!I20","v":""},{"$f":"List!J20","v":0}]
[null,{"$f":"List!C21","v":20},{"$f":"List!D21","v":"-- --"},{"$f":"List!E21","v":"-- --"},{"$f":"List!K21","v":0},"",{"$f":"List!I21","v":""},{"$f":"List!J21","v":0}]
[null,{"$f":"List!C22","v":21},{"$f":"List!D22","v":"-- --"},{"$f":"List!E22","v":"-- --"},{"$f":"List!K22","v":0},"",{"$f":"List!I22","v":""},{"$f":"List!J22","v":0}]
[null,{"$f":"List!C23","v":22},{"$f":"List!D23","v":"-- --"},{"$f":"List!E23","v":"-- --"},{"$f":"List!K23","v":0},"",{"$f":"List!I23","v":""},{"$f":"List!J23","v":0}]
[null,{"$f":"List!C24","v":23},{"$f":"List!D24","v":"-- --"},{"$f":"List!E24","v":"-- --"},{"$f":"List!K24","v":0},"",{"$f":"List!I24","v":""},{"$f":"List!J24","v":0}]
[null,{"$f":"List!C25","v":24},{"$f":"List!D25","v":"-- --"},{"$f":"List!E25","v":"-- --"},{"$f":"List!K25","v":0},"",{"$f":"List!I25","v":""},{"$f":"List!J25","v":0}]
[null,{"$f":"List!C26","v":25},{"$f":"List!D26","v":"-- --"},{"$f":"List!E26","v":"-- --"},{"$f":"List!K26","v":0},"",{"$f":"List!I26","v":""},{"$f":"List!J26","v":0}]
[null,{"$f":"List!C27","v":26},{"$f":"List!D27","v":"-- --"},{"$f":"List!E27","v":"-- --"},{"$f":"List!K27","v":0},"",{"$f":"List!I27","v":""},{"$f":"List!J27","v":0}]
[null,{"$f":"List!C28","v":27},{"$f":"List!D28","v":"-- --"},{"$f":"List!E28","v":"-- --"},{"$f":"List!K28","v":0},"",{"$f":"List!I28","v":""},{"$f":"List!J28","v":0}]
[null,{"$f":"List!C29","v":28},{"$f":"List!D29","v":"-- --"},{"$f":"List!E29","v":"-- --"},{"$f":"List!K29","v":0},"",{"$f":"List!I29","v":""},{"$f":"List!J29","v":0}]
[null,{"$f":"List!C30","v":29},{"$f":"List!D30","v":"-- --"},{"$f":"List!E30","v":"-- --"},{"$f":"List!K30","v":0},"",{"$f":"List!I30","v":""},{"$f":"List!J30","v":0}]
[null,{"$f":"List!C31","v":30},{"$f":"List!D31","v":"-- --"},{"$f":"List!E31","v":"-- --"},{"$f":"List!K31","v":0},"",{"$f":"List!I31","v":""},{"$f":"List!J31","v":0}]
[null,{"$f":"List!C32","v":31},{"$f":"List!D32","v":"-- --"},{"$f":"List!E32","v":"-- --"},{"$f":"List!K32","v":0},"",{"$f":"List!I32","v":""},{"$f":"List!J32","v":0}]
[null,{"$f":"List!C33","v":32},{"$f":"List!D33","v":"-- --"},{"$f":"List!E33","v":"-- --"},{"$f":"List!K33","v":0},"",{"$f":"List!I33","v":""},{"$f":"List!J33","v":0}]
[null,{"$f":"List!C34","v":33},{"$f":"List!D34","v":"-- --"},{"$f":"List!E34","v":"-- --"},{"$f":"List!K34","v":0},"",{"$f":"List!I34","v":""},{"$f":"List!J34","v":0}]
[null,{"$f":"List!C35","v":34},{"$f":"List!D35","v":"-- --"},{"$f":"List!E35","v":"-- --"},{"$f":"List!K35","v":0},"",{"$f":"List!I35","v":""},{"$f":"List!J35","v":0}]
[null,{"$f":"List!C36","v":35},{"$f":"List!D36","v":"-- --"},{"$f":"List!E36","v":"-- --"},{"$f":"List!K36","v":0},"",{"$f":"List!I36","v":""},{"$f":"List!J36","v":0}]
[null,{"$f":"List!C37","v":36},{"$f":"List!D37","v":"-- --"},{"$f":"List!E37","v":"-- --"},{"$f":"List!K37","v":0},"",{"$f":"List!I37","v":""},{"$f":"List!J37","v":0}]
[null,{"$f":"List!C38","v":37},{"$f":"List!D38","v":"-- --"},{"$f":"List!E38","v":"-- --"},{"$f":"List!K38","v":0},"",{"$f":"List!I38","v":""},{"$f":"List!J38","v":0}]
[]
[null,"審判員"]
[null,null,"名前","所属","都道府県"]
[null,1,{"$f":"IF(申込①!$E$28=\"\",\"--  --\",申込①!$E$28)","v":"--  --"},{"$f":"申込①!$H$32","v":0},{"$f":"申込①!$D$32","v":0}]
[null,2,{"$f":"IF(申込①!$J$28=\"\",\"--  --\",申込①!$J$28)","v":"--  --"},{"$f":"申込①!$H$32","v":0},{"$f":"申込①!$D$32","v":0}]
[null,3,{"$f":"IF(申込①!$E$29=\"\",\"--  --\",申込①!$E$29)","v":"--  --"},{"$f":"申込①!$H$32","v":0},{"$f":"申込①!$D$32","v":0}]
[null,4,{"$f":"IF(申込①!$J$29=\"\",\"--  --\",申込①!$J$29)","v":"--  --"},{"$f":"申込①!$H$32","v":0},{"$f":"申込①!$D$32","v":0}]
[]
[null,"備考"]
[null,{"$f":"IF(申込①!T32=0,\"な　し\",\"\")","v":"な　し"}]