{"text_format":"1","workbook":"xlsx","n_sheets":11,"sheets":["XXXXXX","入力シート","参加申込A","参加申込B－１","参加申込B－２","参加申込B－３","各校顧問提出２","登録申請書","学校名入力_20250603","データ（削除しないで）","memo"],"not_rendered":{"charts":0,"images":0,"macros":1,"external_links":0,"defined_names":50,"comments":0,"pivot_tables":0},"unopened":[],"bounds":{"document_bytes":16777216,"sheet_cells":100000,"rows_first":2000,"rows_last":500,"rows_between":2000,"halvings":0,"cell_chars":16384,"cell_head_chars":4096},"cells_cut":0,"cells_raw":0,"read":"whole","date_system":"1900"}

{"sheet":"XXXXXX","index":0,"n_rows":0,"n_cols":0,"rows_kept":0,"cut":false,"hidden":true,"merged":[]}

{"sheet":"入力シート","index":1,"n_rows":338,"n_cols":23,"rows_kept":338,"cut":false,"hidden":false,"merged":[[45,12,45,13],[65,6,65,7],[65,8,65,9],[66,6,66,7],[66,8,66,9],[67,6,67,7],[67,8,67,9],[68,6,68,7],[68,8,68,9],[55,6,55,7],[55,8,55,9],[56,6,56,7],[56,8,56,9],[57,6,57,7],[57,8,57,9],[58,6,58,7],[58,8,58,9],[59,6,59,7],[59,8,59,9],[50,6,50,7],[50,8,50,9],[51,6,51,7],[51,8,51,9],[52,6,52,7],[69,6,69,7],[69,8,69,9],[60,6,60,7],[60,8,60,9],[61,6,61,7],[61,8,61,9],[62,6,62,7],[62,8,62,9],[63,6,63,7],[63,8,63,9],[64,6,64,7],[64,8,64,9],[52,8,52,9],[53,6,53,7],[53,8,53,9],[54,6,54,7],[54,8,54,9],[45,3,45,5],[46,6,46,7],[47,6,47,7],[48,6,48,7],[46,8,46,9],[47,8,47,9],[48,8,48,9],[49,6,49,7],[49,8,49,9],[44,3,44,4],[29,2,29,10],[11,1,13,10],[16,2,16,3],[35,9,35,10],[27,2,27,3],[28,2,28,10],[40,8,40,9],[42,3,42,4],[42,6,42,7],[42,8,42,9],[40,10,40,11],[42,10,42,11],[31,2,31,4],[38,2,38,4],[40,3,40,4],[40,6,40,7],[25,2,25,4],[67,2,69,2],[46,4,46,5],[47,4,47,5],[48,4,48,5],[49,4,49,5],[50,4,50,5],[51,4,51,5],[52,4,52,5],[53,4,53,5],[54,4,54,5],[55,4,55,5],[56,4,56,5],[57,4,57,5],[46,2,48,2],[49,2,51,2],[52,2,54,2],[55,2,57,2],[58,2,60,2],[1,1,1,2],[1,3,1,22],[64,10,64,11],[65,10,65,11],[66,10,66,11],[67,10,67,11],[68,10,68,11],[59,10,59,11],[60,10,60,11],[61,10,61,11],[62,10,62,11],[63,10,63,11],[45,10,45,11],[46,10,46,11],[47,10,47,11],[48,10,48,11],[49,10,49,11],[50,10,50,11],[51,10,51,11],[52,10,52,11],[53,10,53,11],[54,10,54,11],[55,10,55,11],[56,10,56,11],[88,2,88,4],[90,2,90,4],[92,2,92,4],[74,8,74,9],[69,10,69,11],[25,13,25,15],[24,13,24,15],[57,10,57,11],[58,10,58,11],[68,4,68,5],[69,4,69,5],[45,7,45,8],[63,4,63,5],[64,4,64,5],[65,4,65,5],[66,4,66,5],[67,4,67,5],[58,4,58,5],[59,4,59,5],[60,4,60,5],[61,4,61,5],[62,4,62,5],[61,2,63,2],[64,2,66,2],[99,2,101,2],[99,4,99,5],[99,10,99,11],[100,4,100,5],[100,10,100,11],[101,4,101,5],[101,10,101,11],[95,7,95,8],[95,10,95,11],[96,2,98,2],[96,4,96,5],[96,10,96,11],[97,4,97,5],[97,10,97,11],[98,4,98,5],[98,10,98,11],[100,6,100,7],[100,8,100,9],[101,6,101,7],[101,8,101,9],[105,2,107,2],[105,4,105,5],[105,10,105,11],[106,4,106,5],[106,10,106,11],[107,4,107,5],[107,10,107,11],[102,2,104,2],[102,4,102,5],[102,10,102,11],[103,4,103,5],[103,10,103,11],[104,4,104,5],[104,10,104,11],[102,6,102,7],[102,8,102,9],[103,6,103,7],[103,8,103,9],[104,6,104,7],[104,8,104,9],[105,6,105,7],[105,8,105,9],[106,6,106,7],[106,8,106,9],[111,2,113,2],[111,4,111,5],[111,10,111,11],[112,4,112,5],[112,10,112,11],[113,4,113,5],[113,10,113,11],[108,2,110,2],[108,4,108,5],[108,10,108,11],[109,4,109,5],[109,10,109,11],[110,4,110,5],[110,10,110,11],[112,6,112,7],[112,8,112,9],[113,6,113,7],[113,8,113,9],[117,2,119,2],[117,4,117,5],[117,10,117,11],[118,4,118,5],[118,10,118,11],[119,4,119,5],[119,10,119,11],[114,2,116,2],[114,4,114,5],[114,10,114,11],[115,4,115,5],[115,10,115,11],[116,4,116,5],[116,10,116,11],[114,6,114,7],[114,8,114,9],[115,6,115,7],[115,8,115,9],[116,6,116,7],[116,8,116,9],[117,6,117,7],[117,8,117,9],[118,6,118,7],[118,8,118,9],[132,3,132,4],[132,6,132,7],[132,8,132,9],[132,10,132,11],[129,0,132,0],[125,9,125,10],[130,3,130,4],[130,6,130,7],[130,8,130,9],[130,10,130,11],[133,0,136,0],[134,3,134,4],[134,6,134,7],[134,8,134,9],[134,10,134,11],[136,3,136,4],[136,6,136,7],[136,8,136,9],[136,10,136,11],[137,0,140,0],[138,3,138,4],[138,6,138,7],[138,8,138,9],[138,10,138,11],[140,3,140,4],[140,6,140,7],[140,8,140,9],[140,10,140,11],[141,0,144,0],[142,3,142,4],[142,6,142,7],[142,8,142,9],[142,10,142,11],[144,3,144,4],[144,6,144,7],[144,8,144,9],[144,10,144,11],[145,0,148,0],[146,3,146,4],[146,6,146,7],[146,8,146,9],[146,10,146,11],[148,3,148,4],[148,6,148,7],[148,8,148,9],[148,10,148,11],[149,0,152,0],[150,3,150,4],[150,6,150,7],[150,8,150,9],[150,10,150,11],[152,3,152,4],[152,6,152,7],[152,8,152,9],[152,10,152,11],[153,0,156,0],[154,3,154,4],[154,6,154,7],[154,8,154,9],[154,10,154,11],[156,3,156,4],[156,6,156,7],[156,8,156,9],[156,10,156,11],[157,0,160,0],[158,3,158,4],[158,6,158,7],[158,8,158,9],[158,10,158,11],[160,3,160,4],[160,6,160,7],[160,8,160,9],[160,10,160,11],[169,0,172,0],[170,3,170,4],[170,6,170,7],[170,8,170,9],[170,10,170,11],[172,3,172,4],[172,6,172,7],[172,8,172,9],[172,10,172,11],[173,0,176,0],[174,3,174,4],[174,6,174,7],[174,8,174,9],[174,10,174,11],[176,3,176,4],[176,6,176,7],[176,8,176,9],[176,10,176,11],[177,0,180,0],[178,3,178,4],[178,6,178,7],[178,8,178,9],[178,10,178,11],[180,3,180,4],[180,6,180,7],[180,8,180,9],[180,10,180,11],[181,0,184,0],[182,3,182,4],[182,6,182,7],[182,8,182,9],[182,10,182,11],[184,3,184,4],[184,6,184,7],[184,8,184,9],[184,10,184,11],[190,10,190,11],[192,3,192,4],[192,6,192,7],[192,8,192,9],[192,10,192,11],[185,0,188,0],[186,3,186,4],[186,6,186,7],[186,8,186,9],[186,10,186,11],[188,3,188,4],[188,6,188,7],[188,8,188,9],[188,10,188,11],[164,9,164,10],[203,9,203,10],[197,0,200,0],[198,3,198,4],[198,6,198,7],[198,8,198,9],[198,10,198,11],[200,3,200,4],[200,6,200,7],[200,8,200,9],[200,10,200,11],[193,0,196,0],[194,3,194,4],[194,6,194,7],[194,8,194,9],[194,10,194,11],[196,3,196,4],[196,6,196,7],[196,8,196,9],[196,10,196,11],[189,0,192,0],[190,3,190,4],[190,6,190,7],[190,8,190,9],[95,12,95,13],[96,6,96,7],[96,8,96,9],[97,6,97,7],[97,8,97,9],[98,6,98,7],[98,8,98,9],[99,6,99,7],[99,8,99,9],[119,6,119,7],[119,8,119,9],[95,3,95,5],[107,6,107,7],[107,8,107,9],[108,6,108,7],[108,8,108,9],[109,6,109,7],[109,8,109,9],[110,6,110,7],[110,8,110,9],[111,6,111,7],[111,8,111,9]]}
[]
[null,"大会名：",null,"第４１回　全国高校生グレコローマンレスリング選手権大会"]
[]
[]
[null,"各　都道府県　専門委員長 の先生"]
[null,"各　都道府県　参加校の先生",null,null,"にお願いします"]
[]
[null,null,null,"は，選択してください"]
[null,null,null,"は，入力をしてください"]
[]
["◎","みなさんにお願いします"]
[null,"手順に従って、入力してください",null,null,null,null,null,null,null,null,null,null,null,"県番号一覧"]
[null,null,null,null,null,null,null,null,null,null,null,null,null,"北海道",1,"埼玉県",11,"静岡県",21,"鳥取県",31,"佐賀県",41]
[null,null,null,null,null,null,null,null,null,null,null,null,null,"青森県",2,"千葉県",12,"愛知県",22,"島根県",32,"長崎県",42]
[null,null,null,null,null,null,null,null,null,null,null,null,null,"岩手県",3,"東京都",13,"三重県",23,"岡山県",33,"熊本県",43]
[null,null,"所属する都道府県を選んでください",null,null,null,null,null,null,null,null,null,null,"宮城県",4,"神奈川県",14,"岐阜県",24,"広島県",34,"大分県",44]
[null,null,"(選択)",null,null,{"$f":"VLOOKUP(C17,$A$291:$B$340,2,FALSE)","v":0},null,null,null,null,null,null,null,"秋田県",5,"山梨県",15,"滋賀県",25,"山口県",35,"宮崎県",45]
[null,null,"↑ セルをクリックすると，右に▼が出てきます",null,null,null,null,null,null,null,null,null,null,"山形県",6,"新潟県",16,"京都府",26,"香川県",36,"鹿児島県",46]
[null,null,"　　それをクリックすると，都道府県が出てきて（選択）できます",null,null,null,null,null,null,null,null,null,null,"福島県",7,"長野県",17,"大阪府",27,"徳島県",37,"沖縄県",47]
[null,null,null,null,null,null,null,null,null,null,null,null,null,"茨城県",8,"富山県",18,"兵庫県",28,"愛媛県",38]
[null,null,null,null,null,null,null,null,null,null,null,null,null,"栃木県",9,"石川県",19,"奈良県",29,"高知県",39]
[null,null,null,null,null,null,null,null,null,null,null,null,null,"群馬県",10,"福井県",20,"和歌山県",30,"福岡県",40]
[]
[null,"① 所属校，専門委員長ともに学校関係を入力，選択をしてください"]
[null,"　・学校名を選択してください",null,null,null,null,null,null,null,null,null,null,null,{"$f":"VLOOKUP(C26,学校名入力_20250603!$E:$J,3,FALSE)","v":{"$error":"#N/A"}}]
[null,null,null,null,null,null,null,null,null,null,null,null,null,{"$f":"VLOOKUP(C26,学校名入力_20250603!$E:$J,4,FALSE)","v":{"$error":"#N/A"}},null,null,null,{"$f":"VLOOKUP(C26,学校名入力_20250603!$E:$J,2,FALSE)","v":{"$error":"#N/A"}}]
[null,"　・郵便番号を半角数字のみで入力してください"]
[]
[]
[]
[null,"　・学校の代表番号"]
[]
[]
[]
["◎","全国グレコ大会出場選手の所属校の先生へ"]
[null,"出場選手選手のいない専門委員長の先生は，⇒",null,null,null,null,null,null,null,"専門委員長",null,"へ"]
[]
[null,"　・校長名"]
[]
[null,"　・監督",null,null,null,null,null,null,null,null,"JWF25-"]
[null,null,"苗字",null,null,"名前",null,null,"協会番号",null,null,null,null,{"$f":"C26","v":0}]
[null,"　・コーチ",null,null,null,null,null,null,null,null,{"$f":"$K$40","v":"JWF25-"}]
[null,null,"苗字",null,null,"名前",null,null,"協会番号"]
[]
[]
[null,"　・出場選手",null,"高体連登録番号",null,null,null,"選手名",null,null,"段位番号",null,"協会番号"]
[null,null,51,1,null,null,{"$f":"IFERROR(VLOOKUP(E47,登録申請書!$A:$R,3,FALSE),\"\")","v":""},null,{"$f":"IFERROR(VLOOKUP(E47,登録申請書!$A:$R,4,FALSE),\"\")","v":""},null,null,null,{"$f":"IF(E47=\"\",\"\",\"JWF\")","v":""},{"$f":"IFERROR(VLOOKUP(E47,登録申請書!$A:$R,18,FALSE),\"\")","v":""}]
[null,null,null,2,null,null,{"$f":"IFERROR(VLOOKUP(E48,登録申請書!$A:$R,3,FALSE),\"\")","v":""},null,{"$f":"IFERROR(VLOOKUP(E48,登録申請書!$A:$R,4,FALSE),\"\")","v":""},null,null,null,{"$f":"IF(E48=\"\",\"\",\"JWF\")","v":""},{"$f":"IFERROR(VLOOKUP(E48,登録申請書!$A:$R,18,FALSE),\"\")","v":""}]
[null,null,null,3,null,null,{"$f":"IFERROR(VLOOKUP(E49,登録申請書!$A:$R,3,FALSE),\"\")","v":""},null,{"$f":"IFERROR(VLOOKUP(E49,登録申請書!$A:$R,4,FALSE),\"\")","v":""},null,null,null,{"$f":"IF(E49=\"\",\"\",\"JWF\")","v":""},{"$f":"IFERROR(VLOOKUP(E49,登録申請書!$A:$R,18,FALSE),\"\")","v":""}]
[null,null,55,1,null,null,{"$f":"IFERROR(VLOOKUP(E50,登録申請書!$A:$R,3,FALSE),\"\")","v":""},null,{"$f":"IFERROR(VLOOKUP(E50,登録申請書!$A:$R,4,FALSE),\"\")","v":""},null,null,null,"",{"$f":"IFERROR(VLOOKUP(E50,登録申請書!$A:$R,18,FALSE),\"\")","v":""}]
[null,null,null,2,null,null,{"$f":"IFERROR(VLOOKUP(E51,登録申請書!$A:$R,3,FALSE),\"\")","v":""},null,{"$f":"IFERROR(VLOOKUP(E51,登録申請書!$A:$R,4,FALSE),\"\")","v":""},null,null,null,"",{"$f":"IFERROR(VLOOKUP(E51,登録申請書!$A:$R,18,FALSE),\"\")","v":""}]
[null,null,null,3,null,null,{"$f":"IFERROR(VLOOKUP(E52,登録申請書!$A:$R,3,FALSE),\"\")","v":""},null,{"$f":"IFERROR(VLOOKUP(E52,登録申請書!$A:$R,4,FALSE),\"\")","v":""},null,null,null,"",{"$f":"IFERROR(VLOOKUP(E52,登録申請書!$A:$R,18,FALSE),\"\")","v":""}]
[null,null,60,1,null,null,{"$f":"IFERROR(VLOOKUP(E53,登録申請書!$A:$R,3,FALSE),\"\")","v":""},null,{"$f":"IFERROR(VLOOKUP(E53,登録申請書!$A:$R,4,FALSE),\"\")","v":""},null,null,null,"",{"$f":"IFERROR(VLOOKUP(E53,登録申請書!$A:$R,18,FALSE),\"\")","v":""}]
[null,null,null,2,null,null,{"$f":"IFERROR(VLOOKUP(E54,登録申請書!$A:$R,3,FALSE),\"\")","v":""},null,{"$f":"IFERROR(VLOOKUP(E54,登録申請書!$A:$R,4,FALSE),\"\")","v":""},null,null,null,"",{"$f":"IFERROR(VLOOKUP(E54,登録申請書!$A:$R,18,FALSE),\"\")","v":""}]
[null,null,null,3,null,null,{"$f":"IFERROR(VLOOKUP(E55,登録申請書!$A:$R,3,FALSE),\"\")","v":""},null,{"$f":"IFERROR(VLOOKUP(E55,登録申請書!$A:$R,4,FALSE),\"\")","v":""},null,null,null,"",{"$f":"IFERROR(VLOOKUP(E55,登録申請書!$A:$R,18,FALSE),\"\")","v":""}]
[null,null,65,1,null,null,{"$f":"IFERROR(VLOOKUP(E56,登録申請書!$A:$R,3,FALSE),\"\")","v":""},null,{"$f":"IFERROR(VLOOKUP(E56,登録申請書!$A:$R,4,FALSE),\"\")","v":""},null,null,null,"",{"$f":"IFERROR(VLOOKUP(E56,登録申請書!$A:$R,18,FALSE),\"\")","v":""}]
[null,null,null,2,null,null,{"$f":"IFERROR(VLOOKUP(E57,登録申請書!$A:$R,3,FALSE),\"\")","v":""},null,{"$f":"IFERROR(VLOOKUP(E57,登録申請書!$A:$R,4,FALSE),\"\")","v":""},null,null,null,"",{"$f":"IFERROR(VLOOKUP(E57,登録申請書!$A:$R,18,FALSE),\"\")","v":""}]
[null,null,null,3,null,null,{"$f":"IFERROR(VLOOKUP(E58,登録申請書!$A:$R,3,FALSE),\"\")","v":""},null,{"$f":"IFERROR(VLOOKUP(E58,登録申請書!$A:$R,4,FALSE),\"\")","v":""},null,null,null,"",{"$f":"IFERROR(VLOOKUP(E58,登録申請書!$A:$R,18,FALSE),\"\")","v":""}]
[null,null,71,1,null,null,{"$f":"IFERROR(VLOOKUP(E59,登録申請書!$A:$R,3,FALSE),\"\")","v":""},null,{"$f":"IFERROR(VLOOKUP(E59,登録申請書!$A:$R,4,FALSE),\"\")","v":""},null,null,null,"",{"$f":"IFERROR(VLOOKUP(E59,登録申請書!$A:$R,18,FALSE),\"\")","v":""}]
[null,null,null,2,null,null,{"$f":"IFERROR(VLOOKUP(E60,登録申請書!$A:$R,3,FALSE),\"\")","v":""},null,{"$f":"IFERROR(VLOOKUP(E60,登録申請書!$A:$R,4,FALSE),\"\")","v":""},null,null,null,"",{"$f":"IFERROR(VLOOKUP(E60,登録申請書!$A:$R,18,FALSE),\"\")","v":""}]
[null,null,null,3,null,null,{"$f":"IFERROR(VLOOKUP(E61,登録申請書!$A:$R,3,FALSE),\"\")","v":""},null,{"$f":"IFERROR(VLOOKUP(E61,登録申請書!$A:$R,4,FALSE),\"\")","v":""},null,null,null,"",{"$f":"IFERROR(VLOOKUP(E61,登録申請書!$A:$R,18,FALSE),\"\")","v":""}]
[null,null,80,1,null,null,{"$f":"IFERROR(VLOOKUP(E62,登録申請書!$A:$R,3,FALSE),\"\")","v":""},null,{"$f":"IFERROR(VLOOKUP(E62,登録申請書!$A:$R,4,FALSE),\"\")","v":""},null,null,null,"",{"$f":"IFERROR(VLOOKUP(E62,登録申請書!$A:$R,18,FALSE),\"\")","v":""}]
[null,null,null,2,null,null,{"$f":"IFERROR(VLOOKUP(E63,登録申請書!$A:$R,3,FALSE),\"\")","v":""},null,{"$f":"IFERROR(VLOOKUP(E63,登録申請書!$A:$R,4,FALSE),\"\")","v":""},null,null,null,"",{"$f":"IFERROR(VLOOKUP(E63,登録申請書!$A:$R,18,FALSE),\"\")","v":""}]
[null,null,null,3,null,null,{"$f":"IFERROR(VLOOKUP(E64,登録申請書!$A:$R,3,FALSE),\"\")","v":""},null,{"$f":"IFERROR(VLOOKUP(E64,登録申請書!$A:$R,4,FALSE),\"\")","v":""},null,null,null,"",{"$f":"IFERROR(VLOOKUP(E64,登録申請書!$A:$R,18,FALSE),\"\")","v":""}]
[null,null,92,1,null,null,{"$f":"IFERROR(VLOOKUP(E65,登録申請書!$A:$R,3,FALSE),\"\")","v":""},null,{"$f":"IFERROR(VLOOKUP(E65,登録申請書!$A:$R,4,FALSE),\"\")","v":""},null,null,null,"",{"$f":"IFERROR(VLOOKUP(E65,登録申請書!$A:$R,18,FALSE),\"\")","v":""}]
[null,null,null,2,null,null,{"$f":"IFERROR(VLOOKUP(E66,登録申請書!$A:$R,3,FALSE),\"\")","v":""},null,{"$f":"IFERROR(VLOOKUP(E66,登録申請書!$A:$R,4,FALSE),\"\")","v":""},null,null,null,"",{"$f":"IFERROR(VLOOKUP(E66,登録申請書!$A:$R,18,FALSE),\"\")","v":""}]
[null,null,null,3,null,null,{"$f":"IFERROR(VLOOKUP(E67,登録申請書!$A:$R,3,FALSE),\"\")","v":""},null,{"$f":"IFERROR(VLOOKUP(E67,登録申請書!$A:$R,4,FALSE),\"\")","v":""},null,null,null,"",{"$f":"IFERROR(VLOOKUP(E67,登録申請書!$A:$R,18,FALSE),\"\")","v":""}]
[null,null,125,1,null,null,{"$f":"IFERROR(VLOOKUP(E68,登録申請書!$A:$R,3,FALSE),\"\")","v":""},null,{"$f":"IFERROR(VLOOKUP(E68,登録申請書!$A:$R,4,FALSE),\"\")","v":""},null,null,null,"",{"$f":"IFERROR(VLOOKUP(E68,登録申請書!$A:$R,18,FALSE),\"\")","v":""}]
[null,null,null,2,null,null,{"$f":"IFERROR(VLOOKUP(E69,登録申請書!$A:$R,3,FALSE),\"\")","v":""},null,{"$f":"IFERROR(VLOOKUP(E69,登録申請書!$A:$R,4,FALSE),\"\")","v":""},null,null,null,"",{"$f":"IFERROR(VLOOKUP(E69,登録申請書!$A:$R,18,FALSE),\"\")","v":""}]
[null,null,null,3,null,null,{"$f":"IFERROR(VLOOKUP(E70,登録申請書!$A:$R,3,FALSE),\"\")","v":""},null,{"$f":"IFERROR(VLOOKUP(E70,登録申請書!$A:$R,4,FALSE),\"\")","v":""},null,null,null,"",{"$f":"IFERROR(VLOOKUP(E70,登録申請書!$A:$R,18,FALSE),\"\")","v":""}]
[]
[null,"　・申込作成日を入力してください"]
[null,null,"令和７年",null,null,"　月　",null,"　日"]
[]
[null,"② 印刷をします",null,null,"印刷シートへ 移動します ⇒",null,null,null,"印刷シート"]
[]
[null,null,"印刷シートに移動したら，　印刷をして校長印を押してください"]
[]
[]
[null,null,"このエクセルファイルと校長印を押した参加申込Ａ"]
[null,null,"  を専門委員長に送ってください"]
[null,null,"（注意）　シートは削除せずに（特にデータ（削除しないで）シート）"]
[null,null,"　　　　　　送ってください"]
[]
["◎","専門委員長の先生へ"]
[null,"（出場選手選手がいる場合は，そのまま引き続き入力してください）"]
[]
[null,"　・専門委員長名"]
[]
[null,"　・メールアドレス（確認用です 連絡の取れるものを）"]
[]
[null,"　・携帯番号（確認用です 連絡の取れるものを）"]
[]
[]
[]
[null,"　・出場選手",null,"高体連登録番号",null,null,null,"選手名",null,null,"学校名",null,"協会番号"]
[null,null,51,1,null,null,{"$f":"IFERROR(VLOOKUP(E97,登録申請書!$A:$R,3,FALSE),\"\")","v":""},null,{"$f":"IFERROR(VLOOKUP(E97,登録申請書!$A:$R,4,FALSE),\"\")","v":""},null,{"$f":"IFERROR(VLOOKUP(E97,登録申請書!$A:$R,11,FALSE),\"\")","v":""},null,{"$f":"IF(E97=\"\",\"\",\"JWF\")","v":""},{"$f":"IFERROR(VLOOKUP(E97,登録申請書!$A:$R,18,FALSE),\"\")","v":""}]
[null,null,null,2,null,null,{"$f":"IFERROR(VLOOKUP(E98,登録申請書!$A:$R,3,FALSE),\"\")","v":""},null,{"$f":"IFERROR(VLOOKUP(E98,登録申請書!$A:$R,4,FALSE),\"\")","v":""},null,{"$f":"IFERROR(VLOOKUP(E98,登録申請書!$A:$R,11,FALSE),\"\")","v":""},null,{"$f":"IF(E98=\"\",\"\",\"JWF\")","v":""},{"$f":"IFERROR(VLOOKUP(E98,登録申請書!$A:$R,18,FALSE),\"\")","v":""}]
[null,null,null,3,null,null,{"$f":"IFERROR(VLOOKUP(E99,登録申請書!$A:$R,3,FALSE),\"\")","v":""},null,{"$f":"IFERROR(VLOOKUP(E99,登録申請書!$A:$R,4,FALSE),\"\")","v":""},null,{"$f":"IFERROR(VLOOKUP(E99,登録申請書!$A:$R,11,FALSE),\"\")","v":""},null,"",{"$f":"IFERROR(VLOOKUP(E99,登録申請書!$A:$R,18,FALSE),\"\")","v":""}]
[null,null,55,1,null,null,{"$f":"IFERROR(VLOOKUP(E100,登録申請書!$A:$R,3,FALSE),\"\")","v":""},null,{"$f":"IFERROR(VLOOKUP(E100,登録申請書!$A:$R,4,FALSE),\"\")","v":""},null,{"$f":"IFERROR(VLOOKUP(E100,登録申請書!$A:$R,11,FALSE),\"\")","v":""},null,"",{"$f":"IFERROR(VLOOKUP(E100,登録申請書!$A:$R,18,FALSE),\"\")","v":""}]
[null,null,null,2,null,null,{"$f":"IFERROR(VLOOKUP(E101,登録申請書!$A:$R,3,FALSE),\"\")","v":""},null,{"$f":"IFERROR(VLOOKUP(E101,登録申請書!$A:$R,4,FALSE),\"\")","v":""},null,{"$f":"IFERROR(VLOOKUP(E101,登録申請書!$A:$R,11,FALSE),\"\")","v":""},null,"",{"$f":"IFERROR(VLOOKUP(E101,登録申請書!$A:$R,18,FALSE),\"\")","v":""}]
[null,null,null,3,null,null,{"$f":"IFERROR(VLOOKUP(E102,登録申請書!$A:$R,3,FALSE),\"\")","v":""},null,{"$f":"IFERROR(VLOOKUP(E102,登録申請書!$A:$R,4,FALSE),\"\")","v":""},null,{"$f":"IFERROR(VLOOKUP(E102,登録申請書!$A:$R,11,FALSE),\"\")","v":""},null,"",{"$f":"IFERROR(VLOOKUP(E102,登録申請書!$A:$R,18,FALSE),\"\")","v":""}]
[null,null,60,1,null,null,{"$f":"IFERROR(VLOOKUP(E103,登録申請書!$A:$R,3,FALSE),\"\")","v":""},null,{"$f":"IFERROR(VLOOKUP(E103,登録申請書!$A:$R,4,FALSE),\"\")","v":""},null,{"$f":"IFERROR(VLOOKUP(E103,登録申請書!$A:$R,11,FALSE),\"\")","v":""},null,"",{"$f":"IFERROR(VLOOKUP(E103,登録申請書!$A:$R,18,FALSE),\"\")","v":""}]
[null,null,null,2,null,null,{"$f":"IFERROR(VLOOKUP(E104,登録申請書!$A:$R,3,FALSE),\"\")","v":""},null,{"$f":"IFERROR(VLOOKUP(E104,登録申請書!$A:$R,4,FALSE),\"\")","v":""},null,{"$f":"IFERROR(VLOOKUP(E104,登録申請書!$A:$R,11,FALSE),\"\")","v":""},null,"",{"$f":"IFERROR(VLOOKUP(E104,登録申請書!$A:$R,18,FALSE),\"\")","v":""}]
[null,null,null,3,null,null,{"$f":"IFERROR(VLOOKUP(E105,登録申請書!$A:$R,3,FALSE),\"\")","v":""},null,{"$f":"IFERROR(VLOOKUP(E105,登録申請書!$A:$R,4,FALSE),\"\")","v":""},null,{"$f":"IFERROR(VLOOKUP(E105,登録申請書!$A:$R,11,FALSE),\"\")","v":""},null,"",{"$f":"IFERROR(VLOOKUP(E105,登録申請書!$A:$R,18,FALSE),\"\")","v":""}]
[null,null,65,1,null,null,{"$f":"IFERROR(VLOOKUP(E106,登録申請書!$A:$R,3,FALSE),\"\")","v":""},null,{"$f":"IFERROR(VLOOKUP(E106,登録申請書!$A:$R,4,FALSE),\"\")","v":""},null,{"$f":"IFERROR(VLOOKUP(E106,登録申請書!$A:$R,11,FALSE),\"\")","v":""},null,"",{"$f":"IFERROR(VLOOKUP(E106,登録申請書!$A:$R,18,FALSE),\"\")","v":""}]
[null,null,null,2,null,null,{"$f":"IFERROR(VLOOKUP(E107,登録申請書!$A:$R,3,FALSE),\"\")","v":""},null,{"$f":"IFERROR(VLOOKUP(E107,登録申請書!$A:$R,4,FALSE),\"\")","v":""},null,{"$f":"IFERROR(VLOOKUP(E107,登録申請書!$A:$R,11,FALSE),\"\")","v":""},null,"",{"$f":"IFERROR(VLOOKUP(E107,登録申請書!$A:$R,18,FALSE),\"\")","v":""}]
[null,null,null,3,null,null,{"$f":"IFERROR(VLOOKUP(E108,登録申請書!$A:$R,3,FALSE),\"\")","v":""},null,{"$f":"IFERROR(VLOOKUP(E108,登録申請書!$A:$R,4,FALSE),\"\")","v":""},null,{"$f":"IFERROR(VLOOKUP(E108,登録申請書!$A:$R,11,FALSE),\"\")","v":""},null,"",{"$f":"IFERROR(VLOOKUP(E108,登録申請書!$A:$R,18,FALSE),\"\")","v":""}]
[null,null,71,1,null,null,{"$f":"IFERROR(VLOOKUP(E109,登録申請書!$A:$R,3,FALSE),\"\")","v":""},null,{"$f":"IFERROR(VLOOKUP(E109,登録申請書!$A:$R,4,FALSE),\"\")","v":""},null,{"$f":"IFERROR(VLOOKUP(E109,登録申請書!$A:$R,11,FALSE),\"\")","v":""},null,"",{"$f":"IFERROR(VLOOKUP(E109,登録申請書!$A:$R,18,FALSE),\"\")","v":""}]
[null,null,null,2,null,null,{"$f":"IFERROR(VLOOKUP(E110,登録申請書!$A:$R,3,FALSE),\"\")","v":""},null,{"$f":"IFERROR(VLOOKUP(E110,登録申請書!$A:$R,4,FALSE),\"\")","v":""},null,{"$f":"IFERROR(VLOOKUP(E110,登録申請書!$A:$R,11,FALSE),\"\")","v":""},null,"",{"$f":"IFERROR(VLOOKUP(E110,登録申請書!$A:$R,18,FALSE),\"\")","v":""}]
[null,null,null,3,null,null,{"$f":"IFERROR(VLOOKUP(E111,登録申請書!$A:$R,3,FALSE),\"\")","v":""},null,{"$f":"IFERROR(VLOOKUP(E111,登録申請書!$A:$R,4,FALSE),\"\")","v":""},null,{"$f":"IFERROR(VLOOKUP(E111,登録申請書!$A:$R,11,FALSE),\"\")","v":""},null,"",{"$f":"IFERROR(VLOOKUP(E111,登録申請書!$A:$R,18,FALSE),\"\")","v":""}]
[null,null,80,1,null,null,{"$f":"IFERROR(VLOOKUP(E112,登録申請書!$A:$R,3,FALSE),\"\")","v":""},null,{"$f":"IFERROR(VLOOKUP(E112,登録申請書!$A:$R,4,FALSE),\"\")","v":""},null,{"$f":"IFERROR(VLOOKUP(E112,登録申請書!$A:$R,11,FALSE),\"\")","v":""},null,"",{"$f":"IFERROR(VLOOKUP(E112,登録申請書!$A:$R,18,FALSE),\"\")","v":""}]
[null,null,null,2,null,null,{"$f":"IFERROR(VLOOKUP(E113,登録申請書!$A:$R,3,FALSE),\"\")","v":""},null,{"$f":"IFERROR(VLOOKUP(E113,登録申請書!$A:$R,4,FALSE),\"\")","v":""},null,{"$f":"IFERROR(VLOOKUP(E113,登録申請書!$A:$R,11,FALSE),\"\")","v":""},null,"",{"$f":"IFERROR(VLOOKUP(E113,登録申請書!$A:$R,18,FALSE),\"\")","v":""}]
[null,null,null,3,null,null,{"$f":"IFERROR(VLOOKUP(E114,登録申請書!$A:$R,3,FALSE),\"\")","v":""},null,{"$f":"IFERROR(VLOOKUP(E114,登録申請書!$A:$R,4,FALSE),\"\")","v":""},null,{"$f":"IFERROR(VLOOKUP(E114,登録申請書!$A:$R,11,FALSE),\"\")","v":""},null,"",{"$f":"IFERROR(VLOOKUP(E114,登録申請書!$A:$R,18,FALSE),\"\")","v":""}]
[null,null,92,1,null,null,{"$f":"IFERROR(VLOOKUP(E115,登録申請書!$A:$R,3,FALSE),\"\")","v":""},null,{"$f":"IFERROR(VLOOKUP(E115,登録申請書!$A:$R,4,FALSE),\"\")","v":""},null,{"$f":"IFERROR(VLOOKUP(E115,登録申請書!$A:$R,11,FALSE),\"\")","v":""},null,"",{"$f":"IFERROR(VLOOKUP(E115,登録申請書!$A:$R,18,FALSE),\"\")","v":""}]
[null,null,null,2,null,null,{"$f":"IFERROR(VLOOKUP(E116,登録申請書!$A:$R,3,FALSE),\"\")","v":""},null,{"$f":"IFERROR(VLOOKUP(E116,登録申請書!$A:$R,4,FALSE),\"\")","v":""},null,{"$f":"IFERROR(VLOOKUP(E116,登録申請書!$A:$R,11,FALSE),\"\")","v":""},null,"",{"$f":"IFERROR(VLOOKUP(E116,登録申請書!$A:$R,18,FALSE),\"\")","v":""}]
[null,null,null,3,null,null,{"$f":"IFERROR(VLOOKUP(E117,登録申請書!$A:$R,3,FALSE),\"\")","v":""},null,{"$f":"IFERROR(VLOOKUP(E117,登録申請書!$A:$R,4,FALSE),\"\")","v":""},null,{"$f":"IFERROR(VLOOKUP(E117,登録申請書!$A:$R,11,FALSE),\"\")","v":""},null,"",{"$f":"IFERROR(VLOOKUP(E117,登録申請書!$A:$R,18,FALSE),\"\")","v":""}]
[null,null,125,1,null,null,{"$f":"IFERROR(VLOOKUP(E118,登録申請書!$A:$R,3,FALSE),\"\")","v":""},null,{"$f":"IFERROR(VLOOKUP(E118,登録申請書!$A:$R,4,FALSE),\"\")","v":""},null,{"$f":"IFERROR(VLOOKUP(E118,登録申請書!$A:$R,11,FALSE),\"\")","v":""},null,"",{"$f":"IFERROR(VLOOKUP(E118,登録申請書!$A:$R,18,FALSE),\"\")","v":""}]
[null,null,null,2,null,null,{"$f":"IFERROR(VLOOKUP(E119,登録申請書!$A:$R,3,FALSE),\"\")","v":""},null,{"$f":"IFERROR(VLOOKUP(E119,登録申請書!$A:$R,4,FALSE),\"\")","v":""},null,{"$f":"IFERROR(VLOOKUP(E119,登録申請書!$A:$R,11,FALSE),\"\")","v":""},null,"",{"$f":"IFERROR(VLOOKUP(E119,登録申請書!$A:$R,18,FALSE),\"\")","v":""}]
[null,null,null,3,null,null,{"$f":"IFERROR(VLOOKUP(E120,登録申請書!$A:$R,3,FALSE),\"\")","v":""},null,{"$f":"IFERROR(VLOOKUP(E120,登録申請書!$A:$R,4,FALSE),\"\")","v":""},null,{"$f":"IFERROR(VLOOKUP(E120,登録申請書!$A:$R,11,FALSE),\"\")","v":""},null,"",{"$f":"IFERROR(VLOOKUP(E120,登録申請書!$A:$R,18,FALSE),\"\")","v":""}]
[]
[null,"　・申込作成日を入力してください"]
[null,null,"令和７年",null,null,"　月　",null,"　日"]
[]
[null,"参加申込B－１",null,null,"作成終了です"]
[null,"　　印刷をするときは",null,null,"「参加申込B－１」へ 移動します ⇒",null,null,null,null,"参加申込B－１"]
[]
[]
[null,null,null,null,null,null,null,null,null,null,null,"↓　24-　以下の5桁の数字を入力すること"]
[1,"　・監督",null,null,null,null,null,null,null,null,{"$f":"$K$40","v":"JWF25-"}]
[null,null,"苗字",null,null,"名前",null,null,"協会番号",null,null,null,"学校名"]
[null,"　・コーチ",null,null,null,null,null,null,null,null,{"$f":"$K$40","v":"JWF25-"}]
[null,null,"苗字",null,null,"名前",null,null,"協会番号"]
[2,"　・監督",null,null,null,null,null,null,null,null,{"$f":"$K$40","v":"JWF25-"}]
[null,null,"苗字",null,null,"名前",null,null,"協会番号",null,null,null,"学校名"]
[null,"　・コーチ",null,null,null,null,null,null,null,null,{"$f":"$K$40","v":"JWF25-"}]
[null,null,"苗字",null,null,"名前",null,null,"協会番号"]
[3,"　・監督",null,null,null,null,null,null,null,null,{"$f":"$K$40","v":"JWF25-"}]
[null,null,"苗字",null,null,"名前",null,null,"協会番号",null,null,null,"学校名"]
[null,"　・コーチ",null,null,null,null,null,null,null,null,{"$f":"$K$40","v":"JWF25-"}]
[null,null,"苗字",null,null,"名前",null,null,"協会番号"]
[4,"　・監督",null,null,null,null,null,null,null,null,{"$f":"$K$40","v":"JWF25-"}]
[null,null,"苗字",null,null,"名前",null,null,"協会番号",null,null,null,"学校名"]
[null,"　・コーチ",null,null,null,null,null,null,null,null,{"$f":"$K$40","v":"JWF25-"}]
[null,null,"苗字",null,null,"名前",null,null,"協会番号"]
[5,"　・監督",null,null,null,null,null,null,null,null,{"$f":"$K$40","v":"JWF25-"}]
[null,null,"苗字",null,null,"名前",null,null,"協会番号",null,null,null,"学校名"]
[null,"　・コーチ",null,null,null,null,null,null,null,null,{"$f":"$K$40","v":"JWF25-"}]
[null,null,"苗字",null,null,"名前",null,null,"協会番号"]
[6,"　・監督",null,null,null,null,null,null,null,null,{"$f":"$K$40","v":"JWF25-"}]
[null,null,"苗字",null,null,"名前",null,null,"協会番号",null,null,null,"学校名"]
[null,"　・コーチ",null,null,null,null,null,null,null,null,{"$f":"$K$40","v":"JWF25-"}]
[null,null,"苗字",null,null,"名前",null,null,"協会番号"]
[7,"　・監督",null,null,null,null,null,null,null,null,{"$f":"$K$40","v":"JWF25-"}]
[null,null,"苗字",null,null,"名前",null,null,"協会番号",null,null,null,"学校名"]
[null,"　・コーチ",null,null,null,null,null,null,null,null,{"$f":"$K$40","v":"JWF25-"}]
[null,null,"苗字",null,null,"名前",null,null,"協会番号"]
[8,"　・監督",null,null,null,null,null,null,null,null,{"$f":"$K$40","v":"JWF25-"}]
[null,null,"苗字",null,null,"名前",null,null,"協会番号",null,null,null,"学校名"]
[null,"　・コーチ",null,null,null,null,null,null,null,null,{"$f":"$K$40","v":"JWF25-"}]
[null,null,"苗字",null,null,"名前",null,null,"協会番号"]
[]
[null,"参加申込B－２",null,null,"作成終了です"]
[null,null,"足りなければ，B-3　に進んでください"]
[null,"　　印刷をするときは",null,null,"「参加申込B－２」へ 移動します ⇒",null,null,null,null,"参加申込B－２"]
[null,"　・申込作成日を入力してください"]
[null,null,"令和７年",null,null,"　月　",null,"　日"]
[]
[]
[9,"　・監督",null,null,null,null,null,null,null,null,{"$f":"$K$40","v":"JWF25-"}]
[null,null,"苗字",null,null,"名前",null,null,"協会番号",null,null,null,"学校名"]
[null,"　・コーチ",null,null,null,null,null,null,null,null,{"$f":"$K$40","v":"JWF25-"}]
[null,null,"苗字",null,null,"名前",null,null,"協会番号"]
[10,"　・監督",null,null,null,null,null,null,null,null,{"$f":"$K$40","v":"JWF25-"}]
[null,null,"苗字",null,null,"名前",null,null,"協会番号",null,null,null,"学校名"]
[null,"　・コーチ",null,null,null,null,null,null,null,null,{"$f":"$K$40","v":"JWF25-"}]
[null,null,"苗字",null,null,"名前",null,null,"協会番号"]
[11,"　・監督",null,null,null,null,null,null,null,null,{"$f":"$K$40","v":"JWF25-"}]
[null,null,"苗字",null,null,"名前",null,null,"協会番号",null,null,null,"学校名"]
[null,"　・コーチ",null,null,null,null,null,null,null,null,{"$f":"$K$40","v":"JWF25-"}]
[null,null,"苗字",null,null,"名前",null,null,"協会番号"]
[12,"　・監督",null,null,null,null,null,null,null,null,{"$f":"$K$40","v":"JWF25-"}]
[null,null,"苗字",null,null,"名前",null,null,"協会番号",null,null,null,"学校名"]
[null,"　・コーチ",null,null,null,null,null,null,null,null,{"$f":"$K$40","v":"JWF25-"}]
[null,null,"苗字",null,null,"名前",null,null,"協会番号"]
[13,"　・監督",null,null,null,null,null,null,null,null,{"$f":"$K$40","v":"JWF25-"}]
[null,null,"苗字",null,null,"名前",null,null,"協会番号",null,null,null,"学校名"]
[null,"　・コーチ",null,null,null,null,null,null,null,null,{"$f":"$K$40","v":"JWF25-"}]
[null,null,"苗字",null,null,"名前",null,null,"協会番号"]
[14,"　・監督",null,null,null,null,null,null,null,null,{"$f":"$K$40","v":"JWF25-"}]
[null,null,"苗字",null,null,"名前",null,null,"協会番号",null,null,null,"学校名"]
[null,"　・コーチ",null,null,null,null,null,null,null,null,{"$f":"$K$40","v":"JWF25-"}]
[null,null,"苗字",null,null,"名前",null,null,"協会番号"]
[15,"　・監督",null,null,null,null,null,null,null,null,{"$f":"$K$40","v":"JWF25-"}]
[null,null,"苗字",null,null,"名前",null,null,"協会番号",null,null,null,"学校名"]
[null,"　・コーチ",null,null,null,null,null,null,null,null,{"$f":"$K$40","v":"JWF25-"}]
[null,null,"苗字",null,null,"名前",null,null,"協会番号"]
[16,"　・監督",null,null,null,null,null,null,null,null,{"$f":"$K$40","v":"JWF25-"}]
[null,null,"苗字",null,null,"名前",null,null,"協会番号",null,null,null,"学校名"]
[null,"　・コーチ",null,null,null,null,null,null,null,null,{"$f":"$K$40","v":"JWF25-"}]
[null,null,"苗字",null,null,"名前",null,null,"協会番号"]
[]
[null,"参加申込B－３",null,null,"作成終了です"]
[null,"　　印刷をするときは",null,null,"「参加申込B－３」へ 移動します ⇒",null,null,null,null,"参加申込B－３"]
[null,"　・申込作成日を入力してください"]
[null,null,"令和７年",null,null,"　月　",null,"　日"]
[]
[]
[null,"出場校からの参加申込書Ａ　と　参加申込書Ｂ　の内容確認をしてください　"]
[null,"参加申込書Ｂは、委員長印を押してください"]
[]
[null,"① 各校から送られてきた参加申込Ａ【校長印必要】"]
[null,"　　参加申込Ｂ－１，Ｂ－２，（Ｂ－３）【専門委員長印必要】"]
[null,"② 参加料振込通知書のコピー（府県単位で振り込んでください）"]
[null,"①②は、指定された宛先に郵送してください"]
[]
[null,"③ 各校から送られてきたエクセルファイル"]
[null,"　　専門委員長の作ったエクセルファイル"]
[null,"③は、すべてのファイルを指定された宛先に送信してください"]
[null,"　　（注意）"]
[null,"　　・シートは、削除しないでください"]
[null,"　　・ファイル名を以下の形でつけてください"]
[null,"　　　（県番号）（整理番号）（学校名）でつけてください"]
[null,"　　　【例】"]
[null,"　　　　北海道で、専門委員長の学校が北野高校　他の出場校は、天王寺高校・住吉高校・今宮高校とした場合"]
[null,"　　　　専門委員長の学校の整理番号は、01にしてください　他の学校の順番はお任せします"]
[null,"　　　　　0101北野.xlsx"]
[null,"　　　　　0102天王寺.xlsx"]
[null,"　　　　　0103住吉.xlsx"]
[null,"　　　　　0104今宮.xlsx"]
[]
[null,"専門委員長、参加校の皆さん"]
[null,"　お手数をおかけしますがよろしくお願いします"]
[]
[]
[]
[]
[]
[]
[]
[]
[]
[]
[]
[]
[]
[]
[]
[]
[]
[]
[]
[]
[]
[]
[]
[]
[]
[]
[]
[]
[]
[]
[]
[]
[]
[]
[]
[]
[]
[]
[]
[]
[]
[]
[]
[]
[]
[]
[]
[]
[]
[]
[]
[]
[]
[]
[]
[]
[]
["(選択)",0]
["北海道",1]
["青森県",2]
["岩手県",3]
["宮城県",4]
["秋田県",5]
["山形県",6]
["福島県",7]
["茨城県",8]
["栃木県",9]
["群馬県",10]
["埼玉県",11]
["千葉県",12]
["東京都",13]
["神奈川県",14]
["山梨県",15]
["新潟県",16]
["長野県",17]
["富山県",18]
["石川県",19]
["福井県",20]
["静岡県",21]
["愛知県",22]
["三重県",23]
["岐阜県",24]
["滋賀県",25]
["京都府",26]
["大阪府",27]
["兵庫県",28]
["奈良県",29]
["和歌山県",30]
["鳥取県",31]
["島根県",32]
["岡山県",33]
["広島県",34]
["山口県",35]
["香川県",36]
["徳島県",37]
["愛媛県",38]
["高知県",39]
["福岡県",40]
["佐賀県",41]
["長崎県",42]
["熊本県",43]
["大分県",44]
["宮崎県",45]
["鹿児島県",46]
["沖縄県",47]

{"sheet":"参加申込A","index":2,"n_rows":165,"n_cols":11,"rows_kept":165,"cut":false,"hidden":false,"merged":[[56,6,57,6],[56,7,57,7],[56,9,57,9],[56,10,57,10],[57,2,57,3],[57,4,57,5],[50,6,51,6],[50,7,51,7],[62,2,62,3],[62,4,62,5],[50,2,50,3],[52,7,53,7],[52,9,53,9],[54,7,55,7],[54,9,55,9],[58,7,59,7],[62,6,63,6],[58,9,59,9],[54,6,55,6],[27,2,27,3],[27,4,27,5],[23,2,23,3],[22,4,22,5],[23,4,23,5],[24,2,24,3],[24,4,24,5],[63,2,63,3],[63,4,63,5],[51,2,51,3],[51,4,51,5],[56,2,56,3],[56,4,56,5],[37,4,37,5],[20,2,20,3],[20,4,20,5],[20,6,21,6],[20,7,21,7],[20,9,21,9],[60,4,60,5],[48,4,48,5],[62,7,63,7],[58,2,58,3],[58,4,58,5],[59,2,59,3],[59,4,59,5],[60,2,60,3],[48,2,48,3],[46,2,46,3],[30,2,30,3],[30,4,30,5],[31,2,31,3],[31,4,31,5],[34,2,34,3],[34,4,34,5],[55,2,55,3],[21,2,21,3],[37,2,37,3],[67,6,67,9],[2,1,3,3],[3,7,3,8],[14,6,15,6],[15,3,15,4],[14,2,14,4],[14,7,14,9],[15,7,15,8],[61,2,61,3],[61,4,61,5],[64,2,64,3],[64,4,64,5],[65,2,65,3],[65,4,65,5],[53,2,53,3],[53,4,53,5],[54,2,54,3],[54,4,54,5],[39,2,39,3],[48,9,49,9],[44,7,45,7],[48,7,49,7],[35,2,35,3],[47,2,47,3],[60,1,65,1],[60,6,61,6],[36,1,41,1],[36,6,37,6],[47,4,47,5],[40,4,40,5],[41,2,41,3],[41,4,41,5],[42,2,42,3],[42,4,42,5],[64,6,65,6],[48,6,49,6],[46,6,47,6],[44,2,44,3],[44,4,44,5],[44,6,45,6],[45,2,45,3],[54,1,59,1],[52,6,53,6],[58,6,59,6],[42,6,43,6],[50,4,50,5],[55,4,55,5],[39,4,39,5],[24,1,29,1],[30,1,35,1],[30,6,31,6],[40,6,41,6],[34,9,35,9],[42,7,43,7],[42,9,43,9],[28,2,28,3],[28,4,28,5],[24,9,25,9],[24,6,25,6],[28,6,29,6],[25,2,25,3],[25,4,25,5],[34,6,35,6],[43,4,43,5],[29,2,29,3],[43,2,43,3],[32,2,32,3],[26,2,26,3],[26,4,26,5],[26,6,27,6],[26,7,27,7],[26,9,27,9],[48,1,53,1],[52,2,52,3],[40,2,40,3],[49,2,49,3],[49,4,49,5],[18,1,23,1],[22,2,22,3],[52,4,52,5],[0,1,0,10],[16,1,17,1],[16,9,17,9],[16,10,17,10],[16,6,17,6],[16,2,16,5],[17,2,17,5],[2,5,2,6],[3,5,3,6],[14,1,15,1],[12,1,12,2],[12,6,12,9],[11,1,11,6],[6,3,6,4],[6,1,6,2],[6,5,6,10],[42,1,47,1],[32,4,32,5],[32,6,33,6],[32,7,33,7],[32,9,33,9],[33,2,33,3],[40,10,41,10],[34,10,35,10],[46,4,46,5],[44,9,45,9],[45,4,45,5],[46,10,47,10],[36,7,37,7],[18,2,18,3],[19,2,19,3],[36,9,37,9],[36,10,37,10],[40,7,41,7],[40,9,41,9],[30,9,31,9],[30,10,31,10],[34,7,35,7],[28,7,29,7],[28,9,29,9],[28,10,29,10],[30,7,31,7],[29,4,29,5],[32,10,33,10],[38,6,39,6],[33,4,33,5],[38,2,38,3],[38,4,38,5],[38,7,39,7],[38,9,39,9],[35,4,35,5],[36,2,36,3],[36,4,36,5],[19,12,22,12],[23,12,24,12],[25,12,28,12],[29,12,30,12],[43,12,46,12],[61,12,64,12],[42,10,43,10],[64,10,65,10],[54,10,55,10],[58,10,59,10],[60,10,61,10],[52,10,53,10],[44,10,45,10],[38,10,39,10],[31,12,34,12],[35,12,36,12],[37,12,40,12],[41,12,42,12],[24,10,25,10],[20,10,21,10],[26,10,27,10],[50,10,51,10],[64,9,65,9],[60,9,61,9],[60,7,61,7],[65,12,66,12],[47,12,48,12],[49,12,52,12],[53,12,54,12],[55,12,58,12],[59,12,60,12],[62,9,63,9],[62,10,63,10],[46,7,47,7],[46,9,47,9],[48,10,49,10],[64,7,65,7],[50,9,51,9],[5,5,5,8],[22,6,23,6],[22,7,23,7],[24,7,25,7],[18,10,19,10],[18,9,19,9],[18,7,19,7],[22,9,23,9],[22,10,23,10],[18,6,19,6],[18,4,18,5],[19,4,19,5],[8,7,8,10],[10,7,10,10],[21,4,21,5]]}
[null,{"$f":"入力シート!D2&\"参加申込書\"","v":"第４１回　全国高校生グレコローマンレスリング選手権大会参加申込書"}]
[]
[null,"【　Ａ　】　参加各高校用",null,null,null,"学校名 ふりがな"]
[null,null,null,null,null,{"$f":"IFERROR(入力シート!N25,\"\")","v":""},null,"こうとうがっこう"]
[]
[null,"都道府県",{"$f":"入力シート!C17","v":"(選択)"},null,null,{"$f":"IFERROR(入力シート!N26,\"\")","v":""}]
[null,{"$f":"入力シート!C28","v":0},null,"住所",null,{"$f":"入力シート!C29&入力シート!C30","v":""}]
[]
[null,null,null,null,null,null,"電話番号",{"$f":"入力シート!C32","v":0}]
[]
[null,null,null,null,null,null,"校長名",{"$f":"入力シート!C39","v":0}]
[null,"下記の選手の参加を認めます。"]
[null,{"$f":"入力シート!C73&入力シート!E73&入力シート!F73&入力シート!G73&入力シート!H73","v":"令和７年　月　　日"}]
[]
[null,"監督","名前",null,null,"協会番号","コーチ","名前",null,null,"協会番号"]
[13,null,{"$f":"入力シート!D41","v":0},{"$f":"入力シート!G41","v":0},null,{"$f":"入力シート!K41","v":0},null,{"$f":"入力シート!D43","v":0},null,{"$f":"入力シート!G43","v":0},{"$f":"入力シート!K43","v":0}]
[8,"階　　級","ふ　り　が　な",null,null,null,"生年月日","学",null,"協会番号","段位番号"]
[3,null,"選　　手　　名",null,null,null,null,"年"]
[null,"５１ｋｇ",{"$f":"IFERROR(VLOOKUP(A20,登録申請書!$A:$R,$A$18+2,FALSE),\"\")","v":""},null,{"$f":"IFERROR(VLOOKUP(A20,登録申請書!$A:$R,$A$18+3,FALSE),\"\")","v":""},null,{"$f":"IFERROR(VLOOKUP(A20,登録申請書!$A:$R,$A$17,FALSE),\"\")","v":""},{"$f":"IFERROR(VLOOKUP(A20,登録申請書!$A:$R,$A$16,FALSE),\"\")","v":""},null,{"$f":"IFERROR(VLOOKUP(A20,登録申請書!$A:$R,$A$17+10,FALSE),\"\")","v":""},{"$f":"IF(A20=0,\"\",入力シート!K47)","v":""}]
[{"$f":"入力シート!E47","v":0},null,{"$f":"IFERROR(VLOOKUP(A20,登録申請書!$A:$R,$A$18,FALSE),\"\")","v":""},null,{"$f":"IFERROR(VLOOKUP(A20,登録申請書!$A:$R,$A$18+1,FALSE),\"\")","v":""}]
[null,null,{"$f":"IFERROR(VLOOKUP(A22,登録申請書!$A:$R,$A$18+2,FALSE),\"\")","v":""},null,{"$f":"IFERROR(VLOOKUP(A22,登録申請書!$A:$R,$A$18+3,FALSE),\"\")","v":""},null,{"$f":"IFERROR(VLOOKUP(A22,登録申請書!$A:$R,$A$17,FALSE),\"\")","v":""},{"$f":"IFERROR(VLOOKUP(A22,登録申請書!$A:$R,$A$16,FALSE),\"\")","v":""},null,{"$f":"IFERROR(VLOOKUP(A22,登録申請書!$A:$R,$A$17+10,FALSE),\"\")","v":""},{"$f":"IF(A22=0,\"\",入力シート!K48)","v":""}]
[{"$f":"入力シート!E48","v":0},null,{"$f":"IFERROR(VLOOKUP(A22,登録申請書!$A:$R,$A$18,FALSE),\"\")","v":""},null,{"$f":"IFERROR(VLOOKUP(A22,登録申請書!$A:$R,$A$18+1,FALSE),\"\")","v":""}]
[null,null,{"$f":"IFERROR(VLOOKUP(A24,登録申請書!$A:$R,$A$18+2,FALSE),\"\")","v":""},null,{"$f":"IFERROR(VLOOKUP(A24,登録申請書!$A:$R,$A$18+3,FALSE),\"\")","v":""},null,{"$f":"IFERROR(VLOOKUP(A24,登録申請書!$A:$R,$A$17,FALSE),\"\")","v":""},{"$f":"IFERROR(VLOOKUP(A24,登録申請書!$A:$R,$A$16,FALSE),\"\")","v":""},null,{"$f":"IFERROR(VLOOKUP(A24,登録申請書!$A:$R,$A$17+10,FALSE),\"\")","v":""},{"$f":"IF(A24=0,\"\",入力シート!K49)","v":""}]
[{"$f":"入力シート!E49","v":0},null,{"$f":"IFERROR(VLOOKUP(A24,登録申請書!$A:$R,$A$18,FALSE),\"\")","v":""},null,{"$f":"IFERROR(VLOOKUP(A24,登録申請書!$A:$R,$A$18+1,FALSE),\"\")","v":""}]
[null,"５５ｋｇ",{"$f":"IFERROR(VLOOKUP(A26,登録申請書!$A:$R,$A$18+2,FALSE),\"\")","v":""},null,{"$f":"IFERROR(VLOOKUP(A26,登録申請書!$A:$R,$A$18+3,FALSE),\"\")","v":""},null,{"$f":"IFERROR(VLOOKUP(A26,登録申請書!$A:$R,$A$17,FALSE),\"\")","v":""},{"$f":"IFERROR(VLOOKUP(A26,登録申請書!$A:$R,$A$16,FALSE),\"\")","v":""},null,{"$f":"IFERROR(VLOOKUP(A26,登録申請書!$A:$R,$A$17+10,FALSE),\"\")","v":""},{"$f":"IF(A26=0,\"\",入力シート!K50)","v":""}]
[{"$f":"入力シート!E50","v":0},null,{"$f":"IFERROR(VLOOKUP(A26,登録申請書!$A:$R,$A$18,FALSE),\"\")","v":""},null,{"$f":"IFERROR(VLOOKUP(A26,登録申請書!$A:$R,$A$18+1,FALSE),\"\")","v":""}]
[null,null,{"$f":"IFERROR(VLOOKUP(A28,登録申請書!$A:$R,$A$18+2,FALSE),\"\")","v":""},null,{"$f":"IFERROR(VLOOKUP(A28,登録申請書!$A:$R,$A$18+3,FALSE),\"\")","v":""},null,{"$f":"IFERROR(VLOOKUP(A28,登録申請書!$A:$R,$A$17,FALSE),\"\")","v":""},{"$f":"IFERROR(VLOOKUP(A28,登録申請書!$A:$R,$A$16,FALSE),\"\")","v":""},null,{"$f":"IFERROR(VLOOKUP(A28,登録申請書!$A:$R,$A$17+10,FALSE),\"\")","v":""},{"$f":"IF(A28=0,\"\",入力シート!K51)","v":""}]
[{"$f":"入力シート!E51","v":0},null,{"$f":"IFERROR(VLOOKUP(A28,登録申請書!$A:$R,$A$18,FALSE),\"\")","v":""},null,{"$f":"IFERROR(VLOOKUP(A28,登録申請書!$A:$R,$A$18+1,FALSE),\"\")","v":""}]
[null,null,{"$f":"IFERROR(VLOOKUP(A30,登録申請書!$A:$R,$A$18+2,FALSE),\"\")","v":""},null,{"$f":"IFERROR(VLOOKUP(A30,登録申請書!$A:$R,$A$18+3,FALSE),\"\")","v":""},null,{"$f":"IFERROR(VLOOKUP(A30,登録申請書!$A:$R,$A$17,FALSE),\"\")","v":""},{"$f":"IFERROR(VLOOKUP(A30,登録申請書!$A:$R,$A$16,FALSE),\"\")","v":""},null,{"$f":"IFERROR(VLOOKUP(A30,登録申請書!$A:$R,$A$17+10,FALSE),\"\")","v":""},{"$f":"IF(A30=0,\"\",入力シート!K52)","v":""}]
[{"$f":"入力シート!E52","v":0},null,{"$f":"IFERROR(VLOOKUP(A30,登録申請書!$A:$R,$A$18,FALSE),\"\")","v":""},null,{"$f":"IFERROR(VLOOKUP(A30,登録申請書!$A:$R,$A$18+1,FALSE),\"\")","v":""}]
[null,"６０ｋｇ",{"$f":"IFERROR(VLOOKUP(A32,登録申請書!$A:$R,$A$18+2,FALSE),\"\")","v":""},null,{"$f":"IFERROR(VLOOKUP(A32,登録申請書!$A:$R,$A$18+3,FALSE),\"\")","v":""},null,{"$f":"IFERROR(VLOOKUP(A32,登録申請書!$A:$R,$A$17,FALSE),\"\")","v":""},{"$f":"IFERROR(VLOOKUP(A32,登録申請書!$A:$R,$A$16,FALSE),\"\")","v":""},null,{"$f":"IFERROR(VLOOKUP(A32,登録申請書!$A:$R,$A$17+10,FALSE),\"\")","v":""},{"$f":"IF(A32=0,\"\",入力シート!K53)","v":""}]
[{"$f":"入力シート!E53","v":0},null,{"$f":"IFERROR(VLOOKUP(A32,登録申請書!$A:$R,$A$18,FALSE),\"\")","v":""},null,{"$f":"IFERROR(VLOOKUP(A32,登録申請書!$A:$R,$A$18+1,FALSE),\"\")","v":""}]
[null,null,{"$f":"IFERROR(VLOOKUP(A34,登録申請書!$A:$R,$A$18+2,FALSE),\"\")","v":""},null,{"$f":"IFERROR(VLOOKUP(A34,登録申請書!$A:$R,$A$18+3,FALSE),\"\")","v":""},null,{"$f":"IFERROR(VLOOKUP(A34,登録申請書!$A:$R,$A$17,FALSE),\"\")","v":""},{"$f":"IFERROR(VLOOKUP(A34,登録申請書!$A:$R,$A$16,FALSE),\"\")","v":""},null,{"$f":"IFERROR(VLOOKUP(A34,登録申請書!$A:$R,$A$17+10,FALSE),\"\")","v":""},{"$f":"IF(A34=0,\"\",入力シート!K54)","v":""}]
[{"$f":"入力シート!E54","v":0},null,{"$f":"IFERROR(VLOOKUP(A34,登録申請書!$A:$R,$A$18,FALSE),\"\")","v":""},null,{"$f":"IFERROR(VLOOKUP(A34,登録申請書!$A:$R,$A$18+1,FALSE),\"\")","v":""}]
[null,null,{"$f":"IFERROR(VLOOKUP(A36,登録申請書!$A:$R,$A$18+2,FALSE),\"\")","v":""},null,{"$f":"IFERROR(VLOOKUP(A36,登録申請書!$A:$R,$A$18+3,FALSE),\"\")","v":""},null,{"$f":"IFERROR(VLOOKUP(A36,登録申請書!$A:$R,$A$17,FALSE),\"\")","v":""},{"$f":"IFERROR(VLOOKUP(A36,登録申請書!$A:$R,$A$16,FALSE),\"\")","v":""},null,{"$f":"IFERROR(VLOOKUP(A36,登録申請書!$A:$R,$A$17+10,FALSE),\"\")","v":""},{"$f":"IF(A36=0,\"\",入力シート!K55)","v":""}]
[{"$f":"入力シート!E55","v":0},null,{"$f":"IFERROR(VLOOKUP(A36,登録申請書!$A:$R,$A$18,FALSE),\"\")","v":""},null,{"$f":"IFERROR(VLOOKUP(A36,登録申請書!$A:$R,$A$18+1,FALSE),\"\")","v":""}]
[null,"６５ｋｇ",{"$f":"IFERROR(VLOOKUP(A38,登録申請書!$A:$R,$A$18+2,FALSE),\"\")","v":""},null,{"$f":"IFERROR(VLOOKUP(A38,登録申請書!$A:$R,$A$18+3,FALSE),\"\")","v":""},null,{"$f":"IFERROR(VLOOKUP(A38,登録申請書!$A:$R,$A$17,FALSE),\"\")","v":""},{"$f":"IFERROR(VLOOKUP(A38,登録申請書!$A:$R,$A$16,FALSE),\"\")","v":""},null,{"$f":"IFERROR(VLOOKUP(A38,登録申請書!$A:$R,$A$17+10,FALSE),\"\")","v":""},{"$f":"IF(A38=0,\"\",入力シート!K56)","v":""}]
[{"$f":"入力シート!E56","v":0},null,{"$f":"IFERROR(VLOOKUP(A38,登録申請書!$A:$R,$A$18,FALSE),\"\")","v":""},null,{"$f":"IFERROR(VLOOKUP(A38,登録申請書!$A:$R,$A$18+1,FALSE),\"\")","v":""}]
[null,null,{"$f":"IFERROR(VLOOKUP(A40,登録申請書!$A:$R,$A$18+2,FALSE),\"\")","v":""},null,{"$f":"IFERROR(VLOOKUP(A40,登録申請書!$A:$R,$A$18+3,FALSE),\"\")","v":""},null,{"$f":"IFERROR(VLOOKUP(A40,登録申請書!$A:$R,$A$17,FALSE),\"\")","v":""},{"$f":"IFERROR(VLOOKUP(A40,登録申請書!$A:$R,$A$16,FALSE),\"\")","v":""},null,{"$f":"IFERROR(VLOOKUP(A40,登録申請書!$A:$R,$A$17+10,FALSE),\"\")","v":""},{"$f":"IF(A40=0,\"\",入力シート!K57)","v":""}]
[{"$f":"入力シート!E57","v":0},null,{"$f":"IFERROR(VLOOKUP(A40,登録申請書!$A:$R,$A$18,FALSE),\"\")","v":""},null,{"$f":"IFERROR(VLOOKUP(A40,登録申請書!$A:$R,$A$18+1,FALSE),\"\")","v":""}]
[null,null,{"$f":"IFERROR(VLOOKUP(A42,登録申請書!$A:$R,$A$18+2,FALSE),\"\")","v":""},null,{"$f":"IFERROR(VLOOKUP(A42,登録申請書!$A:$R,$A$18+3,FALSE),\"\")","v":""},null,{"$f":"IFERROR(VLOOKUP(A42,登録申請書!$A:$R,$A$17,FALSE),\"\")","v":""},{"$f":"IFERROR(VLOOKUP(A42,登録申請書!$A:$R,$A$16,FALSE),\"\")","v":""},null,{"$f":"IFERROR(VLOOKUP(A42,登録申請書!$A:$R,$A$17+10,FALSE),\"\")","v":""},{"$f":"IF(A42=0,\"\",入力シート!K58)","v":""}]
[{"$f":"入力シート!E58","v":0},null,{"$f":"IFERROR(VLOOKUP(A42,登録申請書!$A:$R,$A$18,FALSE),\"\")","v":""},null,{"$f":"IFERROR(VLOOKUP(A42,登録申請書!$A:$R,$A$18+1,FALSE),\"\")","v":""}]
[null,"７１ｋｇ",{"$f":"IFERROR(VLOOKUP(A44,登録申請書!$A:$R,$A$18+2,FALSE),\"\")","v":""},null,{"$f":"IFERROR(VLOOKUP(A44,登録申請書!$A:$R,$A$18+3,FALSE),\"\")","v":""},null,{"$f":"IFERROR(VLOOKUP(A44,登録申請書!$A:$R,$A$17,FALSE),\"\")","v":""},{"$f":"IFERROR(VLOOKUP(A44,登録申請書!$A:$R,$A$16,FALSE),\"\")","v":""},null,{"$f":"IFERROR(VLOOKUP(A44,登録申請書!$A:$R,$A$17+10,FALSE),\"\")","v":""},{"$f":"IF(A44=0,\"\",入力シート!K59)","v":""}]
[{"$f":"入力シート!E59","v":0},null,{"$f":"IFERROR(VLOOKUP(A44,登録申請書!$A:$R,$A$18,FALSE),\"\")","v":""},null,{"$f":"IFERROR(VLOOKUP(A44,登録申請書!$A:$R,$A$18+1,FALSE),\"\")","v":""}]
[null,null,{"$f":"IFERROR(VLOOKUP(A46,登録申請書!$A:$R,$A$18+2,FALSE),\"\")","v":""},null,{"$f":"IFERROR(VLOOKUP(A46,登録申請書!$A:$R,$A$18+3,FALSE),\"\")","v":""},null,{"$f":"IFERROR(VLOOKUP(A46,登録申請書!$A:$R,$A$17,FALSE),\"\")","v":""},{"$f":"IFERROR(VLOOKUP(A46,登録申請書!$A:$R,$A$16,FALSE),\"\")","v":""},null,{"$f":"IFERROR(VLOOKUP(A46,登録申請書!$A:$R,$A$17+10,FALSE),\"\")","v":""},{"$f":"IF(A46=0,\"\",入力シート!K60)","v":""}]
[{"$f":"入力シート!E60","v":0},null,{"$f":"IFERROR(VLOOKUP(A46,登録申請書!$A:$R,$A$18,FALSE),\"\")","v":""},null,{"$f":"IFERROR(VLOOKUP(A46,登録申請書!$A:$R,$A$18+1,FALSE),\"\")","v":""}]
[null,null,{"$f":"IFERROR(VLOOKUP(A48,登録申請書!$A:$R,$A$18+2,FALSE),\"\")","v":""},null,{"$f":"IFERROR(VLOOKUP(A48,登録申請書!$A:$R,$A$18+3,FALSE),\"\")","v":""},null,{"$f":"IFERROR(VLOOKUP(A48,登録申請書!$A:$R,$A$17,FALSE),\"\")","v":""},{"$f":"IFERROR(VLOOKUP(A48,登録申請書!$A:$R,$A$16,FALSE),\"\")","v":""},null,{"$f":"IFERROR(VLOOKUP(A48,登録申請書!$A:$R,$A$17+10,FALSE),\"\")","v":""},{"$f":"IF(A48=0,\"\",入力シート!K61)","v":""}]
[{"$f":"入力シート!E61","v":0},null,{"$f":"IFERROR(VLOOKUP(A48,登録申請書!$A:$R,$A$18,FALSE),\"\")","v":""},null,{"$f":"IFERROR(VLOOKUP(A48,登録申請書!$A:$R,$A$18+1,FALSE),\"\")","v":""}]
[null,"８０ｋｇ",{"$f":"IFERROR(VLOOKUP(A50,登録申請書!$A:$R,$A$18+2,FALSE),\"\")","v":""},null,{"$f":"IFERROR(VLOOKUP(A50,登録申請書!$A:$R,$A$18+3,FALSE),\"\")","v":""},null,{"$f":"IFERROR(VLOOKUP(A50,登録申請書!$A:$R,$A$17,FALSE),\"\")","v":""},{"$f":"IFERROR(VLOOKUP(A50,登録申請書!$A:$R,$A$16,FALSE),\"\")","v":""},null,{"$f":"IFERROR(VLOOKUP(A50,登録申請書!$A:$R,$A$17+10,FALSE),\"\")","v":""},{"$f":"IF(A50=0,\"\",入力シート!K62)","v":""}]
[{"$f":"入力シート!E62","v":0},null,{"$f":"IFERROR(VLOOKUP(A50,登録申請書!$A:$R,$A$18,FALSE),\"\")","v":""},null,{"$f":"IFERROR(VLOOKUP(A50,登録申請書!$A:$R,$A$18+1,FALSE),\"\")","v":""}]
[null,null,{"$f":"IFERROR(VLOOKUP(A52,登録申請書!$A:$R,$A$18+2,FALSE),\"\")","v":""},null,{"$f":"IFERROR(VLOOKUP(A52,登録申請書!$A:$R,$A$18+3,FALSE),\"\")","v":""},null,{"$f":"IFERROR(VLOOKUP(A52,登録申請書!$A:$R,$A$17,FALSE),\"\")","v":""},{"$f":"IFERROR(VLOOKUP(A52,登録申請書!$A:$R,$A$16,FALSE),\"\")","v":""},null,{"$f":"IFERROR(VLOOKUP(A52,登録申請書!$A:$R,$A$17+10,FALSE),\"\")","v":""},{"$f":"IF(A52=0,\"\",入力シート!K63)","v":""}]
[{"$f":"入力シート!E63","v":0},null,{"$f":"IFERROR(VLOOKUP(A52,登録申請書!$A:$R,$A$18,FALSE),\"\")","v":""},null,{"$f":"IFERROR(VLOOKUP(A52,登録申請書!$A:$R,$A$18+1,FALSE),\"\")","v":""}]
[null,null,{"$f":"IFERROR(VLOOKUP(A54,登録申請書!$A:$R,$A$18+2,FALSE),\"\")","v":""},null,{"$f":"IFERROR(VLOOKUP(A54,登録申請書!$A:$R,$A$18+3,FALSE),\"\")","v":""},null,{"$f":"IFERROR(VLOOKUP(A54,登録申請書!$A:$R,$A$17,FALSE),\"\")","v":""},{"$f":"IFERROR(VLOOKUP(A54,登録申請書!$A:$R,$A$16,FALSE),\"\")","v":""},null,{"$f":"IFERROR(VLOOKUP(A54,登録申請書!$A:$R,$A$17+10,FALSE),\"\")","v":""},{"$f":"IF(A54=0,\"\",入力シート!K64)","v":""}]
[{"$f":"入力シート!E64","v":0},null,{"$f":"IFERROR(VLOOKUP(A54,登録申請書!$A:$R,$A$18,FALSE),\"\")","v":""},null,{"$f":"IFERROR(VLOOKUP(A54,登録申請書!$A:$R,$A$18+1,FALSE),\"\")","v":""}]
[null,"９２ｋｇ",{"$f":"IFERROR(VLOOKUP(A56,登録申請書!$A:$R,$A$18+2,FALSE),\"\")","v":""},null,{"$f":"IFERROR(VLOOKUP(A56,登録申請書!$A:$R,$A$18+3,FALSE),\"\")","v":""},null,{"$f":"IFERROR(VLOOKUP(A56,登録申請書!$A:$R,$A$17,FALSE),\"\")","v":""},{"$f":"IFERROR(VLOOKUP(A56,登録申請書!$A:$R,$A$16,FALSE),\"\")","v":""},null,{"$f":"IFERROR(VLOOKUP(A56,登録申請書!$A:$R,$A$17+10,FALSE),\"\")","v":""},{"$f":"IF(A56=0,\"\",入力シート!K65)","v":""}]
[{"$f":"入力シート!E65","v":0},null,{"$f":"IFERROR(VLOOKUP(A56,登録申請書!$A:$R,$A$18,FALSE),\"\")","v":""},null,{"$f":"IFERROR(VLOOKUP(A56,登録申請書!$A:$R,$A$18+1,FALSE),\"\")","v":""}]
[null,null,{"$f":"IFERROR(VLOOKUP(A58,登録申請書!$A:$R,$A$18+2,FALSE),\"\")","v":""},null,{"$f":"IFERROR(VLOOKUP(A58,登録申請書!$A:$R,$A$18+3,FALSE),\"\")","v":""},null,{"$f":"IFERROR(VLOOKUP(A58,登録申請書!$A:$R,$A$17,FALSE),\"\")","v":""},{"$f":"IFERROR(VLOOKUP(A58,登録申請書!$A:$R,$A$16,FALSE),\"\")","v":""},null,{"$f":"IFERROR(VLOOKUP(A58,登録申請書!$A:$R,$A$17+10,FALSE),\"\")","v":""},{"$f":"IF(A58=0,\"\",入力シート!K66)","v":""}]
[{"$f":"入力シート!E66","v":0},null,{"$f":"IFERROR(VLOOKUP(A58,登録申請書!$A:$R,$A$18,FALSE),\"\")","v":""},null,{"$f":"IFERROR(VLOOKUP(A58,登録申請書!$A:$R,$A$18+1,FALSE),\"\")","v":""}]
[null,null,{"$f":"IFERROR(VLOOKUP(A60,登録申請書!$A:$R,$A$18+2,FALSE),\"\")","v":""},null,{"$f":"IFERROR(VLOOKUP(A60,登録申請書!$A:$R,$A$18+3,FALSE),\"\")","v":""},null,{"$f":"IFERROR(VLOOKUP(A60,登録申請書!$A:$R,$A$17,FALSE),\"\")","v":""},{"$f":"IFERROR(VLOOKUP(A60,登録申請書!$A:$R,$A$16,FALSE),\"\")","v":""},null,{"$f":"IFERROR(VLOOKUP(A60,登録申請書!$A:$R,$A$17+10,FALSE),\"\")","v":""},{"$f":"IF(A60=0,\"\",入力シート!K67)","v":""}]
[{"$f":"入力シート!E67","v":0},null,{"$f":"IFERROR(VLOOKUP(A60,登録申請書!$A:$R,$A$18,FALSE),\"\")","v":""},null,{"$f":"IFERROR(VLOOKUP(A60,登録申請書!$A:$R,$A$18+1,FALSE),\"\")","v":""}]
[null,"１２５ｋｇ",{"$f":"IFERROR(VLOOKUP(A62,登録申請書!$A:$R,$A$18+2,FALSE),\"\")","v":""},null,{"$f":"IFERROR(VLOOKUP(A62,登録申請書!$A:$R,$A$18+3,FALSE),\"\")","v":""},null,{"$f":"IFERROR(VLOOKUP(A62,登録申請書!$A:$R,$A$17,FALSE),\"\")","v":""},{"$f":"IFERROR(VLOOKUP(A62,登録申請書!$A:$R,$A$16,FALSE),\"\")","v":""},null,{"$f":"IFERROR(VLOOKUP(A62,登録申請書!$A:$R,$A$17+10,FALSE),\"\")","v":""},{"$f":"IF(A62=0,\"\",入力シート!K68)","v":""}]
[{"$f":"入力シート!E68","v":0},null,{"$f":"IFERROR(VLOOKUP(A62,登録申請書!$A:$R,$A$18,FALSE),\"\")","v":""},null,{"$f":"IFERROR(VLOOKUP(A62,登録申請書!$A:$R,$A$18+1,FALSE),\"\")","v":""}]
[null,null,{"$f":"IFERROR(VLOOKUP(A64,登録申請書!$A:$R,$A$18+2,FALSE),\"\")","v":""},null,{"$f":"IFERROR(VLOOKUP(A64,登録申請書!$A:$R,$A$18+3,FALSE),\"\")","v":""},null,{"$f":"IFERROR(VLOOKUP(A64,登録申請書!$A:$R,$A$17,FALSE),\"\")","v":""},{"$f":"IFERROR(VLOOKUP(A64,登録申請書!$A:$R,$A$16,FALSE),\"\")","v":""},null,{"$f":"IFERROR(VLOOKUP(A64,登録申請書!$A:$R,$A$17+10,FALSE),\"\")","v":""},{"$f":"IF(A64=0,\"\",入力シート!K69)","v":""}]
[{"$f":"入力シート!E69","v":0},null,{"$f":"IFERROR(VLOOKUP(A64,登録申請書!$A:$R,$A$18,FALSE),\"\")","v":""},null,{"$f":"IFERROR(VLOOKUP(A64,登録申請書!$A:$R,$A$18+1,FALSE),\"\")","v":""}]
[null,null,{"$f":"IFERROR(VLOOKUP(A66,登録申請書!$A:$R,$A$18+2,FALSE),\"\")","v":""},null,{"$f":"IFERROR(VLOOKUP(A66,登録申請書!$A:$R,$A$18+3,FALSE),\"\")","v":""},null,{"$f":"IFERROR(VLOOKUP(A66,登録申請書!$A:$R,$A$17,FALSE),\"\")","v":""},{"$f":"IFERROR(VLOOKUP(A66,登録申請書!$A:$R,$A$16,FALSE),\"\")","v":""},null,{"$f":"IFERROR(VLOOKUP(A66,登録申請書!$A:$R,$A$17+10,FALSE),\"\")","v":""},{"$f":"IF(A66=0,\"\",入力シート!K70)","v":""}]
[{"$f":"入力シート!E70","v":0},null,{"$f":"IFERROR(VLOOKUP(A66,登録申請書!$A:$R,$A$18,FALSE),\"\")","v":""},null,{"$f":"IFERROR(VLOOKUP(A66,登録申請書!$A:$R,$A$18+1,FALSE),\"\")","v":""}]
[]
[]
[]
[]
[]
[]
[]
[]
[]
[]
[]
[]
[]
[]
[]
[]
[]
[]
[]
[]
[]
[]
[]
[]
[]
[]
[]
[]
[]
[]
[]
[]
[]
[]
[]
[]
[]
[]
[]
[]
[]
[]
[]
[]
[]
[null,{"$f":"C6","v":"(選択)"}]
[null,{"$f":"VLOOKUP(B112,$B$117:$C$165,2,FALSE)","v":0}]
[]
[]
[]
[null,"(選択)",0]
[null,"北海道",1]
[null,"青森県",2]
[null,"岩手県",3]
[null,"宮城県",4]
[null,"秋田県",5]
[null,"山形県",6]
[null,"福島県",7]
[null,"茨城県",8]
[null,"栃木県",9]
[null,"群馬県",10]
[null,"埼玉県",11]
[null,"千葉県",12]
[null,"東京都",13]
[null,"神奈川県",14]
[null,"山梨県",15]
[null,"新潟県",16]
[null,"富山県",17]
[null,"石川県",18]
[null,"福井県",19]
[null,"長野県",20]
[null,"岐阜県",21]
[null,"静岡県",22]
[null,"愛知県",23]
[null,"三重県",24]
[null,"滋賀県",25]
[null,"京都府",26]
[null,"大阪府",27]
[null,"兵庫県",28]
[null,"奈良県",29]
[null,"和歌山県",30]
[null,"鳥取県",31]
[null,"島根県",32]
[null,"岡山県",33]
[null,"広島県",34]
[null,"山口県",35]
[null,"徳島県",36]
[null,"香川県",37]
[null,"愛媛県",38]
[null,"高知県",39]
[null,"福岡県",40]
[null,"佐賀県",41]
[null,"長崎県",42]
[null,"熊本県",43]
[null,"大分県",44]
[null,"宮崎県",45]
[null,"鹿児島県",46]
[null,"沖縄県",47]
[null,null,48]

{"sheet":"参加申込B－１","index":3,"n_rows":165,"n_cols":7,"rows_kept":165,"cut":false,"hidden":false,"merged":[[33,6,33,7],[31,6,31,7],[32,6,32,7],[39,6,39,7],[41,6,41,7],[42,6,42,7],[47,6,47,7],[48,6,48,7],[53,6,53,7],[44,6,44,7],[43,6,43,7],[40,6,40,7],[37,6,37,7],[38,6,38,7],[21,1,26,1],[13,6,13,7],[14,6,14,7],[62,6,62,7],[52,6,52,7],[55,6,55,7],[56,6,56,7],[57,6,57,7],[58,6,58,7],[61,6,61,7],[45,6,45,7],[46,6,46,7],[49,6,49,7],[50,6,50,7],[51,6,51,7],[17,4,18,4],[17,5,18,5],[17,6,17,7],[18,6,18,7],[54,6,54,7],[59,6,59,7],[60,6,60,7],[29,6,29,7],[30,6,30,7],[0,1,0,7],[15,1,20,1],[13,1,14,1],[13,2,13,3],[13,4,14,4],[14,2,14,3],[20,6,20,7],[19,6,19,7],[16,6,16,7],[15,6,15,7],[2,1,2,3],[15,4,16,4],[15,5,16,5],[10,1,10,4],[11,4,11,7],[5,1,5,2],[5,4,5,7],[9,4,9,7],[7,4,7,7],[12,4,12,7],[7,1,7,2],[27,6,27,7],[28,6,28,7],[35,6,35,7],[36,6,36,7],[19,4,20,4],[19,5,20,5],[21,6,21,7],[22,6,22,7],[33,5,34,5],[23,4,24,4],[23,5,24,5],[23,6,23,7],[24,6,24,7],[27,4,28,4],[29,4,30,4],[27,5,28,5],[29,5,30,5],[21,4,22,4],[21,5,22,5],[25,4,26,4],[25,5,26,5],[26,6,26,7],[25,6,25,7],[34,6,34,7],[57,1,62,1],[57,4,58,4],[57,5,58,5],[49,4,50,4],[49,5,50,5],[61,4,62,4],[61,5,62,5],[51,4,52,4],[51,5,52,5],[51,1,56,1],[55,4,56,4],[55,5,56,5],[45,1,50,1],[45,4,46,4],[45,5,46,5],[47,4,48,4],[53,4,54,4],[59,4,60,4],[47,5,48,5],[53,5,54,5],[59,5,60,5],[27,1,32,1],[31,4,32,4],[31,5,32,5],[33,1,38,1],[39,1,44,1],[39,4,40,4],[39,5,40,5],[43,4,44,4],[43,5,44,5],[33,4,34,4],[37,4,38,4],[37,5,38,5],[35,4,36,4],[41,4,42,4],[35,5,36,5],[41,5,42,5]]}
[null,{"$f":"入力シート!D2","v":"第４１回　全国高校生グレコローマンレスリング選手権大会"}]
[]
[null,"【　Ｂ－１　】　参加都道府県用"]
[]
[null,null,{"$f":"入力シート!C17","v":"(選択)"},"都道府県高等学校体育連盟レスリング専門部"]
[null,{"$f":"入力シート!C28","v":0},null,"住　　　所",{"$f":"入力シート!C29&入力シート!C30","v":""}]
[]
[null,{"$f":"IFERROR(入力シート!N26,\"\")","v":""},null,"電話番号",{"$f":"入力シート!C32","v":0}]
[]
[null,null,null,"委員長名　                 　　　　　　　　　　　　　　　　　　　印",{"$f":"入力シート!C89","v":0}]
[null,"下記の選手の参加を認めます。"]
[11,{"$f":"入力シート!C123&入力シート!E123&入力シート!F123&入力シート!G123&入力シート!H123","v":"令和７年　月　　日"},null,"連絡用 アドレス：",{"$f":"IFERROR(入力シート!C91,\"\")","v":0}]
[13,null,null,"携帯番号：",{"$f":"IFERROR(入力シート!C93,\"\")","v":0}]
[8,"階　　級","ふ　り　が　な",null,"生　年　月　日","学"]
[3,null,"選　　手　　名",null,null,"年","高　等　学　校　名"]
[null,"５１ｋｇ",{"$f":"IFERROR(VLOOKUP(A17,登録申請書!$A:$R,$A$15+2,FALSE),\"\")","v":""},{"$f":"IFERROR(VLOOKUP(A17,登録申請書!$A:$R,$A$15+3,FALSE),\"\")","v":""},{"$f":"IFERROR(VLOOKUP(A17,登録申請書!$A:$R,$A$14,FALSE),\"\")","v":""},{"$f":"IFERROR(VLOOKUP(A17,登録申請書!$A:$R,$A$13,FALSE),\"\")","v":""}]
[{"$f":"入力シート!E97","v":0},null,{"$f":"IFERROR(VLOOKUP(A17,登録申請書!$A:$R,$A$15,FALSE),\"\")","v":""},{"$f":"IFERROR(VLOOKUP(A17,登録申請書!$A:$R,$A$15+1,FALSE),\"\")","v":""},null,null,{"$f":"IFERROR(VLOOKUP(A17,登録申請書!$A:$R,$A$12,FALSE),\"\")","v":""}]
[null,null,{"$f":"IFERROR(VLOOKUP(A19,登録申請書!$A:$R,$A$15+2,FALSE),\"\")","v":""},{"$f":"IFERROR(VLOOKUP(A19,登録申請書!$A:$R,$A$15+3,FALSE),\"\")","v":""},{"$f":"IFERROR(VLOOKUP(A19,登録申請書!$A:$R,$A$14,FALSE),\"\")","v":""},{"$f":"IFERROR(VLOOKUP(A19,登録申請書!$A:$R,$A$13,FALSE),\"\")","v":""}]
[{"$f":"入力シート!E98","v":0},null,{"$f":"IFERROR(VLOOKUP(A19,登録申請書!$A:$R,$A$15,FALSE),\"\")","v":""},{"$f":"IFERROR(VLOOKUP(A19,登録申請書!$A:$R,$A$15+1,FALSE),\"\")","v":""},null,null,{"$f":"IFERROR(VLOOKUP(A19,登録申請書!$A:$R,$A$12,FALSE),\"\")","v":""}]
[null,null,{"$f":"IFERROR(VLOOKUP(A21,登録申請書!$A:$R,$A$15+2,FALSE),\"\")","v":""},{"$f":"IFERROR(VLOOKUP(A21,登録申請書!$A:$R,$A$15+3,FALSE),\"\")","v":""},{"$f":"IFERROR(VLOOKUP(A21,登録申請書!$A:$R,$A$14,FALSE),\"\")","v":""},{"$f":"IFERROR(VLOOKUP(A21,登録申請書!$A:$R,$A$13,FALSE),\"\")","v":""}]
[{"$f":"入力シート!E99","v":0},null,{"$f":"IFERROR(VLOOKUP(A21,登録申請書!$A:$R,$A$15,FALSE),\"\")","v":""},{"$f":"IFERROR(VLOOKUP(A21,登録申請書!$A:$R,$A$15+1,FALSE),\"\")","v":""},null,null,{"$f":"IFERROR(VLOOKUP(A21,登録申請書!$A:$R,$A$12,FALSE),\"\")","v":""}]
[null,"５５ｋｇ",{"$f":"IFERROR(VLOOKUP(A23,登録申請書!$A:$R,$A$15+2,FALSE),\"\")","v":""},{"$f":"IFERROR(VLOOKUP(A23,登録申請書!$A:$R,$A$15+3,FALSE),\"\")","v":""},{"$f":"IFERROR(VLOOKUP(A23,登録申請書!$A:$R,$A$14,FALSE),\"\")","v":""},{"$f":"IFERROR(VLOOKUP(A23,登録申請書!$A:$R,$A$13,FALSE),\"\")","v":""}]
[{"$f":"入力シート!E100","v":0},null,{"$f":"IFERROR(VLOOKUP(A23,登録申請書!$A:$R,$A$15,FALSE),\"\")","v":""},{"$f":"IFERROR(VLOOKUP(A23,登録申請書!$A:$R,$A$15+1,FALSE),\"\")","v":""},null,null,{"$f":"IFERROR(VLOOKUP(A23,登録申請書!$A:$R,$A$12,FALSE),\"\")","v":""}]
[null,null,{"$f":"IFERROR(VLOOKUP(A25,登録申請書!$A:$R,$A$15+2,FALSE),\"\")","v":""},{"$f":"IFERROR(VLOOKUP(A25,登録申請書!$A:$R,$A$15+3,FALSE),\"\")","v":""},{"$f":"IFERROR(VLOOKUP(A25,登録申請書!$A:$R,$A$14,FALSE),\"\")","v":""},{"$f":"IFERROR(VLOOKUP(A25,登録申請書!$A:$R,$A$13,FALSE),\"\")","v":""}]
[{"$f":"入力シート!E101","v":0},null,{"$f":"IFERROR(VLOOKUP(A25,登録申請書!$A:$R,$A$15,FALSE),\"\")","v":""},{"$f":"IFERROR(VLOOKUP(A25,登録申請書!$A:$R,$A$15+1,FALSE),\"\")","v":""},null,null,{"$f":"IFERROR(VLOOKUP(A25,登録申請書!$A:$R,$A$12,FALSE),\"\")","v":""}]
[null,null,{"$f":"IFERROR(VLOOKUP(A27,登録申請書!$A:$R,$A$15+2,FALSE),\"\")","v":""},{"$f":"IFERROR(VLOOKUP(A27,登録申請書!$A:$R,$A$15+3,FALSE),\"\")","v":""},{"$f":"IFERROR(VLOOKUP(A27,登録申請書!$A:$R,$A$14,FALSE),\"\")","v":""},{"$f":"IFERROR(VLOOKUP(A27,登録申請書!$A:$R,$A$13,FALSE),\"\")","v":""}]
[{"$f":"入力シート!E102","v":0},null,{"$f":"IFERROR(VLOOKUP(A27,登録申請書!$A:$R,$A$15,FALSE),\"\")","v":""},{"$f":"IFERROR(VLOOKUP(A27,登録申請書!$A:$R,$A$15+1,FALSE),\"\")","v":""},null,null,{"$f":"IFERROR(VLOOKUP(A27,登録申請書!$A:$R,$A$12,FALSE),\"\")","v":""}]
[null,"６０ｋｇ",{"$f":"IFERROR(VLOOKUP(A29,登録申請書!$A:$R,$A$15+2,FALSE),\"\")","v":""},{"$f":"IFERROR(VLOOKUP(A29,登録申請書!$A:$R,$A$15+3,FALSE),\"\")","v":""},{"$f":"IFERROR(VLOOKUP(A29,登録申請書!$A:$R,$A$14,FALSE),\"\")","v":""},{"$f":"IFERROR(VLOOKUP(A29,登録申請書!$A:$R,$A$13,FALSE),\"\")","v":""}]
[{"$f":"入力シート!E103","v":0},null,{"$f":"IFERROR(VLOOKUP(A29,登録申請書!$A:$R,$A$15,FALSE),\"\")","v":""},{"$f":"IFERROR(VLOOKUP(A29,登録申請書!$A:$R,$A$15+1,FALSE),\"\")","v":""},null,null,{"$f":"IFERROR(VLOOKUP(A29,登録申請書!$A:$R,$A$12,FALSE),\"\")","v":""}]
[null,null,{"$f":"IFERROR(VLOOKUP(A31,登録申請書!$A:$R,$A$15+2,FALSE),\"\")","v":""},{"$f":"IFERROR(VLOOKUP(A31,登録申請書!$A:$R,$A$15+3,FALSE),\"\")","v":""},{"$f":"IFERROR(VLOOKUP(A31,登録申請書!$A:$R,$A$14,FALSE),\"\")","v":""},{"$f":"IFERROR(VLOOKUP(A31,登録申請書!$A:$R,$A$13,FALSE),\"\")","v":""}]
[{"$f":"入力シート!E104","v":0},null,{"$f":"IFERROR(VLOOKUP(A31,登録申請書!$A:$R,$A$15,FALSE),\"\")","v":""},{"$f":"IFERROR(VLOOKUP(A31,登録申請書!$A:$R,$A$15+1,FALSE),\"\")","v":""},null,null,{"$f":"IFERROR(VLOOKUP(A31,登録申請書!$A:$R,$A$12,FALSE),\"\")","v":""}]
[null,null,{"$f":"IFERROR(VLOOKUP(A33,登録申請書!$A:$R,$A$15+2,FALSE),\"\")","v":""},{"$f":"IFERROR(VLOOKUP(A33,登録申請書!$A:$R,$A$15+3,FALSE),\"\")","v":""},{"$f":"IFERROR(VLOOKUP(A33,登録申請書!$A:$R,$A$14,FALSE),\"\")","v":""},{"$f":"IFERROR(VLOOKUP(A33,登録申請書!$A:$R,$A$13,FALSE),\"\")","v":""}]
[{"$f":"入力シート!E105","v":0},null,{"$f":"IFERROR(VLOOKUP(A33,登録申請書!$A:$R,$A$15,FALSE),\"\")","v":""},{"$f":"IFERROR(VLOOKUP(A33,登録申請書!$A:$R,$A$15+1,FALSE),\"\")","v":""},null,null,{"$f":"IFERROR(VLOOKUP(A33,登録申請書!$A:$R,$A$12,FALSE),\"\")","v":""}]
[null,"６５ｋｇ",{"$f":"IFERROR(VLOOKUP(A35,登録申請書!$A:$R,$A$15+2,FALSE),\"\")","v":""},{"$f":"IFERROR(VLOOKUP(A35,登録申請書!$A:$R,$A$15+3,FALSE),\"\")","v":""},{"$f":"IFERROR(VLOOKUP(A35,登録申請書!$A:$R,$A$14,FALSE),\"\")","v":""},{"$f":"IFERROR(VLOOKUP(A35,登録申請書!$A:$R,$A$13,FALSE),\"\")","v":""}]
[{"$f":"入力シート!E106","v":0},null,{"$f":"IFERROR(VLOOKUP(A35,登録申請書!$A:$R,$A$15,FALSE),\"\")","v":""},{"$f":"IFERROR(VLOOKUP(A35,登録申請書!$A:$R,$A$15+1,FALSE),\"\")","v":""},null,null,{"$f":"IFERROR(VLOOKUP(A35,登録申請書!$A:$R,$A$12,FALSE),\"\")","v":""}]
[null,null,{"$f":"IFERROR(VLOOKUP(A37,登録申請書!$A:$R,$A$15+2,FALSE),\"\")","v":""},{"$f":"IFERROR(VLOOKUP(A37,登録申請書!$A:$R,$A$15+3,FALSE),\"\")","v":""},{"$f":"IFERROR(VLOOKUP(A37,登録申請書!$A:$R,$A$14,FALSE),\"\")","v":""},{"$f":"IFERROR(VLOOKUP(A37,登録申請書!$A:$R,$A$13,FALSE),\"\")","v":""}]
[{"$f":"入力シート!E107","v":0},null,{"$f":"IFERROR(VLOOKUP(A37,登録申請書!$A:$R,$A$15,FALSE),\"\")","v":""},{"$f":"IFERROR(VLOOKUP(A37,登録申請書!$A:$R,$A$15+1,FALSE),\"\")","v":""},null,null,{"$f":"IFERROR(VLOOKUP(A37,登録申請書!$A:$R,$A$12,FALSE),\"\")","v":""}]
[null,null,{"$f":"IFERROR(VLOOKUP(A39,登録申請書!$A:$R,$A$15+2,FALSE),\"\")","v":""},{"$f":"IFERROR(VLOOKUP(A39,登録申請書!$A:$R,$A$15+3,FALSE),\"\")","v":""},{"$f":"IFERROR(VLOOKUP(A39,登録申請書!$A:$R,$A$14,FALSE),\"\")","v":""},{"$f":"IFERROR(VLOOKUP(A39,登録申請書!$A:$R,$A$13,FALSE),\"\")","v":""}]
[{"$f":"入力シート!E108","v":0},null,{"$f":"IFERROR(VLOOKUP(A39,登録申請書!$A:$R,$A$15,FALSE),\"\")","v":""},{"$f":"IFERROR(VLOOKUP(A39,登録申請書!$A:$R,$A$15+1,FALSE),\"\")","v":""},null,null,{"$f":"IFERROR(VLOOKUP(A39,登録申請書!$A:$R,$A$12,FALSE),\"\")","v":""}]
[null,"７１ｋｇ",{"$f":"IFERROR(VLOOKUP(A41,登録申請書!$A:$R,$A$15+2,FALSE),\"\")","v":""},{"$f":"IFERROR(VLOOKUP(A41,登録申請書!$A:$R,$A$15+3,FALSE),\"\")","v":""},{"$f":"IFERROR(VLOOKUP(A41,登録申請書!$A:$R,$A$14,FALSE),\"\")","v":""},{"$f":"IFERROR(VLOOKUP(A41,登録申請書!$A:$R,$A$13,FALSE),\"\")","v":""}]
[{"$f":"入力シート!E109","v":0},null,{"$f":"IFERROR(VLOOKUP(A41,登録申請書!$A:$R,$A$15,FALSE),\"\")","v":""},{"$f":"IFERROR(VLOOKUP(A41,登録申請書!$A:$R,$A$15+1,FALSE),\"\")","v":""},null,null,{"$f":"IFERROR(VLOOKUP(A41,登録申請書!$A:$R,$A$12,FALSE),\"\")","v":""}]
[null,null,{"$f":"IFERROR(VLOOKUP(A43,登録申請書!$A:$R,$A$15+2,FALSE),\"\")","v":""},{"$f":"IFERROR(VLOOKUP(A43,登録申請書!$A:$R,$A$15+3,FALSE),\"\")","v":""},{"$f":"IFERROR(VLOOKUP(A43,登録申請書!$A:$R,$A$14,FALSE),\"\")","v":""},{"$f":"IFERROR(VLOOKUP(A43,登録申請書!$A:$R,$A$13,FALSE),\"\")","v":""}]
[{"$f":"入力シート!E110","v":0},null,{"$f":"IFERROR(VLOOKUP(A43,登録申請書!$A:$R,$A$15,FALSE),\"\")","v":""},{"$f":"IFERROR(VLOOKUP(A43,登録申請書!$A:$R,$A$15+1,FALSE),\"\")","v":""},null,null,{"$f":"IFERROR(VLOOKUP(A43,登録申請書!$A:$R,$A$12,FALSE),\"\")","v":""}]
[null,null,{"$f":"IFERROR(VLOOKUP(A45,登録申請書!$A:$R,$A$15+2,FALSE),\"\")","v":""},{"$f":"IFERROR(VLOOKUP(A45,登録申請書!$A:$R,$A$15+3,FALSE),\"\")","v":""},{"$f":"IFERROR(VLOOKUP(A45,登録申請書!$A:$R,$A$14,FALSE),\"\")","v":""},{"$f":"IFERROR(VLOOKUP(A45,登録申請書!$A:$R,$A$13,FALSE),\"\")","v":""}]
[{"$f":"入力シート!E111","v":0},null,{"$f":"IFERROR(VLOOKUP(A45,登録申請書!$A:$R,$A$15,FALSE),\"\")","v":""},{"$f":"IFERROR(VLOOKUP(A45,登録申請書!$A:$R,$A$15+1,FALSE),\"\")","v":""},null,null,{"$f":"IFERROR(VLOOKUP(A45,登録申請書!$A:$R,$A$12,FALSE),\"\")","v":""}]
[null,"８０ｋｇ",{"$f":"IFERROR(VLOOKUP(A47,登録申請書!$A:$R,$A$15+2,FALSE),\"\")","v":""},{"$f":"IFERROR(VLOOKUP(A47,登録申請書!$A:$R,$A$15+3,FALSE),\"\")","v":""},{"$f":"IFERROR(VLOOKUP(A47,登録申請書!$A:$R,$A$14,FALSE),\"\")","v":""},{"$f":"IFERROR(VLOOKUP(A47,登録申請書!$A:$R,$A$13,FALSE),\"\")","v":""}]
[{"$f":"入力シート!E112","v":0},null,{"$f":"IFERROR(VLOOKUP(A47,登録申請書!$A:$R,$A$15,FALSE),\"\")","v":""},{"$f":"IFERROR(VLOOKUP(A47,登録申請書!$A:$R,$A$15+1,FALSE),\"\")","v":""},null,null,{"$f":"IFERROR(VLOOKUP(A47,登録申請書!$A:$R,$A$12,FALSE),\"\")","v":""}]
[null,null,{"$f":"IFERROR(VLOOKUP(A49,登録申請書!$A:$R,$A$15+2,FALSE),\"\")","v":""},{"$f":"IFERROR(VLOOKUP(A49,登録申請書!$A:$R,$A$15+3,FALSE),\"\")","v":""},{"$f":"IFERROR(VLOOKUP(A49,登録申請書!$A:$R,$A$14,FALSE),\"\")","v":""},{"$f":"IFERROR(VLOOKUP(A49,登録申請書!$A:$R,$A$13,FALSE),\"\")","v":""}]
[{"$f":"入力シート!E113","v":0},null,{"$f":"IFERROR(VLOOKUP(A49,登録申請書!$A:$R,$A$15,FALSE),\"\")","v":""},{"$f":"IFERROR(VLOOKUP(A49,登録申請書!$A:$R,$A$15+1,FALSE),\"\")","v":""},null,null,{"$f":"IFERROR(VLOOKUP(A49,登録申請書!$A:$R,$A$12,FALSE),\"\")","v":""}]
[null,null,{"$f":"IFERROR(VLOOKUP(A51,登録申請書!$A:$R,$A$15+2,FALSE),\"\")","v":""},{"$f":"IFERROR(VLOOKUP(A51,登録申請書!$A:$R,$A$15+3,FALSE),\"\")","v":""},{"$f":"IFERROR(VLOOKUP(A51,登録申請書!$A:$R,$A$14,FALSE),\"\")","v":""},{"$f":"IFERROR(VLOOKUP(A51,登録申請書!$A:$R,$A$13,FALSE),\"\")","v":""}]
[{"$f":"入力シート!E114","v":0},null,{"$f":"IFERROR(VLOOKUP(A51,登録申請書!$A:$R,$A$15,FALSE),\"\")","v":""},{"$f":"IFERROR(VLOOKUP(A51,登録申請書!$A:$R,$A$15+1,FALSE),\"\")","v":""},null,null,{"$f":"IFERROR(VLOOKUP(A51,登録申請書!$A:$R,$A$12,FALSE),\"\")","v":""}]
[null,"９２ｋｇ",{"$f":"IFERROR(VLOOKUP(A53,登録申請書!$A:$R,$A$15+2,FALSE),\"\")","v":""},{"$f":"IFERROR(VLOOKUP(A53,登録申請書!$A:$R,$A$15+3,FALSE),\"\")","v":""},{"$f":"IFERROR(VLOOKUP(A53,登録申請書!$A:$R,$A$14,FALSE),\"\")","v":""},{"$f":"IFERROR(VLOOKUP(A53,登録申請書!$A:$R,$A$13,FALSE),\"\")","v":""}]
[{"$f":"入力シート!E115","v":0},null,{"$f":"IFERROR(VLOOKUP(A53,登録申請書!$A:$R,$A$15,FALSE),\"\")","v":""},{"$f":"IFERROR(VLOOKUP(A53,登録申請書!$A:$R,$A$15+1,FALSE),\"\")","v":""},null,null,{"$f":"IFERROR(VLOOKUP(A53,登録申請書!$A:$R,$A$12,FALSE),\"\")","v":""}]
[null,null,{"$f":"IFERROR(VLOOKUP(A55,登録申請書!$A:$R,$A$15+2,FALSE),\"\")","v":""},{"$f":"IFERROR(VLOOKUP(A55,登録申請書!$A:$R,$A$15+3,FALSE),\"\")","v":""},{"$f":"IFERROR(VLOOKUP(A55,登録申請書!$A:$R,$A$14,FALSE),\"\")","v":""},{"$f":"IFERROR(VLOOKUP(A55,登録申請書!$A:$R,$A$13,FALSE),\"\")","v":""}]
[{"$f":"入力シート!E116","v":0},null,{"$f":"IFERROR(VLOOKUP(A55,登録申請書!$A:$R,$A$15,FALSE),\"\")","v":""},{"$f":"IFERROR(VLOOKUP(A55,登録申請書!$A:$R,$A$15+1,FALSE),\"\")","v":""},null,null,{"$f":"IFERROR(VLOOKUP(A55,登録申請書!$A:$R,$A$12,FALSE),\"\")","v":""}]
[null,null,{"$f":"IFERROR(VLOOKUP(A57,登録申請書!$A:$R,$A$15+2,FALSE),\"\")","v":""},{"$f":"IFERROR(VLOOKUP(A57,登録申請書!$A:$R,$A$15+3,FALSE),\"\")","v":""},{"$f":"IFERROR(VLOOKUP(A57,登録申請書!$A:$R,$A$14,FALSE),\"\")","v":""},{"$f":"IFERROR(VLOOKUP(A57,登録申請書!$A:$R,$A$13,FALSE),\"\")","v":""}]
[{"$f":"入力シート!E117","v":0},null,{"$f":"IFERROR(VLOOKUP(A57,登録申請書!$A:$R,$A$15,FALSE),\"\")","v":""},{"$f":"IFERROR(VLOOKUP(A57,登録申請書!$A:$R,$A$15+1,FALSE),\"\")","v":""},null,null,{"$f":"IFERROR(VLOOKUP(A57,登録申請書!$A:$R,$A$12,FALSE),\"\")","v":""}]
[null,"１２５ｋｇ",{"$f":"IFERROR(VLOOKUP(A59,登録申請書!$A:$R,$A$15+2,FALSE),\"\")","v":""},{"$f":"IFERROR(VLOOKUP(A59,登録申請書!$A:$R,$A$15+3,FALSE),\"\")","v":""},{"$f":"IFERROR(VLOOKUP(A59,登録申請書!$A:$R,$A$14,FALSE),\"\")","v":""},{"$f":"IFERROR(VLOOKUP(A59,登録申請書!$A:$R,$A$13,FALSE),\"\")","v":""}]
[{"$f":"入力シート!E118","v":0},null,{"$f":"IFERROR(VLOOKUP(A59,登録申請書!$A:$R,$A$15,FALSE),\"\")","v":""},{"$f":"IFERROR(VLOOKUP(A59,登録申請書!$A:$R,$A$15+1,FALSE),\"\")","v":""},null,null,{"$f":"IFERROR(VLOOKUP(A59,登録申請書!$A:$R,$A$12,FALSE),\"\")","v":""}]
[null,null,{"$f":"IFERROR(VLOOKUP(A61,登録申請書!$A:$R,$A$15+2,FALSE),\"\")","v":""},{"$f":"IFERROR(VLOOKUP(A61,登録申請書!$A:$R,$A$15+3,FALSE),\"\")","v":""},{"$f":"IFERROR(VLOOKUP(A61,登録申請書!$A:$R,$A$14,FALSE),\"\")","v":""},{"$f":"IFERROR(VLOOKUP(A61,登録申請書!$A:$R,$A$13,FALSE),\"\")","v":""}]
[{"$f":"入力シート!E119","v":0},null,{"$f":"IFERROR(VLOOKUP(A61,登録申請書!$A:$R,$A$15,FALSE),\"\")","v":""},{"$f":"IFERROR(VLOOKUP(A61,登録申請書!$A:$R,$A$15+1,FALSE),\"\")","v":""},null,null,{"$f":"IFERROR(VLOOKUP(A61,登録申請書!$A:$R,$A$12,FALSE),\"\")","v":""}]
[null,null,{"$f":"IFERROR(VLOOKUP(A63,登録申請書!$A:$R,$A$15+2,FALSE),\"\")","v":""},{"$f":"IFERROR(VLOOKUP(A63,登録申請書!$A:$R,$A$15+3,FALSE),\"\")","v":""},{"$f":"IFERROR(VLOOKUP(A63,登録申請書!$A:$R,$A$14,FALSE),\"\")","v":""},{"$f":"IFERROR(VLOOKUP(A63,登録申請書!$A:$R,$A$13,FALSE),\"\")","v":""}]
[{"$f":"入力シート!E120","v":0},null,{"$f":"IFERROR(VLOOKUP(A63,登録申請書!$A:$R,$A$15,FALSE),\"\")","v":""},{"$f":"IFERROR(VLOOKUP(A63,登録申請書!$A:$R,$A$15+1,FALSE),\"\")","v":""},null,null,{"$f":"IFERROR(VLOOKUP(A63,登録申請書!$A:$R,$A$12,FALSE),\"\")","v":""}]
[null,null,null,null,null,null,"B表は、２種類あります"]
[]
[]
[]
[]
[]
[]
[]
[]
[]
[]
[]
[]
[]
[]
[]
[]
[]
[]
[]
[]
[]
[]
[]
[]
[]
[]
[]
[]
[]
[]
[]
[]
[]
[]
[]
[]
[]
[]
[]
[]
[]
[]
[]
[]
[]
[]
[]
[null,{"$f":"C5","v":"(選択)"}]
[null,{"$f":"VLOOKUP(B112,$B$117:$C$165,2,FALSE)","v":0}]
[]
[]
[]
[null,"(選択)",0]
[null,"北海道",1]
[null,"青森県",2]
[null,"岩手県",3]
[null,"宮城県",4]
[null,"秋田県",5]
[null,"山形県",6]
[null,"福島県",7]
[null,"茨城県",8]
[null,"栃木県",9]
[null,"群馬県",10]
[null,"埼玉県",11]
[null,"千葉県",12]
[null,"東京都",13]
[null,"神奈川県",14]
[null,"山梨県",15]
[null,"新潟県",16]
[null,"富山県",17]
[null,"石川県",18]
[null,"福井県",19]
[null,"長野県",20]
[null,"岐阜県",21]
[null,"静岡県",22]
[null,"愛知県",23]
[null,"三重県",24]
[null,"滋賀県",25]
[null,"京都府",26]
[null,"大阪府",27]
[null,"兵庫県",28]
[null,"奈良県",29]
[null,"和歌山県",30]
[null,"鳥取県",31]
[null,"島根県",32]
[null,"岡山県",33]
[null,"広島県",34]
[null,"山口県",35]
[null,"徳島県",36]
[null,"香川県",37]
[null,"愛媛県",38]
[null,"高知県",39]
[null,"福岡県",40]
[null,"佐賀県",41]
[null,"長崎県",42]
[null,"熊本県",43]
[null,"大分県",44]
[null,"宮崎県",45]
[null,"鹿児島県",46]
[null,"沖縄県",47]
[null,null,48]

{"sheet":"参加申込B－２","index":4,"n_rows":97,"n_cols":7,"rows_kept":97,"cut":false,"hidden":false,"merged":[[28,0,29,0],[29,1,29,2],[26,0,27,0],[24,0,25,0],[25,1,25,2],[26,1,26,2],[28,1,28,2],[27,1,27,2],[24,1,24,2],[22,0,23,0],[20,0,21,0],[21,1,21,2],[18,0,19,0],[16,0,17,0],[22,1,22,2],[23,1,23,2],[18,1,18,2],[20,1,20,2],[19,1,19,2],[16,1,16,2],[17,1,17,2],[7,4,7,6],[9,4,9,6],[14,0,15,0],[0,0,0,6],[11,4,11,6],[2,0,2,3],[13,4,13,5],[13,1,13,2],[14,1,14,2],[15,1,15,2],[4,1,4,2],[5,0,5,1],[5,3,5,6],[9,2,9,3],[7,2,7,3]]}
[{"$f":"入力シート!D2&\"参加申込書\"","v":"第４１回　全国高校生グレコローマンレスリング選手権大会参加申込書"}]
[]
["【　Ｂ－２　】　参加都道府県用"]
[]
[null,{"$f":"'参加申込B－１'!C5","v":"(選択)"},null,"都道府県高等学校体育連盟レスリング専門部"]
[{"$f":"入力シート!C28","v":0},null,"住　所",{"$f":"'参加申込B－１'!E6","v":""}]
[]
[null,null,"電話番号",null,{"$f":"'参加申込B－１'!E8","v":0}]
[]
[null,null,"委員長名",null,{"$f":"'参加申込B－１'!E10","v":0}]
["下記の監督・コーチの参加を認めます。"]
[{"$f":"入力シート!C167&入力シート!E167&入力シート!F167&入力シート!G167&入力シート!H167","v":"令和７年　月　　日"}]
[]
[null,"高　等　学　校　名",null,null,"名前",null,"協会番号"]
["１",{"$f":"IF(入力シート!N131=\"\",\"\",入力シート!N131)","v":""},null,"監督",{"$f":"IF(B15=\"\",\"\",IFERROR(入力シート!D131,\"\"))","v":""},{"$f":"IF(B15=\"\",\"\",IFERROR(入力シート!G131,\"\"))","v":""},{"$f":"IF(B15=\"\",\"\",IFERROR(入力シート!K131,\"\"))","v":""}]
[null,"高等学校",null,"コーチ",{"$f":"IF(B15=\"\",\"\",IFERROR(入力シート!D133,\"\"))","v":""},{"$f":"IF(B15=\"\",\"\",IFERROR(入力シート!G133,\"\"))","v":""},{"$f":"IF(B15=\"\",\"\",IFERROR(入力シート!K133,\"\"))","v":""}]
["２",{"$f":"IF(入力シート!N135=\"\",\"\",入力シート!N135)","v":""},null,"監督",{"$f":"IF(B17=\"\",\"\",IFERROR(入力シート!D135,\"\"))","v":""},{"$f":"IF(B17=\"\",\"\",IFERROR(入力シート!G135,\"\"))","v":""},{"$f":"IF(B17=\"\",\"\",IFERROR(入力シート!K135,\"\"))","v":""}]
[null,"高等学校",null,"コーチ",{"$f":"IF(B17=\"\",\"\",IFERROR(入力シート!D137,\"\"))","v":""},{"$f":"IF(B17=\"\",\"\",IFERROR(入力シート!G137,\"\"))","v":""},{"$f":"IF(B17=\"\",\"\",IFERROR(入力シート!K137,\"\"))","v":""}]
["３",{"$f":"IF(入力シート!N139=\"\",\"\",入力シート!N139)","v":""},null,"監督",{"$f":"IF(B19=\"\",\"\",IFERROR(入力シート!D139,\"\"))","v":""},{"$f":"IF(B19=\"\",\"\",IFERROR(入力シート!G139,\"\"))","v":""},{"$f":"IF(B19=\"\",\"\",IFERROR(入力シート!K139,\"\"))","v":""}]
[null,"高等学校",null,"コーチ",{"$f":"IF(B19=\"\",\"\",IFERROR(入力シート!D141,\"\"))","v":""},{"$f":"IF(B19=\"\",\"\",IFERROR(入力シート!G141,\"\"))","v":""},{"$f":"IF(B19=\"\",\"\",IFERROR(入力シート!K141,\"\"))","v":""}]
["４",{"$f":"IF(入力シート!N143=\"\",\"\",入力シート!N143)","v":""},null,"監督",{"$f":"IF(B21=\"\",\"\",IFERROR(入力シート!D143,\"\"))","v":""},{"$f":"IF(B21=\"\",\"\",IFERROR(入力シート!G143,\"\"))","v":""},{"$f":"IF(B21=\"\",\"\",IFERROR(入力シート!K143,\"\"))","v":""}]
[null,"高等学校",null,"コーチ",{"$f":"IF(B21=\"\",\"\",IFERROR(入力シート!D145,\"\"))","v":""},{"$f":"IF(B21=\"\",\"\",IFERROR(入力シート!G145,\"\"))","v":""},{"$f":"IF(B21=\"\",\"\",IFERROR(入力シート!K145,\"\"))","v":""}]
["５",{"$f":"IF(入力シート!N147=\"\",\"\",入力シート!N147)","v":""},null,"監督",{"$f":"IF(B23=\"\",\"\",IFERROR(入力シート!D147,\"\"))","v":""},{"$f":"IF(B23=\"\",\"\",IFERROR(入力シート!G147,\"\"))","v":""},{"$f":"IF(B23=\"\",\"\",IFERROR(入力シート!K147,\"\"))","v":""}]
[null,"高等学校",null,"コーチ",{"$f":"IF(B23=\"\",\"\",IFERROR(入力シート!D149,\"\"))","v":""},{"$f":"IF(B23=\"\",\"\",IFERROR(入力シート!G149,\"\"))","v":""},{"$f":"IF(B23=\"\",\"\",IFERROR(入力シート!K149,\"\"))","v":""}]
["６",{"$f":"IF(入力シート!N151=\"\",\"\",入力シート!N151)","v":""},null,"監督",{"$f":"IF(B25=\"\",\"\",IFERROR(入力シート!D151,\"\"))","v":""},{"$f":"IF(B25=\"\",\"\",IFERROR(入力シート!G151,\"\"))","v":""},{"$f":"IF(B25=\"\",\"\",IFERROR(入力シート!K151,\"\"))","v":""}]
[null,"高等学校",null,"コーチ",{"$f":"IF(B25=\"\",\"\",IFERROR(入力シート!D153,\"\"))","v":""},{"$f":"IF(B25=\"\",\"\",IFERROR(入力シート!G153,\"\"))","v":""},{"$f":"IF(B25=\"\",\"\",IFERROR(入力シート!K153,\"\"))","v":""}]
["７",{"$f":"IF(入力シート!N155=\"\",\"\",入力シート!N155)","v":""},null,"監督",{"$f":"IF(B27=\"\",\"\",IFERROR(入力シート!D155,\"\"))","v":""},{"$f":"IF(B27=\"\",\"\",IFERROR(入力シート!G155,\"\"))","v":""},{"$f":"IF(B27=\"\",\"\",IFERROR(入力シート!K155,\"\"))","v":""}]
[null,"高等学校",null,"コーチ",{"$f":"IF(B27=\"\",\"\",IFERROR(入力シート!D157,\"\"))","v":""},{"$f":"IF(B27=\"\",\"\",IFERROR(入力シート!G157,\"\"))","v":""},{"$f":"IF(B27=\"\",\"\",IFERROR(入力シート!K157,\"\"))","v":""}]
["８",{"$f":"IF(入力シート!N159=\"\",\"\",入力シート!N159)","v":""},null,"監督",{"$f":"IF(B29=\"\",\"\",IFERROR(入力シート!D159,\"\"))","v":""},{"$f":"IF(B29=\"\",\"\",IFERROR(入力シート!G159,\"\"))","v":""},{"$f":"IF(B29=\"\",\"\",IFERROR(入力シート!K159,\"\"))","v":""}]
[null,"高等学校",null,"コーチ",{"$f":"IF(B29=\"\",\"\",IFERROR(入力シート!D161,\"\"))","v":""},{"$f":"IF(B29=\"\",\"\",IFERROR(入力シート!G161,\"\"))","v":""},{"$f":"IF(B29=\"\",\"\",IFERROR(入力シート!K161,\"\"))","v":""}]
[null,null,null,null,null,"B-2で足りないい場合はB-3にお書きください"]
[]
[]
[]
[]
[]
[]
[]
[]
[]
[]
[]
[]
[]
[]
[]
[]
[]
[]
[]
[]
[]
[]
[]
[]
[]
[]
[]
[]
[]
[]
[]
[]
[]
[]
[]
[]
[]
[]
[]
[]
[]
[]
[]
[]
[]
[]
[]
[]
[]
[]
[]
[]
[]
[]
[]
[]
[]
[]
[]
[]
[]
[]
[]
[]
[{"$f":"'参加申込B－１'!B112","v":"(選択)"}]
[{"$f":"'参加申込B－１'!B113","v":0}]

{"sheet":"参加申込B－３","index":5,"n_rows":97,"n_cols":7,"rows_kept":97,"cut":false,"hidden":false,"merged":[[13,1,13,2],[13,4,13,5],[0,0,0,6],[2,0,2,3],[11,4,11,6],[4,1,4,2],[5,0,5,1],[5,3,5,6],[7,2,7,3],[7,4,7,6],[9,2,9,3],[9,4,9,6],[14,0,15,0],[14,1,14,2],[15,1,15,2],[16,0,17,0],[16,1,16,2],[17,1,17,2],[18,0,19,0],[18,1,18,2],[19,1,19,2],[20,0,21,0],[20,1,20,2],[21,1,21,2],[22,0,23,0],[22,1,22,2],[23,1,23,2],[24,0,25,0],[24,1,24,2],[25,1,25,2],[26,0,27,0],[26,1,26,2],[27,1,27,2],[28,0,29,0],[28,1,28,2],[29,1,29,2]]}
[{"$f":"入力シート!D2&\"参加申込書\"","v":"第４１回　全国高校生グレコローマンレスリング選手権大会参加申込書"}]
[]
["【　Ｂ－３　】　参加都道府県用"]
[]
[null,{"$f":"'参加申込B－１'!C5","v":"(選択)"},null,"都道府県高等学校体育連盟レスリング専門部"]
[{"$f":"'参加申込B－１'!B6","v":0},null,"住　所",{"$f":"'参加申込B－１'!E6","v":""}]
[]
[null,null,"電話番号",null,{"$f":"'参加申込B－１'!E8","v":0}]
[]
[null,null,"委員長名",null,{"$f":"'参加申込B－１'!E10","v":0}]
["下記の監督・コーチの参加を認めます。"]
[{"$f":"入力シート!C206&入力シート!E206&入力シート!F206&入力シート!G206&入力シート!H206","v":"令和７年　月　　日"}]
[]
[null,"高　等　学　校　名",null,null,"名前",null,"協会番号"]
["９",{"$f":"IF(入力シート!N171=\"\",\"\",入力シート!N171)","v":""},null,"監督",{"$f":"IF(B15=\"\",\"\",IFERROR(入力シート!D171,\"\"))","v":""},{"$f":"IF(B15=\"\",\"\",IFERROR(入力シート!G171,\"\"))","v":""},{"$f":"IF(B15=\"\",\"\",IFERROR(入力シート!K171,\"\"))","v":""}]
[null,"高等学校",null,"コーチ",{"$f":"IF(B15=\"\",\"\",IFERROR(入力シート!D173,\"\"))","v":""},{"$f":"IF(B15=\"\",\"\",IFERROR(入力シート!G173,\"\"))","v":""},{"$f":"IF(B15=\"\",\"\",IFERROR(入力シート!K173,\"\"))","v":""}]
["１０",{"$f":"IF(入力シート!N175=\"\",\"\",入力シート!N175)","v":""},null,"監督",{"$f":"IF(B17=\"\",\"\",IFERROR(入力シート!D175,\"\"))","v":""},{"$f":"IF(B17=\"\",\"\",IFERROR(入力シート!G175,\"\"))","v":""},{"$f":"IF(B17=\"\",\"\",IFERROR(入力シート!K175,\"\"))","v":""}]
[null,"高等学校",null,"コーチ",{"$f":"IF(B17=\"\",\"\",IFERROR(入力シート!D177,\"\"))","v":""},{"$f":"IF(B17=\"\",\"\",IFERROR(入力シート!G177,\"\"))","v":""},{"$f":"IF(B17=\"\",\"\",IFERROR(入力シート!K177,\"\"))","v":""}]
["１１",{"$f":"IF(入力シート!N179=\"\",\"\",入力シート!N179)","v":""},null,"監督",{"$f":"IF(B19=\"\",\"\",IFERROR(入力シート!D179,\"\"))","v":""},{"$f":"IF(B19=\"\",\"\",IFERROR(入力シート!G179,\"\"))","v":""},{"$f":"IF(B19=\"\",\"\",IFERROR(入力シート!K179,\"\"))","v":""}]
[null,"高等学校",null,"コーチ",{"$f":"IF(B19=\"\",\"\",IFERROR(入力シート!D181,\"\"))","v":""},{"$f":"IF(B19=\"\",\"\",IFERROR(入力シート!G181,\"\"))","v":""},{"$f":"IF(B19=\"\",\"\",IFERROR(入力シート!K181,\"\"))","v":""}]
["１２",{"$f":"IF(入力シート!N183=\"\",\"\",入力シート!N183)","v":""},null,"監督",{"$f":"IF(B21=\"\",\"\",IFERROR(入力シート!D183,\"\"))","v":""},{"$f":"IF(B21=\"\",\"\",IFERROR(入力シート!G183,\"\"))","v":""},{"$f":"IF(B21=\"\",\"\",IFERROR(入力シート!K183,\"\"))","v":""}]
[null,"高等学校",null,"コーチ",{"$f":"IF(B21=\"\",\"\",IFERROR(入力シート!D185,\"\"))","v":""},{"$f":"IF(B21=\"\",\"\",IFERROR(入力シート!G185,\"\"))","v":""},{"$f":"IF(B21=\"\",\"\",IFERROR(入力シート!K185,\"\"))","v":""}]
["１３",{"$f":"IF(入力シート!N187=\"\",\"\",入力シート!N187)","v":""},null,"監督",{"$f":"IF(B23=\"\",\"\",IFERROR(入力シート!D187,\"\"))","v":""},{"$f":"IF(B23=\"\",\"\",IFERROR(入力シート!G187,\"\"))","v":""},{"$f":"IF(B23=\"\",\"\",IFERROR(入力シート!K187,\"\"))","v":""}]
[null,"高等学校",null,"コーチ",{"$f":"IF(B23=\"\",\"\",IFERROR(入力シート!D189,\"\"))","v":""},{"$f":"IF(B23=\"\",\"\",IFERROR(入力シート!G189,\"\"))","v":""},{"$f":"IF(B23=\"\",\"\",IFERROR(入力シート!K189,\"\"))","v":""}]
["１４",{"$f":"IF(入力シート!N191=\"\",\"\",入力シート!N191)","v":""},null,"監督",{"$f":"IF(B25=\"\",\"\",IFERROR(入力シート!D191,\"\"))","v":""},{"$f":"IF(B25=\"\",\"\",IFERROR(入力シート!G191,\"\"))","v":""},{"$f":"IF(B25=\"\",\"\",IFERROR(入力シート!K191,\"\"))","v":""}]
[null,"高等学校",null,"コーチ",{"$f":"IF(B25=\"\",\"\",IFERROR(入力シート!D193,\"\"))","v":""},{"$f":"IF(B25=\"\",\"\",IFERROR(入力シート!G193,\"\"))","v":""},{"$f":"IF(B25=\"\",\"\",IFERROR(入力シート!K193,\"\"))","v":""}]
["１５",{"$f":"IF(入力シート!N195=\"\",\"\",入力シート!N195)","v":""},null,"監督",{"$f":"IF(B27=\"\",\"\",IFERROR(入力シート!D195,\"\"))","v":""},{"$f":"IF(B27=\"\",\"\",IFERROR(入力シート!G195,\"\"))","v":""},{"$f":"IF(B27=\"\",\"\",IFERROR(入力シート!K195,\"\"))","v":""}]
[null,"高等学校",null,"コーチ",{"$f":"IF(B27=\"\",\"\",IFERROR(入力シート!D197,\"\"))","v":""},{"$f":"IF(B27=\"\",\"\",IFERROR(入力シート!G197,\"\"))","v":""},{"$f":"IF(B27=\"\",\"\",IFERROR(入力シート!K197,\"\"))","v":""}]
["１６",{"$f":"IF(入力シート!N199=\"\",\"\",入力シート!N199)","v":""},null,"監督",{"$f":"IF(B29=\"\",\"\",IFERROR(入力シート!D199,\"\"))","v":""},{"$f":"IF(B29=\"\",\"\",IFERROR(入力シート!G199,\"\"))","v":""},{"$f":"IF(B29=\"\",\"\",IFERROR(入力シート!K199,\"\"))","v":""}]
[null,"高等学校",null,"コーチ",{"$f":"IF(B29=\"\",\"\",IFERROR(入力シート!D201,\"\"))","v":""},{"$f":"IF(B29=\"\",\"\",IFERROR(入力シート!G201,\"\"))","v":""},{"$f":"IF(B29=\"\",\"\",IFERROR(入力シート!K201,\"\"))","v":""}]
[null,null,null,null,"B-2で足りないときは、これを使ってください"]
[]
[]
[]
[]
[]
[]
[]
[]
[]
[]
[]
[]
[]
[]
[]
[]
[]
[]
[]
[]
[]
[]
[]
[]
[]
[]
[]
[]
[]
[]
[]
[]
[]
[]
[]
[]
[]
[]
[]
[]
[]
[]
[]
[]
[]
[]
[]
[]
[]
[]
[]
[]
[]
[]
[]
[]
[]
[]
[]
[]
[]
[]
[]
[]
[{"$f":"'参加申込B－１'!B112","v":"(選択)"}]
[{"$f":"'参加申込B－１'!B113","v":0}]

{"sheet":"各校顧問提出２","index":6,"n_rows":16,"n_cols":6,"rows_kept":16,"cut":false,"hidden":true,"merged":[[15,1,15,4],[0,0,0,5],[1,0,1,1],[1,3,1,5],[2,0,2,1],[2,3,2,5],[3,0,5,0],[3,3,3,5],[14,1,14,4],[6,0,8,0],[6,3,6,5],[9,0,11,0],[9,3,9,5],[13,1,13,4]]}
[{"$f":"memo!D2&\"宿泊施設確認表\"","v":"第４１回　全国高校生グレコローマンレスリング選手権大会宿泊施設確認表"}]
["都道府県",null,"学校名","監督名"]
[]
["2015-08-16","ホテル名",null,"宿泊者人数"]
[null,"住所",null,"監督\nコーチ",null,"人"]
[null,"電話番号",null,"選手",null,"人"]
["2015-08-17","ホテル名",null,"宿泊者人数"]
[null,"住所",null,"監督\nコーチ",null,"人"]
[null,"電話番号",null,"選手",null,"人"]
["2015-08-18","ホテル名",null,"宿泊者人数"]
[null,"住所",null,"監督\nコーチ",null,"人"]
[null,"電話番号",null,"選手",null,"人"]
[]
[null,"l  各学校の宿泊状況を確認いたしますので、「第35回全国高校生グレコローマンスタイルレスリング選手権大会宿泊施設確認表」をご記入の上、大会に来られた時に本部進行へご提出をお願いいたします。"]
[null,"Ø  ホテルなど宿泊施設を利用されない学校については提出不要です。"]
[null,"Ø  ホテルなど宿泊施設の受付に「全国グレコ」出場のための宿泊と言っておいてください（堺市内のホテルのみ）"]

{"sheet":"登録申請書","index":7,"n_rows":151,"n_cols":43,"rows_kept":151,"cut":false,"hidden":false,"merged":[[0,13,0,14],[0,32,0,33],[2,28,2,30],[3,15,3,16],[3,22,3,25],[3,28,3,30]]}
[null,null,"令和",null,"年度  全国高等学校体育連盟レスリング専門部登録申請書",null,null,null,null,null,null,null,null,"都道府県№",null,null,null,null,null,null,null,null,"令和",null,"年度  全国高等学校体育連盟レスリング専門部登録申請書",null,null,null,null,null,null,null,"都道府県№"]
[]
[null,null,null,"現在",null,null,null,"都道府県",null,null,null,null,null,null,null,null,null,null,null,null,null,null,null,"現在",null,null,null,"都道府県"]
[null,null,"開始No",1,null,null,null,"登録責任者",null,null,null,null,null,null,null,{"$f":"NOW()","v":"2025-06-05T07:28:39.140"},null,null,null,null,null,null,null,null,null,null,null,"登録責任者"]
[null,null,"終了No",{"$f":"COUNTA(W8:W129)","v":0}]
[null,"No.","姓","名","姓よみ","名よみ","性別","生年月日","年齢","都道府県","所属（校名）",null,"学年","発行日","登録年度","選手番号","段位番号","日本協会登録番号","備考",null,null,"No.","姓","名","姓ヨミ","名ヨミ","性別","生年月日","年齢","都道府県","所属（校名）","学年","初回発行日","初回登録年度","選手番号","日本協会登録番号","備考",null,"男","北海道",1,1,"３年"]
[null,"例","長嶋","茂雄","ながしま","しげお","男","2003-06-15",19,"千葉県","○○高校","○○こうこう","２年","2020-05-15","2020年度",123,12345,"20-1234",null,null,null,"例","長嶋","茂雄","ナガシマ","シゲオ","男","2006-06-15",17,"千葉県","○○高校","3年","2022-04-27","2022年度",123,"24-012345",null,null,"女","青森県",2,2,"２年"]
[{"$f":"IF(C8=\"\",\"\",P8*1)","v":""},1,null,null,null,null,null,null,null,null,null,null,null,null,null,null,null,null,null,null,null,1,null,null,null,null,null,null,null,null,null,null,null,null,null,null,null,null,null,"岩手県",3]
[{"$f":"IF(C9=\"\",\"\",P9*1)","v":""},2,null,null,null,null,null,null,null,null,null,null,null,null,null,null,null,null,null,null,null,2,null,null,null,null,null,null,null,null,null,null,null,null,null,null,null,null,null,"宮城県",4]
["",3,null,null,null,null,null,null,null,null,null,null,null,null,null,null,null,null,null,null,null,3,null,null,null,null,null,null,null,null,null,null,null,null,null,null,null,null,null,"秋田県",5]
["",4,null,null,null,null,null,null,null,null,null,null,null,null,null,null,null,null,null,null,null,4,null,null,null,null,null,null,null,null,null,null,null,null,null,null,null,null,null,"山形県",6]
["",5,null,null,null,null,null,null,null,null,null,null,null,null,null,null,null,null,null,null,null,5,null,null,null,null,null,null,null,null,null,null,null,null,null,null,null,null,null,"福島県",7]
["",6,null,null,null,null,null,null,null,null,null,null,null,null,null,null,null,null,null,null,null,6,null,null,null,null,null,null,null,null,null,null,null,null,null,null,null,null,null,"茨城県",8]
["",7,null,null,null,null,null,null,null,null,null,null,null,null,null,null,null,null,null,null,null,7,null,null,null,null,null,null,null,null,null,null,null,null,null,null,null,null,null,"栃木県",9]
["",8,null,null,null,null,null,null,null,null,null,null,null,null,null,null,null,null,null,null,null,8,null,null,null,null,null,null,null,null,null,null,null,null,null,null,null,null,null,"群馬県",10]
["",9,null,null,null,null,null,null,null,null,null,null,null,null,null,null,null,null,null,null,null,9,null,null,null,null,null,null,null,null,null,null,null,null,null,null,null,null,null,"埼玉県",11]
["",10,null,null,null,null,null,null,null,null,null,null,null,null,null,null,null,null,null,null,null,10,null,null,null,null,null,null,null,null,null,null,null,null,null,null,null,null,null,"千葉県",12]
["",11,null,null,null,null,null,null,null,null,null,null,null,null,null,null,null,null,null,null,null,11,null,null,null,null,null,null,null,null,null,null,null,null,null,null,null,null,null,"東京都",13]
["",12,null,null,null,null,null,null,null,null,null,null,null,null,null,null,null,null,null,null,null,12,null,null,null,null,null,null,null,null,null,null,null,null,null,null,null,null,null,"神奈川県",14]
["",13,null,null,null,null,null,null,null,null,null,null,null,null,null,null,null,null,null,null,null,13,null,null,null,null,null,null,null,null,null,null,null,null,null,null,null,null,null,"山梨県",15]
["",14,null,null,null,null,null,null,null,null,null,null,null,null,null,null,null,null,null,null,null,14,null,null,null,null,null,null,null,null,null,null,null,null,null,null,null,null,null,"新潟県",16]
["",15,null,null,null,null,null,null,null,null,null,null,null,null,null,null,null,null,null,null,null,15,null,null,null,null,null,null,null,null,null,null,null,null,null,null,null,null,null,"長野県",17]
["",16,null,null,null,null,null,null,null,null,null,null,null,null,null,null,null,null,null,null,null,16,null,null,null,null,null,null,null,null,null,null,null,null,null,null,null,null,null,"富山県",18]
["",17,null,null,null,null,null,null,null,null,null,null,null,null,null,null,null,null,null,null,null,17,null,null,null,null,null,null,null,null,null,null,null,null,null,null,null,null,null,"石川県",19]
["",18,null,null,null,null,null,null,null,null,null,null,null,null,null,null,null,null,null,null,null,18,null,null,null,null,null,null,null,null,null,null,null,null,null,null,null,null,null,"福井県",20]
["",19,null,null,null,null,null,null,null,null,null,null,null,null,null,null,null,null,null,null,null,19,null,null,null,null,null,null,null,null,null,null,null,null,null,null,null,null,null,"静岡県",21]
["",20,null,null,null,null,null,null,null,null,null,null,null,null,null,null,null,null,null,null,null,20,null,null,null,null,null,null,null,null,null,null,null,null,null,null,null,null,null,"愛知県",22]
["",21,null,null,null,null,null,null,null,null,null,null,null,null,null,null,null,null,null,null,null,21,null,null,null,null,null,null,null,null,null,null,null,null,null,null,null,null,null,"三重県",23]
["",22,null,null,null,null,null,null,null,null,null,null,null,null,null,null,null,null,null,null,null,22,null,null,null,null,null,null,null,null,null,null,null,null,null,null,null,null,null,"岐阜県",24]
["",23,null,null,null,null,null,null,null,null,null,null,null,null,null,null,null,null,null,null,null,23,null,null,null,null,null,null,null,null,null,null,null,null,null,null,null,null,null,"滋賀県",25]
["",24,null,null,null,null,null,null,null,null,null,null,null,null,null,null,null,null,null,null,null,24,null,null,null,null,null,null,null,null,null,null,null,null,null,null,null,null,null,"京都府",26]
["",25,null,null,null,null,null,null,null,null,null,null,null,null,null,null,null,null,null,null,null,25,null,null,null,null,null,null,null,null,null,null,null,null,null,null,null,null,null,"大阪府",27]
["",26,null,null,null,null,null,null,null,null,null,null,null,null,null,null,null,null,null,null,null,26,null,null,null,null,null,null,null,null,null,null,null,null,null,null,null,null,null,"兵庫県",28]
["",27,null,null,null,null,null,null,null,null,null,null,null,null,null,null,null,null,null,null,null,27,null,null,null,null,null,null,null,null,null,null,null,null,null,null,null,null,null,"奈良県",29]
["",28,null,null,null,null,null,null,null,null,null,null,null,null,null,null,null,null,null,null,null,28,null,null,null,null,null,null,null,null,null,null,null,null,null,null,null,null,null,"和歌山県",30]
["",29,null,null,null,null,null,null,null,null,null,null,null,null,null,null,null,null,null,null,null,29,null,null,null,null,null,null,null,null,null,null,null,null,null,null,null,null,null,"鳥取県",31]
["",30,null,null,null,null,null,null,null,null,null,null,null,null,null,null,null,null,null,null,null,30,null,null,null,null,null,null,null,null,null,null,null,null,null,null,null,null,null,"島根県",32]
["",31,null,null,null,null,null,null,null,null,null,null,null,null,null,null,null,null,null,null,null,31,null,null,null,null,null,null,null,null,null,null,null,null,null,null,null,null,null,"岡山県",33]
["",32,null,null,null,null,null,null,null,null,null,null,null,null,null,null,null,null,null,null,null,32,null,null,null,null,null,null,null,null,null,null,null,null,null,null,null,null,null,"広島県",34]
["",33,null,null,null,null,null,null,null,null,null,null,null,null,null,null,null,null,null,null,null,33,null,null,null,null,null,null,null,null,null,null,null,null,null,null,null,null,null,"山口県",35]
["",34,null,null,null,null,null,null,null,null,null,null,null,null,null,null,null,null,null,null,null,34,null,null,null,null,null,null,null,null,null,null,null,null,null,null,null,null,null,"香川県",36]
["",35,null,null,null,null,null,null,null,null,null,null,null,null,null,null,null,null,null,null,null,35,null,null,null,null,null,null,null,null,null,null,null,null,null,null,null,null,null,"徳島県",37]
["",36,null,null,null,null,null,null,null,null,null,null,null,null,null,null,null,null,null,null,null,36,null,null,null,null,null,null,null,null,null,null,null,null,null,null,null,null,null,"愛媛県",38]
["",37,null,null,null,null,null,null,null,null,null,null,null,null,null,null,null,null,null,null,null,37,null,null,null,null,null,null,null,null,null,null,null,null,null,null,null,null,null,"高知県",39]
["",38,null,null,null,null,null,null,null,null,null,null,null,null,null,null,null,null,null,null,null,38,null,null,null,null,null,null,null,null,null,null,null,null,null,null,null,null,null,"福岡県",40]
["",39,null,null,null,null,null,null,null,null,null,null,null,null,null,null,null,null,null,null,null,39,null,null,null,null,null,null,null,null,null,null,null,null,null,null,null,null,null,"佐賀県",41]
["",40,null,null,null,null,null,null,null,null,null,null,null,null,null,null,null,null,null,null,null,40,null,null,null,null,null,null,null,null,null,null,null,null,null,null,null,null,null,"長崎県",42]
["",41,null,null,null,null,null,null,null,null,null,null,null,null,null,null,null,null,null,null,null,41,null,null,null,null,null,null,null,null,null,null,null,null,null,null,null,null,null,"熊本県",43]
["",42,null,null,null,null,null,null,null,null,null,null,null,null,null,null,null,null,null,null,null,42,null,null,null,null,null,null,null,null,null,null,null,null,null,null,null,null,null,"大分県",44]
["",43,null,null,null,null,null,null,null,null,null,null,null,null,null,null,null,null,null,null,null,43,null,null,null,null,null,null,null,null,null,null,null,null,null,null,null,null,null,"宮崎県",45]
["",44,null,null,null,null,null,null,null,null,null,null,null,null,null,null,null,null,null,null,null,44,null,null,null,null,null,null,null,null,null,null,null,null,null,null,null,null,null,"鹿児島県",46]
["",45,null,null,null,null,null,null,null,null,null,null,null,null,null,null,null,null,null,null,null,45,null,null,null,null,null,null,null,null,null,null,null,null,null,null,null,null,null,"沖縄県",47]
["",46,null,null,null,null,null,null,null,null,null,null,null,null,null,null,null,null,null,null,null,46]
["",47,null,null,null,null,null,null,null,null,null,null,null,null,null,null,null,null,null,null,null,47]
["",48,null,null,null,null,null,null,null,null,null,null,null,null,null,null,null,null,null,null,null,48]
["",49,null,null,null,null,null,null,null,null,null,null,null,null,null,null,null,null,null,null,null,49]
["",50,null,null,null,null,null,null,null,null,null,null,null,null,null,null,null,null,null,null,null,50]
["",51,null,null,null,null,null,null,null,null,null,null,null,null,null,null,null,null,null,null,null,51]
["",52,null,null,null,null,null,null,null,null,null,null,null,null,null,null,null,null,null,null,null,52]
["",53,null,null,null,null,null,null,null,null,null,null,null,null,null,null,null,null,null,null,null,53]
["",54,null,null,null,null,null,null,null,null,null,null,null,null,null,null,null,null,null,null,null,54]
["",55,null,null,null,null,null,null,null,null,null,null,null,null,null,null,null,null,null,null,null,55]
["",56,null,null,null,null,null,null,null,null,null,null,null,null,null,null,null,null,null,null,null,56]
["",57,null,null,null,null,null,null,null,null,null,null,null,null,null,null,null,null,null,null,null,57]
["",58,null,null,null,null,null,null,null,null,null,null,null,null,null,null,null,null,null,null,null,58]
["",59,null,null,null,null,null,null,null,null,null,null,null,null,null,null,null,null,null,null,null,59]
["",60,null,null,null,null,null,null,null,null,null,null,null,null,null,null,null,null,null,null,null,60]
["",61,null,null,null,null,null,null,null,null,null,null,null,null,null,null,null,null,null,null,null,61]
["",62,null,null,null,null,null,null,null,null,null,null,null,null,null,null,null,null,null,null,null,62]
["",63,null,null,null,null,null,null,null,null,null,null,null,null,null,null,null,null,null,null,null,63]
["",64,null,null,null,null,null,null,null,null,null,null,null,null,null,null,null,null,null,null,null,64]
["",65,null,null,null,null,null,null,null,null,null,null,null,null,null,null,null,null,null,null,null,65]
[{"$f":"IF(C73=\"\",\"\",P73*1)","v":""},66,null,null,null,null,null,null,null,null,null,null,null,null,null,null,null,null,null,null,null,66]
["",67,null,null,null,null,null,null,null,null,null,null,null,null,null,null,null,null,null,null,null,67]
["",68,null,null,null,null,null,null,null,null,null,null,null,null,null,null,null,null,null,null,null,68]
["",69,null,null,null,null,null,null,null,null,null,null,null,null,null,null,null,null,null,null,null,69]
["",70,null,null,null,null,null,null,null,null,null,null,null,null,null,null,null,null,null,null,null,70]
["",71,null,null,null,null,null,null,null,null,null,null,null,null,null,null,null,null,null,null,null,71]
["",72,null,null,null,null,null,null,null,null,null,null,null,null,null,null,null,null,null,null,null,72]
["",73,null,null,null,null,null,null,null,null,null,null,null,null,null,null,null,null,null,null,null,73]
["",74,null,null,null,null,null,null,null,null,null,null,null,null,null,null,null,null,null,null,null,74]
["",75,null,null,null,null,null,null,null,null,null,null,null,null,null,null,null,null,null,null,null,75]
["",76,null,null,null,null,null,null,null,null,null,null,null,null,null,null,null,null,null,null,null,76]
["",77,null,null,null,null,null,null,null,null,null,null,null,null,null,null,null,null,null,null,null,77]
["",78,null,null,null,null,null,null,null,null,null,null,null,null,null,null,null,null,null,null,null,78]
["",79,null,null,null,null,null,null,null,null,null,null,null,null,null,null,null,null,null,null,null,79]
["",80,null,null,null,null,null,null,null,null,null,null,null,null,null,null,null,null,null,null,null,80]
["",81,null,null,null,null,null,null,null,null,null,null,null,null,null,null,null,null,null,null,null,81]
["",82,null,null,null,null,null,null,null,null,null,null,null,null,null,null,null,null,null,null,null,82]
["",83,null,null,null,null,null,null,null,null,null,null,null,null,null,null,null,null,null,null,null,83]
["",84,null,null,null,null,null,null,null,null,null,null,null,null,null,null,null,null,null,null,null,84]
["",85,null,null,null,null,null,null,null,null,null,null,null,null,null,null,null,null,null,null,null,85]
["",86,null,null,null,null,null,null,null,null,null,null,null,null,null,null,null,null,null,null,null,86]
["",87,null,null,null,null,null,null,null,null,null,null,null,null,null,null,null,null,null,null,null,87]
["",88,null,null,null,null,null,null,null,null,null,null,null,null,null,null,null,null,null,null,null,88]
["",89,null,null,null,null,null,null,null,null,null,null,null,null,null,null,null,null,null,null,null,89]
["",90,null,null,null,null,null,null,null,null,null,null,null,null,null,null,null,null,null,null,null,90]
["",91,null,null,null,null,null,null,null,null,null,null,null,null,null,null,null,null,null,null,null,91]
["",92,null,null,null,null,null,null,null,null,null,null,null,null,null,null,null,null,null,null,null,92]
["",93,null,null,null,null,null,null,null,null,null,null,null,null,null,null,null,null,null,null,null,93]
["",94,null,null,null,null,null,null,null,null,null,null,null,null,null,null,null,null,null,null,null,94]
["",95,null,null,null,null,null,null,null,null,null,null,null,null,null,null,null,null,null,null,null,95]
["",96,null,null,null,null,null,null,null,null,null,null,null,null,null,null,null,null,null,null,null,96]
["",97,null,null,null,null,null,null,null,null,null,null,null,null,null,null,null,null,null,null,null,97]
["",98,null,null,null,null,null,null,null,null,null,null,null,null,null,null,null,null,null,null,null,98]
["",99,null,null,null,null,null,null,null,null,null,null,null,null,null,null,null,null,null,null,null,99]
["",100,null,null,null,null,null,null,null,null,null,null,null,null,null,null,null,null,null,null,null,100]
["",101,null,null,null,null,null,null,null,null,null,null,null,null,null,null,null,null,null,null,null,101]
["",102,null,null,null,null,null,null,null,null,null,null,null,null,null,null,null,null,null,null,null,102]
["",103,null,null,null,null,null,null,null,null,null,null,null,null,null,null,null,null,null,null,null,103]
["",104,null,null,null,null,null,null,null,null,null,null,null,null,null,null,null,null,null,null,null,104]
["",105,null,null,null,null,null,null,null,null,null,null,null,null,null,null,null,null,null,null,null,105]
["",106,null,null,null,null,null,null,null,null,null,null,null,null,null,null,null,null,null,null,null,106]
["",107,null,null,null,null,null,null,null,null,null,null,null,null,null,null,null,null,null,null,null,107]
["",108,null,null,null,null,null,null,null,null,null,null,null,null,null,null,null,null,null,null,null,108]
["",109,null,null,null,null,null,null,null,null,null,null,null,null,null,null,null,null,null,null,null,109]
["",110,null,null,null,null,null,null,null,null,null,null,null,null,null,null,null,null,null,null,null,110]
["",111,null,null,null,null,null,null,null,null,null,null,null,null,null,null,null,null,null,null,null,111]
["",112,null,null,null,null,null,null,null,null,null,null,null,null,null,null,null,null,null,null,null,112]
["",113,null,null,null,null,null,null,null,null,null,null,null,null,null,null,null,null,null,null,null,113]
["",114]
["",115]
["",116]
["",117]
["",118]
["",119]
["",120]
["",121]
["",122]
[null,123]
[null,124]
[null,125]
[null,126]
[null,127]
[null,128]
[null,129]
[null,130]
[null,131]
[null,132]
[null,133]
[null,134]
[null,135]
[null,136]
[null,137]
[null,138]
[null,139]
[null,140]
[null,141]
[null,142]
[1,143,null,null,null,null,null,null,null,null,null,12,null,null,null,null,null,null,null,20,21,null,null,null,null,null,null,null,null,null,null,null,null,null,null,null,null,38,39,40,41,42,43]
[1,2,3,4,5,6,7,8,9,10,11,12,13,14,15,16,17,18,19,20,21,null,null,null,null,null,null,null,null,null,null,null,null,null,null,null,null,38,39,40,41,42,43]

{"sheet":"学校名入力_20250603","index":8,"n_rows":407,"n_cols":62,"rows_kept":407,"cut":false,"hidden":false,"merged":[]}
[null,null,null,null,null,null,null,"2025/06/03 現在",null,null,null,{"$f":"SUM(L5:L342)","v":11}]
["No（県番号）",null,"都道府県",null,"学校名","略称","がっこうめい","正式名称",null,null,null,5,null,null,null,"【北海道】","【青森県】","【岩手県】","【宮城県】","【秋田県】","【山形県】","【福島県】","【茨城県】","【栃木県】","【群馬県】","【埼玉県】","【千葉県】","【東京都】","【神奈川県】","【山梨県】","【新潟県】","【富山県】","【石川県】","【福井県】","【長野県】","【岐阜県】","【静岡県】","【愛知県】","【三重県】","【滋賀県】","【京都府】","【大阪府】","【兵庫県】","【奈良県】","【和歌山県】","【鳥取県】","【島根県】","【岡山県】","【広島県】","【山口県】","【徳島県】","【香川県】","【愛媛県】","【高知県】","【福岡県】","【佐賀県】","【長崎県】","【熊本県】","【大分県】","【宮崎県】","【鹿児島県】","【沖縄県】"]
[null,null,null,null,"（選択）","（選択）","　","　",null,null,null,null,null,null,null,"札幌東豊","八戸学院光星","宮古商工","仙台城南","五城目","山形市立商業","喜多方桐桜","鹿島学園","足利大学附属","西邑楽","埼玉栄","京葉工業","東京実業","法政大学第二","韮崎工業","八海","入善","星稜","若狭","上田西","岐阜工業","伊豆総合","名古屋工業","伊勢工業","栗東","丹後緑風","近畿大学附属","六甲アイランド","添上","新宮","倉吉総合産業","松江工業","関西","広島国泰寺","豊浦","池田","高松北","北条","高知東","東鷹","鹿島","島原","北稜","佐伯豊南","日南振徳","樟南","北部農林"]
[null,null,null,null,"北海道",null,null,null,null,null,null,null,null,null,null,"千歳北陽","八戸工業大学第一","種市","黒川","秋田南","山形南","田島","霞ヶ浦","馬頭","館林","花咲徳栄","八千代松陰","自由ヶ丘学園","慶應義塾","農林","東京学館新潟","桜井","志賀","敦賀気比","小諸","岐南工業","沼津城北","星城","いなべ総合学園","水口","京都廣学館","同志社香里","神戸高塚","法隆寺国際","紀北工業","鳥取中央育英","隠岐島前","倉敷","三次","田布施農工","池田(三好)","多度津","今治工業","土佐塾","小倉商業","鳥栖工業","島原工業","玉名工業","津久見","宮崎農業","鹿屋中央","南風原"]
[1,1,"北海道","札幌東豊","札幌東豊","札幌東豊","さっぽろとうほう","北海道札幌東豊高等学校",null,null,{"$f":"LEN(D5)","v":4},{"$f":"IF($L$2-K5>=0,\"\",1)","v":""},null,null,null,"帯広北","八戸工業","盛岡工業","東北学院","秋田商業","上山明新館","ふたば未来学園","土浦日本大学","足利工業","館林商工","川越初雁","関宿","日本工業大学駒場","日本大学藤沢","都留興譲館","北越","滑川","金沢北陵","福井農林","小諸商業","大垣工業","稲取","一宮工科","四日市四郷","信楽","京都八幡","大阪体育大学浪商","猪名川","大和広陵","和歌山東","鳥取東","松江北","笠岡工業","賀茂","山口県鴻城","穴吹","香川中央","八幡浜工業","高知国際","三井",null,"大村工業","小川工業","日本文理大学附属","宮崎工業","加世田常潤","浦添工業"]
[1,2,"北海道","千歳北陽","千歳北陽","千歳北陽","ちとせほくよう","北海道千歳北陽高等学校",null,null,{"$f":"LEN(D6)","v":4},{"$f":"IF($L$2-K6>=0,\"\",1)","v":""},null,null,null,"星槎国際旭川","八戸学院野辺地西","専修大学北上","宮城第一","ノースアジア大学明桜","米沢工業","南会津","東洋大学附属牛久","宇都宮商業","大泉",null,"野田中央","第三商業","向上","甲府城西","日本文理","高岡向陵","野々市明倫","若狭東","佐久平総合技術","加茂農林","飛龍","至学館","朝明","日野","海洋","長尾谷","須磨翔風","天理教校学園","和歌山北",null,null,"おかやま山陽","並木学院","柳井学園","つるぎ",null,"今治西","高岡","築上西",null,"島原翔南",null,null,"宮崎県立福島",null,"真和志"]
[1,3,"北海道","帯広北","帯広北","帯広北","おびひろきた","帯広北高等学校",null,null,3,"",null,null,null,"岩内","青森商業","黒沢尻北","仙台",null,"庄内農業",null,"茨城東",null,"市立太田",null,"我孫子東","中央学院大学中央","釜利谷",null,"新潟県央工業","高岡商業",null,"福井工業大学附属福井",null,"中津商業","沼津工業","知立東","久居","八幡工業","東山","大阪府立いちりつ","市立伊丹","橿原学院","和歌山工業",null,null,"高松農業",null,"山口県桜ヶ丘","川島",null,"愛媛大学附属","宿毛","遠賀",null,"諫早",null,null,"日向学院",null,"美来工科"]
[1,4,"北海道","星槎国際","星槎国際旭川","星槎国際","せいさこくさいあさひかわ","星槎国際高等学校 旭川キャンパス",null,null,4,"",null,null,null,"有朋苫小牧","五所川原第一",null,"聖ウルスラ学院英智",null,"鶴岡工業",null,"大洗",null,"前橋西",null,"四街道","帝京","横浜修悠館",null,null,null,null,null,null,"大垣日本大学","吉原工業","名古屋","松阪工業","大津","日星","興國","芦屋学園",null,"南部",null,null,"備前緑陽",null,"精華学園",null,null,"北宇和","高知工業","苅田工業",null,null,null,null,"宮崎日本大学",null,"八重山"]
[1,5,"北海道","岩内","岩内","岩内","いわない","岩内高等学校",null,null,{"$f":"LEN(D9)","v":2},null,null,null,null,null,"十和田工業",null,null,null,"鶴岡南",null,"水戸桜ﾉ牧",null,"富岡実業",null,"佐倉","安部学院","磯子工業",null,null,null,null,null,null,"中京","焼津中央","稲沢東","鳥羽",null,null,"高石","科学技術",null,"新翔",null,null,"倉敷鷲羽",null,null,null,null,null,"岡豊","福岡大学附属若葉",null,null,null,null,"宮崎第一",null,"南風原高等支援"]
[1,null,"北海道","有朋苫小牧","有朋苫小牧","有朋苫小牧","ゆうほうとまこまい","北海道有朋苫小牧高等学校"]
[1,7,"北海道","札幌白陵","札幌白陵","札幌白陵","さっぽろはくりょう","北海道札幌白陵高等学校"]
[1,null,null,null,null,null,null,null,null,null,0,"",null,null,null,null,"青森東",null,null,null,null,null,"結城第二",null,"前橋育英",null,"佐倉西","文化学園大学杉並","横浜清陵",null,null,null,null,null,null,"高山西","焼津水産","名城大学附属","四日市西",null,null,"りんくう翔南","青陽灘高等支援",null,null,null,null,"総社",null,null,null,null,null,"高知学芸",null,null,null,null,null,"都城西"]
[null,null,null,null,"青森県",null,null,null,null,null,null,null,null,null,null,null,"青森山田",null,null,null,null,null,"常陸大宮",null,"四ツ葉学園",null,"日本体育大学柏","日本体育大学桜華","三浦学苑",null,null,null,null,null,null,null,"藤枝北",null,"暁",null,null,"福泉","伊川谷",null,null,null,null,"倉敷南",null,null,null,null,null,null,null,null,null,null,null,"都城東"]
[2,1,"青森県","光星","八戸学院光星","光星","はちのへがくいんこうせい","八戸学院光星高等学校",null,null,2,"",null,null,null,null,null,null,null,null,null,null,"古河第一",null,null,null,null,"日本体育大学荏原","秦野総合",null,null,null,null,null,null,null,"相良",null,"白山",null,null,"堺リベラル"]
[2,2,"青森県","八工大一","八戸工業大学第一","八工大一","はちのへこうぎょうだいがくだいいち","八戸工業大学第一高等学校",null,null,4,"",null,null,null,null,null,null,null,null,null,null,null,null,null,null,null,"慶応義塾女子",null,null,null,null,null,null,null,null,null,null,"菰野"]
[2,3,"青森県","八戸工","八戸工業","八戸工","はちのへこうぎょう","青森県立八戸工業高等学校",null,null,3,"",null,null,null,null,null,null,null,null,null,null,null,null,null,null,null,"下北沢成徳"]
[2,4,"青森県","野辺地西","八戸学院野辺地西","野辺地西","はちのへがくいんのへじにし","八戸学院野辺地西高等学校",null,null,4,"",null,null,null,null,null,null,null,null,null,null,null,null,null,null,null,"世田谷学園"]
[2,5,"青森県","青森商","青森商業","青森商","あおもりしょうぎょう","青森県立青森商業高等学校",null,null,3,""]
[2,6,"青森県","五所川原一","五所川原第一","五所川原一","ごしょがわらだいいち","五所川原第一高等学校",null,null,5,""]
[2,7,"青森県","十和田工","十和田工業","十和田工","とわだこうぎょう","青森県立十和田工業高等学校",null,null,4,""]
[2,null,"青森県","青森東","青森東","青森東","あおもりひがし","青森県立青森東高等学校",null,null,{"$f":"LEN(D21)","v":3},{"$f":"IF($L$2-K21>=0,\"\",1)","v":""}]
[2,null,"青森県","青森山田","青森山田","青森山田","あおもりやまだ","青森山田高等学校",null,null,4,""]
[2]
[null,null,null,null,"岩手県",null,null,null,null,null,0,""]
[3,1,"岩手県","宮古商工","宮古商工","宮古商工","みやこしょうこう","岩手県立宮古商工高等学校",null,null,4,""]
[3,2,"岩手県","種市","種市","種市","たねいち","岩手県立種市高等学校",null,null,2,""]
[3,3,"岩手県","盛岡工","盛岡工業","盛岡工","もりおかこうぎょう","岩手県立盛岡工業高等学校",null,null,{"$f":"LEN(D27)","v":3},{"$f":"IF($L$2-K27>=0,\"\",1)","v":""}]
[3,4,"岩手県","専大北上","専修大学北上","専大北上","せんだいきたかみ","専修大学北上高等学校",null,null,4,""]
[3,null,"岩手県","黒沢尻北","黒沢尻北","黒沢尻北","くろさわじりきた","岩手県立黒沢尻高等学校"]
[3,null,"岩手県",null,null,null,null,null,null,null,0,""]
[null,null,null,null,"宮城県",null,null,null,null,null,0,""]
[4,1,"宮城県","仙台城南","仙台城南","仙台城南","せんだいじょうなん","仙台城南高等学校",null,null,{"$f":"LEN(D32)","v":4},{"$f":"IF($L$2-K32>=0,\"\",1)","v":""}]
[4,2,"宮城県","黒川","黒川","黒川","くろかわ","宮城県黒川高等学校",null,null,{"$f":"LEN(D33)","v":2},{"$f":"IF($L$2-K33>=0,\"\",1)","v":""}]
[4,3,"宮城県","東北学院","東北学院","東北学院","とうほくがくいん","東北学院高等学校",null,null,{"$f":"LEN(D34)","v":4},{"$f":"IF($L$2-K34>=0,\"\",1)","v":""}]
[4,null,"宮城県","宮城第一","宮城第一","宮城第一","みやぎだいいち","宮城県宮城第一高等学校",null,null,4,""]
[4,null,"宮城県","仙台","仙台","仙台","せんだい","仙台市立仙台高等学校"]
[4,null,"宮城県","ウルスラ","聖ウルスラ学院英智","ウルスラ英智","せいうるすらがくいんえいち","聖ウルスラ学院英智高等学校",null,null,4,""]
[4,null,"宮城県","築館","築館","築館","つきだて","宮城県築館高等学校",null,null,2,""]
[4,null,"宮城県",null,null,null,null,null,null,null,0,""]
[null,null,null,null,"秋田県",null,null,null,null,null,0,""]
[5,1,"秋田県","五城目","五城目","五城目","ごじょうめ","秋田県立五城目高等学校"]
[5,2,"秋田県","秋田南","秋田南","秋田南","あきたみなみ","秋田県立秋田南高等学校",null,null,3,""]
[5,3,"秋田県","秋田商","秋田商業","秋田商","あきたしょうぎょう","秋田市立秋田商業高等学校",null,null,3,""]
[5,null,"秋田県",null,"明桜","明桜","めいおう","ノースアジア大学明桜高等学校",null,null,0,""]
[5,null,"秋田県",null,"秋田","秋田","あきた","秋田県立秋田高等学校",null,null,0,""]
[5,null,"秋田県",null,null,null,null,null,null,null,0,""]
[null,null,null,null,"山形県",null,null,null,null,null,0,""]
[6,1,"山形県","山形市立商","山形市立商業","山形市立商","やまがたしりつしょうぎょう","山形市立商業高等学校",null,null,5,""]
[6,2,"山形県","山形南","山形南","山形南","やまがたみなみ","山形県立山形南高等学校"]
[6,3,"山形県","上山明新館","上山明新館","上山明新館","かみのやまめいしんかん","山形県立上山明新館高等学校",null,null,5,""]
[6,4,"山形県","米沢工","米沢工業","米沢工","よねざわこうぎょう","山形県立米沢工業高等学校",null,null,3,""]
[6,5,"山形県","庄内農","庄内農業","庄内農","しょうないのうぎょう","山形県立庄内農業高等学校",null,null,{"$f":"LEN(D52)","v":3},{"$f":"IF($L$2-K52>=0,\"\",1)","v":""}]
[6,6,"山形県","鶴岡工","鶴岡工業","鶴岡工","つるおかこうぎょう","山形県立鶴岡工業高等学校",null,null,3,""]
[6,7,"山形県","鶴岡南","鶴岡南","鶴岡南","つるおかみなみ","山形県立鶴岡南高等学校"]
[6,8,"山形県","米沢鶴城","米沢鶴城","米沢鶴城","よねざわかくじょう","山形県立米沢鶴城高等学校",null,null,4,""]
[6,null,"山形県",null,null,null,null,null,null,null,0,""]
[null,null,null,null,"福島県",null,null,null,null,null,0,""]
[7,1,"福島県","喜多方桐桜","喜多方桐桜","喜多方桐桜","きたかたとうおう","福島県立喜多方桐桜高等学校",null,null,5,""]
[7,2,"福島県","田島","田島","田島","たじま","福島県立田島高等学校",null,null,2,""]
[7,3,"福島県","ふたば未来","ふたば未来学園","ふたば未来","ふたばみらいがくえん","福島県立ふたば未来学園高等学校",null,null,5,""]
[7,null,"福島県","南会津","南会津","南会津","みなみあいづ ","福島県立南会津高等学校",null,null,3,""]
[7,null,null,null,null,null,null,null,null,null,0,""]
[null,null,null,null,"茨城県",null,null,null,null,null,0,""]
[8,1,"茨城県","鹿島学園","鹿島学園","鹿島学園","かしまがくえん","鹿島学園高等学校",null,null,4,""]
[8,2,"茨城県","霞ヶ浦","霞ヶ浦","霞ヶ浦","かすみがうら","霞ヶ浦高等学校"]
[8,3,"茨城県","土浦日大","土浦日本大学","土浦日大","つちうらにほんだいがく","土浦日本大学高等学校",null,null,4,""]
[8,4,"茨城県","東洋大牛久","東洋大学附属牛久","東洋大牛久","とうようだいがくふぞくうしく","東洋大学附属牛久高等学校",null,null,5,""]
[8,5,"茨城県","茨城東","茨城東","茨城東","いばらきひがし","茨城県立茨城東高等学校",null,null,3,""]
[8,6,"茨城県","大洗","大洗","大洗","おおあらい","茨城県立大洗高等学校",null,null,2,""]
[8,null,"茨城県","水戸桜ﾉ牧","水戸桜ﾉ牧","水戸桜ﾉ牧","みとさくらのまき","茨城県立水戸桜ノ牧高等学校"]
[8,null,"茨城県","結城二","結城第二","結城二","ゆうきだいに","茨城県立結城第二高等学校",null,null,3,""]
[8,null,"茨城県","常陸大宮","常陸大宮","常陸大宮","ひたちおおみや","茨城県立常陸大宮高等学校",null,null,4,""]
[8,null,"茨城県","古河第一","古河第一","古河第一","こがだいいち","茨城県立古河第一高校",null,null,4,""]
[8,null,"茨城県",null,null,null,null,null,null,null,0,""]
[null,null,null,null,"栃木県",null,null,null,null,null,0,""]
[9,1,"栃木県","足利大附","足利大学附属","足利大附","あしかがだいがくふぞく","足利大学附属高等学校",null,null,4,""]
[9,2,"栃木県","馬頭","馬頭","馬頭","ばとう","栃木県立馬頭高等学校",null,null,2,""]
[9,3,"栃木県","足利工","足利工業","足利工","あしかがこうぎょう","栃木県立足利工業高等学校",null,null,3,""]
[9,4,"栃木県","宇都宮商","宇都宮商業","宇都宮商","うつのみやしょうぎょう","栃木県立宇都宮商業高等学校",null,null,4,""]
[9,null,"栃木県"]
[null,null,null,null,"群馬県",null,null,null,null,null,0,""]
[10,1,"群馬県","西邑楽","西邑楽","西邑楽","にしおうら","群馬県立西邑楽高等学校",null,null,{"$f":"LEN(D82)","v":3},{"$f":"IF($L$2-K82>=0,\"\",1)","v":""}]
[10,2,"群馬県","館林","館林","館林","たてばやし","群馬県立館林高等学校",null,null,2,""]
[10,3,"群馬県","館林商工","館林商工","館林商工","たてばやししょうこう","群馬県立館林商工高等学校"]
[10,4,"群馬県","大泉","大泉","大泉","おおいずみ","群馬県立大泉高等学校",null,null,2,""]
[10,5,"群馬県","市立太田","市立太田","市立太田","おおたしりつおおた","太田市立太田高等学校",null,null,4,""]
[10,6,"群馬県","前橋西","前橋西","前橋西","まえばしにし","群馬県立前橋西高等学校",null,null,3,""]
[10,7,"群馬県","富岡実","富岡実業","富岡実","とみおかじつぎょう","群馬県立富岡実業高等学校",null,null,3,""]
[10,8,"群馬県","前橋育英","前橋育英","前橋育英","まえばしいくえい","前橋育英高等学校",null,null,4,""]
[10,9,"群馬県","四ツ葉学園","四ツ葉学園","四ツ葉学園","よつばがくえん","伊勢崎市立四ツ葉学園中等教育学校",null,null,5,""]
[10,null,"群馬県","高崎工業","高崎工業","高崎工","たかさきこうぎょう","群馬県立高崎工業高等学校",null,null,4,""]
[10,null,null,null,null,null,null,null,null,null,0,""]
[null,null,null,null,"埼玉県",null,null,null,null,null,0,""]
[11,1,"埼玉県","埼玉栄","埼玉栄","埼玉栄","さいたまさかえ","埼玉栄高等学校"]
[11,2,"埼玉県","花咲徳栄","花咲徳栄","花咲徳栄","はなさきとくはる","花咲徳栄高等学校",null,null,{"$f":"LEN(D95)","v":4},{"$f":"IF($L$2-K95>=0,\"\",1)","v":""}]
[11,null,"埼玉県","川越初雁","川越初雁","川越初雁","かわごえはつかり","川越初雁高等学校",null,null,4,""]
[11,null,null,null,null,null,null,null,null,null,0,""]
[null,null,null,null,"千葉県",null,null,null,null,null,0,""]
[12,1,"千葉県","京葉工","京葉工業","京葉工","けいようこうぎょう","千葉県立京葉工業高等学校",null,null,3,""]
[12,2,"千葉県","八千代松陰","八千代松陰","八千代松陰","やちよしょういん","八千代松陰高等学校",null,null,5,""]
[12,3,"千葉県","関宿","関宿","関宿","せきやど","千葉県立関宿高等学校",null,null,2,""]
[12,4,"千葉県","野田中央","野田中央","野田中央","のだちゅうおう","千葉県立野田中央高等学校",null,null,4,""]
[12,5,"千葉県","我孫子東","我孫子東","我孫子東","あびこひがし","千葉県立我孫子東高等学校",null,null,4,""]
[12,6,"千葉県","四街道","四街道","四街道","よつかいどう","千葉県立四街道高等学校",null,null,3,""]
[12,8,"千葉県","佐倉","佐倉","佐倉","さくら","千葉県立佐倉高等学校",null,null,2,""]
[12,9,"千葉県","佐倉西","佐倉西","佐倉西","さくらにし","千葉県立佐倉西高等学校",null,null,{"$f":"LEN(D106)","v":3},{"$f":"IF($L$2-K106>=0,\"\",1)","v":""}]
[12,10,"千葉県","日体大柏","日本体育大学柏","日体大柏","にっぽんたいいくだいがくかしわ","日本体育大学柏高等学校",null,null,4,""]
[12]
[null,null,null,null,"東京都",null,null,null,null,null,0,""]
[13,1,"東京都","東京実","東京実業","東京実","とうきょうじつぎょう","東京実業高等学校",null,null,3,""]
[13,2,"東京都","自由ヶ丘学園","自由ヶ丘学園","自由ヶ丘学園","じゆうがおかがくえん","自由ヶ丘学園高等学校",null,null,6,1]
[13,3,"東京都","日工大駒場","日本工業大学駒場","日工大駒場","にっぽんこうぎょうだいがくこまば","日本工業大学駒場高等学校",null,null,5,""]
[13,4,"東京都","第三商","都立第三商業","第三商","だいさんしょうぎょう","東京都立第三商業高等学校",null,null,3,""]
[13,5,"東京都","中央学大中央","中央学院大学中央","中学大中央","ちゅうおうがくいんだいがくちゅうおう","中央学院大学中央高等学校",null,null,6,1]
[13,6,"東京都","帝京","帝京","帝京","ていきょう","帝京高等学校",null,null,2,""]
[13,7,"東京都","安部学院","安部学院","安部学院","あべがくいん","安部学院高等学校",null,null,4,""]
[13,8,"東京都","文化学大杉並","文化学園大学杉並","文大杉並","ぶんかがくえんだいがくすぎなみ","文化学園大学杉並高等学校",null,null,6,1]
[13,9,"東京都","日体大桜華","日本体育大学桜華","日体大桜華","にっぽんたいいくだいがくおうか","日本体育大学桜華高等学校",null,null,5,""]
[13,10,"東京都","日体大荏原","日本体育大学荏原","日体大荏原","にっぽんたいいくだいがくえばら","日本体育大学荏原高等学校"]
[13,11,"東京都","慶応女子","慶応義塾女子","慶応女子","けいおうぎじゅくじょし","慶應義塾女子高等学校",null,null,4,""]
[13,12,"東京都","下北沢成徳","下北沢成徳","下北沢成徳","しもきたざわせいとく","下北沢成徳高等学校",null,null,5,""]
[13,13,"東京都","世田谷学園","世田谷学園","世田谷学園","せたがやがくえん","世田谷学園高等学校",null,null,5,""]
[13,14,"東京都","都立調布南","都立調布南","都立調布南","とりつちょうふみなみ","東京都立調布南",null,null,5,""]
[13,null,"東京都"]
[null,null,null,null,"神奈川県",null,null,null,null,null,0,""]
[14,1,"神奈川県","法政大二","法政大学第二","法政大二","ほうせいだいがくだいに","法政大学第二高等学校",null,null,4,""]
[14,2,"神奈川県","慶應義塾","慶應義塾","慶應義塾","けいおうぎじゅく","慶應義塾高等学校",null,null,4,""]
[14,3,"神奈川県","日大藤沢","日本大学藤沢","日大藤沢","にほんだいがくふじさわ","日本大学藤沢高等学校",null,null,4,""]
[14,4,"神奈川県","向上","向上","向上","こうじょう","向上高等学校",null,null,2,""]
[14,5,"神奈川県","釜利谷","釜利谷","釜利谷","かまりや","神奈川県立釜利谷高等学校"]
[14,6,"神奈川県","横浜修悠館","横浜修悠館　横須賀","横浜修悠館","よこはましゅうゆうかん","神奈川県立横浜修悠館高等学校",null,null,5,""]
[14,7,"神奈川県","磯子工","磯子工業","磯子工","いそごこうぎょう","神奈川県立磯子工業高等学校",null,null,3,""]
[14,8,"神奈川県","横浜清陵","横浜清陵","横浜清陵","よこはませいりょう","神奈川県立横浜清陵高等学校",null,null,4,""]
[14,9,"神奈川県","三浦学苑","三浦学苑","三浦学苑","みうらがくえん","三浦学苑高等学校",null,null,4,""]
[14,10,"神奈川県","秦野総合","秦野総合","秦野総合","はだのそうごう","神奈川県立秦野総合高等学校",null,null,4,""]
[14]
[null,null,null,null,"山梨県",null,null,null,null,null,0,""]
[15,1,"山梨県","韮崎工","韮崎工業","韮崎工","にらさきこうぎょう","山梨県立韮崎工業高等学校",null,null,3,""]
[15,2,"山梨県","農林","農林","農林","やまなしけんりつのうりん","山梨県立農林高等学校",null,null,2,""]
[15,3,"山梨県","都留興譲館","都留興譲館","都留興譲館","つるこうじょうかん","山梨県立都留興譲館高等学校",null,null,5,""]
[15,4,"山梨県","甲府城西","甲府城西","甲府城西","こうふじょうさい","山梨県立甲府城西高等学校"]
[15,null,null,null,null,null,null,null,null,null,0,""]
[null,null,null,null,"新潟県",null,null,null,null,null,0,""]
[16,1,"新潟県","八海","八海","八海","はっかい","新潟県立八海高等学校",null,null,2,""]
[16,2,"新潟県","学館新潟","東京学館新潟","学館新潟","とうきょうがっかんにいがた","東京学館新潟高等学校",null,null,4,""]
[16,3,"新潟県","北越","北越","北越","ほくえつ","北越高等学校",null,null,2,""]
[16,4,"新潟県","日本文理","日本文理","日本文理","にほんぶんり","日本文理高等高等学校"]
[16,5,"新潟県","新潟県央工","新潟県央工業","新潟県央工","にいがたけんおうこうぎょう","新潟県立新潟県央工業高等学校",null,null,5,""]
[16,null,"新潟県","高志中等教育","高志中等教育","高志中等教育","こうしちゅうとうきょういく","新潟市立高志中等教育学校",null,null,6,1]
[16,null,"新潟県",null,null,null,null,null,null,null,0,""]
[null,null,null,null,"長野県",null,null,null,null,null,0,""]
[17,1,"長野県","上田西","上田西","上田西","うえだにし","上田西高等学校"]
[17,2,"長野県","小諸","小諸","小諸","こもろ","長野県小諸高等学校",null,null,2,""]
[17,3,"長野県","小諸商","小諸商業","小諸商","こもろしょうぎょう","長野県小諸商業高等学校",null,null,3,""]
[17,4,"長野県","佐久平総合","佐久平総合技術","佐久平総合","さくだいらそうごうぎじゅつ","長野県佐久平総合技術高等学校",null,null,5,""]
[17,null,null,null,null,null,null,null,null,null,0,""]
[null,null,null,null,"富山県",null,null,null,null,null,0,""]
[18,1,"富山県","入善","入善","入善","にゅうぜん","富山県立入善高等学校",null,null,2,""]
[18,2,"富山県","桜井","桜井","桜井","さくらい","富山県立桜井高等学校",null,null,2,"","中京大学附属中京高等学校ではない","中京学院大学中京高等学校"]
[18,3,"富山県","滑川","滑川","滑川","なめりかわ","富山県立滑川高等学校",null,null,2,""]
[18,4,"富山県","高岡向陵","高岡向陵","高岡向陵","たかおかこうりょう","高岡向陵高等学校"]
[18,5,"富山県","高岡商","高岡商業","高岡商","たかおかしょうぎょう","富山県立高岡商業高等学校",null,null,3,""]
[18,null,null,null,null,null,null,null,null,null,0,""]
[null,null,null,null,"石川県",null,null,null,null,null,0,""]
[19,1,"石川県","星稜","星稜","星稜","せいりょう","星稜高等学校",null,null,2,""]
[19,2,"石川県","志賀","志賀","志賀","しか","石川県立志賀高等学校",null,null,2,""]
[19,3,"石川県","金沢北陵","金沢北陵","金沢北陵","かなざわほくりょう","石川県立金沢北陵高等学校",null,null,4,""]
[19,4,"石川県","野々市明倫","野々市明倫","野々市明倫","ののいちめいりん","石川県立野々市明倫高等学校",null,null,5,""]
[19,5,"石川県","金沢北","金沢北","金沢北","かなざわきた","石川県立金沢北高等学校",null,null,{"$f":"LEN(D169)","v":3},{"$f":"IF($L$2-K169>=0,\"\",1)","v":""}]
[19,6,"石川県","金沢商業","金沢商業","金沢商業","かなざわしょうぎょう","石川県立金沢商業高等学校"]
[19,null,"石川県",null,null,null,null,null,null,null,{"$f":"LEN(D171)","v":0},{"$f":"IF($L$2-K171>=0,\"\",1)","v":""}]
[null,null,null,null,"福井県",null,null,null,null,null,0,""]
[20,1,"福井県","若狭","若狭","若狭","わかさ","福井県立若狭高等学校"]
[20,2,"福井県","敦賀気比","敦賀気比","敦賀気比","つるがけひ","敦賀気比高等学校",null,null,4,""]
[20,3,"福井県","福井農林","福井農林","福井農林","ふくいのうりん","福井県立福井農林高等学校",null,null,4,""]
[20,4,"福井県","若狭東","若狭東","若狭東","わかさひがし","福井県立若狭東高等学校",null,null,3,""]
[20,5,"福井県","福工大福井","福井工業大学附属福井","福工大福井","ふくいこうだいふくい","福井工業大学附属福井高等学校",null,null,5,""]
[20,6,"福井県","嶺南東特別支援","嶺南東特別支援","嶺南東特別支援","れいなんひがしとくべつしえん","福井県立嶺南東特別支援学校",null,null,7,1]
[20,null,null,null,null,null,null,null,null,null,0,""]
[null,null,null,null,"静岡県",null,null,null,null,null,0,""]
[21,1,"静岡県","伊豆総合","伊豆総合","伊豆総合","いずそうごう","静岡県立伊豆総合高等学校",null,null,4,""]
[21,2,"静岡県","沼津城北","沼津城北","沼津城北","ぬまづじょうほく","静岡県立沼津城北高等学校"]
[21,3,"静岡県","稲取","稲取","稲取","いなとり","静岡県立稲取高等学校",null,null,2,""]
[21,4,"静岡県","飛龍","飛龍","飛龍","ひりゅう","飛龍高等学校",null,null,2,""]
[21,5,"静岡県","沼津工","沼津工業","沼津工","ぬまづこうぎょう","静岡県立沼津工業高等学校",null,null,3,""]
[21,6,"静岡県","吉原工","吉原工業","吉原工","よしわらこうぎょう","静岡県立吉原工業高等学校",null,null,3,""]
[21,7,"静岡県","焼津中央","焼津中央","焼津中央","やいづちゅうおう","静岡県立焼津中央高等学校",null,null,4,""]
[21,8,"静岡県","焼津水産","焼津水産","焼津水産","やいづすいさん","静岡県立焼津水産高等学校",null,null,4,""]
[21,9,"静岡県","藤枝北","藤枝北","藤枝北","ふじえだきた","静岡県立藤枝北高等学校",null,null,3,""]
[21,null,"静岡県","相良","相良","相良","さがら","静岡県立相良高等学校",null,null,2,""]
[21,null,"静岡県",null,null,null,null,null,null,null,{"$f":"LEN(D191)","v":0},{"$f":"IF($L$2-K191>=0,\"\",1)","v":""}]
[null,null,null,null,"愛知県",null,null,null,null,null,{"$f":"LEN(D192)","v":0},{"$f":"IF($L$2-K192>=0,\"\",1)","v":""}]
[22,1,"愛知県","名古屋工","名古屋工業","名古屋工","なごやこうぎょう","名古屋工業高等学校",null,null,4,""]
[22,2,"愛知県","星城","星城","星城","せいじょう","星城高等学校"]
[22,3,"愛知県","一宮工科","一宮工科","一宮工科","いちのみやこうか","愛知県立一宮工科高等学校",null,null,4,""]
[22,4,"愛知県","至学館","至学館","至学館","しがくかん","至学館高等学校",null,null,3,""]
[22,null,"愛知県","名古屋商","名古屋商業","名古屋商","なごやしょうぎょう","名古屋市立名古屋商業高等学校",null,null,4,""]
[22,null,"愛知県","桃陵","桃陵","桃陵","とうりょう","愛知県立桃陵高等学校",null,null,2,""]
[22,null,null,null,null,null,null,null,null,null,{"$f":"LEN(D199)","v":0}]
[null,null,null,null,"三重県",null,null,null,null,null,0,""]
[23,1,"三重県","伊勢工","伊勢工業","伊勢工","いせこうぎょう","三重県立伊勢工業高等学校"]
[23,2,"三重県","いなべ総合","いなべ総合学園","いなべ総合","いなべそうごうがくえん","三重県立いなべ総合学園高等学校",null,null,5,""]
[23,3,"三重県","四日市四郷","四日市四郷","四日市四郷","よっかいちよごう","三重県立四日市四郷高等学校",null,null,5,""]
[23,4,"三重県","朝明","朝明","朝明","あさけ","三重県立朝明高等学校",null,null,2,""]
[23,5,"三重県","久居","久居","久居","ひさい","三重県立久居高等学校",null,null,2,""]
[23,6,"三重県","松阪工","松阪工業","松阪工","まつさかこうぎょう","三重県立松阪工業高等学校",null,null,3,""]
[23,7,"三重県","鳥羽","鳥羽","鳥羽","とば","三重県立鳥羽高等学校",null,null,2,""]
[23,8,"三重県","四日市西","四日市西","四日市西","よっかいちにし","三重県立四日市西高等学校"]
[23,9,"三重県","暁","暁","暁","あかつき","暁高等学校",null,null,1,""]
[23,null,"三重県","白山","白山","白山","はくさん","三重県立白山高等学校",null,null,2,""]
[23,null,"三重県","菰野","菰野","菰野","こもの","三重県立菰野高等学校",null,null,2,""]
[23,null,"三重県",null,null,null,null,null,null,null,0,""]
[null,null,null,null,"岐阜県",null,null,null,null,null,0,""]
[24,1,"岐阜県","岐阜工","岐阜工業","岐阜工","ぎふこうぎょう","岐阜県立岐阜工業高等学校",null,null,3,""]
[24,2,"岐阜県","岐南工","岐南工業","岐南工","ぎなんこうぎょう","岐阜県立岐南工業高等学校",null,null,3,""]
[24,3,"岐阜県","大垣工","大垣工業","大垣工","おおがきこうぎょう","岐阜県立大垣工業高等学校",null,null,3,""]
[24,4,"岐阜県","加茂農林","加茂農林","加茂農林","かものうりん","岐阜県立加茂農林高校",null,null,4,""]
[24,5,"岐阜県","中津商","中津商業","中津商","なかつしょうぎょう","岐阜県立中津商業高等学校",null,null,3,""]
[24,6,"岐阜県","大垣日大","大垣日本大学","大垣日大","おおがきにほんだいがく","大垣日本大学高等学校"]
[24,7,"岐阜県","中京","中京","中京","ちゅうきょう","中京高等学校",null,null,2,""]
[24,8,"岐阜県","高山西","高山西","高山西","たかやまにし","高山西高等学校",null,null,3,""]
[24,null,"岐阜県",null,null,null,null,null,null,null,0,""]
[null,null,null,null,"滋賀県",null,null,null,null,null,0,""]
[25,1,"滋賀県","栗東","栗東","栗東","りっとう","滋賀県立栗東高等学校",null,null,2,""]
[25,2,"滋賀県","水口","水口","水口","みなくち","滋賀県立水口高等学校",null,null,{"$f":"LEN(D225)","v":2},{"$f":"IF($L$2-K225>=0,\"\",1)","v":""}]
[25,3,"滋賀県","信楽","信楽","信楽"," しがらき","滋賀県立信楽高等学校",null,null,{"$f":"LEN(D226)","v":2},{"$f":"IF($L$2-K226>=0,\"\",1)","v":""}]
[25,4,"滋賀県","日野","日野","日野","ひの","滋賀県立日野高等学校",null,null,{"$f":"LEN(D227)","v":2},{"$f":"IF($L$2-K227>=0,\"\",1)","v":""}]
[25,5,"滋賀県","八幡工","八幡工業","八幡工","はちまんこうぎょう","滋賀県立八幡工業高等学校",null,null,3,""]
[25,null,"滋賀県","大津","大津","大津","おおつ","滋賀県立大津高等学校"]
[25,null,"滋賀県",null,null,null,null,null,null,null,0,""]
[null,null,null,null,"京都府",null,null,null,null,null,0,""]
[26,1,"京都府","丹後緑風","丹後緑風","丹後緑風","たんごりょくふう","京都府立丹後緑風高等学校",null,null,4,""]
[26,2,"京都府","京都廣学館","京都廣学館","京都廣学館","きょうとこうがっかん","京都廣学館高等学校",null,null,5,""]
[26,3,"京都府","京都八幡","京都八幡","京都八幡","きょうとやわた","京都府立京都八幡高等学校",null,null,4,""]
[26,4,"京都府","海洋","海洋","海洋","かいよう","京都府立海洋高等学校"]
[26,5,"京都府","東山","東山","東山","ひがしやま","東山高等学校",null,null,2,""]
[26,6,"京都府","日星","日星","日星","にっせい","日星高等学校",null,null,2,""]
[26,7,"京都府","立命館宇治","立命館宇治","立命館宇治","りつめいかんうじ","立命館宇治高等学校",null,null,5,""]
[26,null,"京都府",null,null,null,null,null,null,null,0,""]
[null,null,null,null,"大阪府",null,null,null,null,null,0,""]
[27,1,"大阪府","近大附","近畿大学附属","近大附","きんきだいがくふぞく","近畿大学附属高等学校",null,null,3,""]
[27,2,"大阪府","同志社香里","同志社香里","同志社香里","どうししゃこうり","同志社香里高等学校"]
[27,3,"大阪府","大体大浪商","大阪体育大学浪商","大体大浪商","おおさかたいいくだいがくなみしょう","大阪体育大学浪商高等学校",null,null,5,""]
[27,4,"大阪府","長尾谷","長尾谷","長尾谷","ながおだに","長尾谷高等学校",null,null,3,""]
[27,5,"大阪府","府立いちりつ","いちりつ","いちりつ","おおさかふりついちりつ","大阪府立いちりつ高等学校",null,null,6,1]
[27,6,"大阪府","興國","興國","興國","こうこく","興國高等学校"]
[27,7,"大阪府","高石","高石","高石","たかいし","大阪府立高石高等学校",null,null,2,""]
[27,8,"大阪府","りんくう翔南","りんくう翔南","りんくう翔南","りんくうしょうなん","大阪府立りんくう翔南高等学校",null,null,6,1]
[27,9,"大阪府","福泉","福泉","福泉"," ふくいずみ","大阪府立福泉高等学校",null,null,2,""]
[27,10,"大阪府","堺リベラル","堺リベラル","堺リベラル","さかいりべらる","堺リベラル高等学校"]
[27,null,"大阪府",null,null,null,null,null,null,null,0,""]
[null,null,null,null,"兵庫県",null,null,null,null,null,{"$f":"LEN(D252)","v":0},{"$f":"IF($L$2-K252>=0,\"\",1)","v":""}]
[28,1,"兵庫県","六甲アイランド","六甲アイランド","六甲アイランド","ろっこう あいらんど","神戸市立六甲アイランド高等学校",null,null,7,1]
[28,2,"兵庫県","神戸高塚","神戸高塚","神戸高塚","こうべたかつか","兵庫県立神戸高塚高等学校",null,null,4,""]
[28,3,"兵庫県","猪名川","猪名川","猪名川","いながわ","兵庫県立猪名川高等学校",null,null,3,""]
[28,4,"兵庫県","須磨翔風","須磨翔風","須磨翔風","すましょうふう","神戸市立須磨翔風高等学校",null,null,4,""]
[28,5,"兵庫県","市立伊丹","市立伊丹","市立伊丹","しりついたみ","伊丹市立伊丹高等学校",null,null,4,""]
[28,6,"兵庫県","芦屋学園","芦屋学園","芦屋学園","あしやがくえん","芦屋学園高等学校",null,null,4,""]
[28,6,"兵庫県","科学技術","科学技術","科学技術","かがくぎじゅつ","神戸市立科学技術高等学校"]
[28,6,"兵庫県","伊川谷","伊川谷","伊川谷","いかわだに","兵庫県立伊川谷高等学校"]
[28,null,"兵庫県",null,"青陽灘高等支援","青陽灘高支","せいようなだこうとうしえん","神戸市立青陽灘高等支援学校",null,null,0,""]
[28,null,"兵庫県",null,"育英","育英","いくえい","育英高等学校",null,null,0,""]
[28,null,"兵庫県",null,null,null,null,null,null,null,0,""]
[null,null,null,null,"奈良県",null,null,null,null,null,0,""]
[29,1,"奈良県","添上","添上","添上","そえかみ","奈良県立添上高等学校"]
[29,2,"奈良県","法隆寺国際","法隆寺国際","法隆寺国際","ほうりゅうじこくさい","奈良県立法隆寺国際高等学校",null,null,5,""]
[29,3,"奈良県","大和広陵","大和広陵","大和広陵","やまとこうりょう","奈良県立大和広陵高等学校",null,null,4,""]
[29,4,"奈良県","天理教校学園","天理教校学園","天理教校学園","てんりきょうこうがくえん","天理教校学園高等学校",null,null,6,1]
[29,5,"奈良県","橿原学院","橿原学院","橿原学院","かしはらがくいん","橿原学院高等学校",null,null,4,""]
[29,null,null,null,null,null,null,null,null,null,0,""]
[null,null,null,null,"和歌山県",null,null,null,null,null,0,""]
[30,1,"和歌山県","新宮","新宮","新宮","しんぐう","和歌山県立新宮高等学校"]
[30,2,"和歌山県","紀北工","紀北工業","紀北工","きほくこうぎょう","和歌山県立紀北工業高等学校",null,null,3,""]
[30,3,"和歌山県","和歌山東","和歌山東","和歌山東","わかやまひがし","和歌山県立和歌山東高等学校",null,null,4,""]
[30,4,"和歌山県","和歌山北","和歌山北","和歌山北","わかやまきた","和歌山県立和歌山北高等学校",null,null,4,""]
[30,5,"和歌山県","和歌山工","和歌山工業","和歌山工","わかやまこうぎょう","和歌山県立和歌山工業高等学校",null,null,4,""]
[30,6,"和歌山県","南部","南部","南部","みなべ","和歌山県立南部高等学校"]
[30,7,"和歌山県","新翔","新翔","新翔","しんしょう","和歌山県立新翔高等学校"]
[30,null,"和歌山県",null,null,null,null,null,null,null,0,""]
[null,null,null,null,"鳥取県",null,null,null,null,null,0,""]
[31,1,"鳥取県","倉吉総合","倉吉総合産業","倉吉総合","くらよしそうごうさんぎょう","鳥取県立倉吉総合産業高等学校",null,null,4,""]
[31,2,"鳥取県","鳥取中央育英","鳥取中央育英","鳥取中央育英","とっとりちゅうおういくえい","鳥取県立鳥取中央育英高等学校"]
[31,null,"鳥取県","鳥取東","鳥取東","鳥取東","とっとりひがし","鳥取県立鳥取東高等学校",null,null,3,""]
[31,null,null,null,null,null,null,null,null,null,0,""]
[null,null,null,null,"島根県",null,null,null,null,null,0,""]
[32,1,"島根県","松江工","松江工業","松江工","まつえこうぎょう","島根県立松江工業高等学校",null,null,3,""]
[32,2,"島根県","隠岐島前","隠岐島前","隠岐島前","おきどうぜん","島根県立隠岐島前高等学校",null,null,4,""]
[32,3,"島根県","松江北","松江北","松江北","まつえきた","島根県立松江北高等学校"]
[32,4,"島根県","大東","大東","大東","だいとう","島根県立大東高等学校"]
[null,null,null,null,null,null,null,null,null,null,0,""]
[null,null,null,null,"岡山県",null,null,null,null,null,0,""]
[33,1,"岡山県","関西","関西","関西","かんぜい","関西高等学校",null,null,2,""]
[33,2,"岡山県","倉敷","倉敷","倉敷","くらしき","倉敷高等学校",null,null,2,""]
[33,3,"岡山県","笠岡工","笠岡工業","笠岡工","かさおかこうぎょう","岡山県立笠岡工業高等学校",null,null,3,""]
[33,4,"岡山県","おかやま山陽","おかやま山陽","おかやま山陽","おかやまさんよう","おかやま山陽高等学校",null,null,6,1]
[33,5,"岡山県","高松農","高松農業","高松農","たかまつのうぎょう","岡山県立高松農業高等学校"]
[33,6,"岡山県","備前緑陽","備前緑陽","備前緑陽","びぜんりょくよう","岡山県立備前緑陽高等学校"]
[33,7,"岡山県","倉敷鷲羽","倉敷鷲羽","倉敷鷲羽","くらしきわしゅう","岡山県立倉敷鷲羽高等学校"]
[33,8,"岡山県","総社","総社","総社","そうじゃ","岡山県立総社高等学校",null,null,2,""]
[33,9,"岡山県","倉敷南","倉敷南","倉敷南"," くらしきみなみ","岡山県立倉敷南高等学校",null,null,3,""]
[33,null,"岡山県",null,null,null,null,null,null,null,0,""]
[null,null,null,null,"広島県",null,null,null,null,null,0,""]
[34,1,"広島県","広島国泰寺","広島国泰寺","広島国泰寺","ひろしまこくたいじ","広島県立広島国泰寺高等学校",null,null,5,""]
[34,2,"広島県","三次","三次","三次","みよし","広島県立三次中学校・高等学校",null,null,2,""]
[34,3,"広島県","賀茂","賀茂","賀茂","かも","広島県立賀茂高等学校",null,null,2,""]
[34,4,"広島県","並木学院","並木学院","並木学院","なみきがくいん","並木学院高等学校"]
[34,null,"広島県","大竹","大竹","大竹","おおたけ","広島県立大竹高等学校",null,null,2,""]
[34,null,"広島県","広島みらい創生","広島みらい創生","広島みらい創生","広島みらい創生","広島市立広島みらい創生高等学校",null,null,7,1]
[34,null,"広島県"]
[null,null,null,null,"山口県",null,null,null,null,null,0,""]
[35,1,"山口県","豊浦","豊浦","豊浦","とよら","山口県立豊浦高等学校",null,null,2,""]
[35,2,"山口県","田布施農工","田布施農工","田布施農工","たぶせのうこう","山口県立田布施農工高等学校",null,null,5,""]
[35,3,"山口県","山口鴻城","山口県鴻城","山口鴻城","やまぐちけんこうじょう","山口県鴻城高等学校",null,null,4,""]
[35,4,"山口県","柳井学園","柳井学園","柳井学園","やないがくえん","柳井学園高等学校",null,null,4,""]
[35,5,"山口県","山口桜ヶ丘","山口県桜ヶ丘","山口桜ヶ丘","やまぐちけんさくらがおか","山口県桜ヶ丘高等学校"]
[35,null,"山口県","精華学園","精華学園","精華学園","せいかがくえん","精華学園高等学校",null,null,4,""]
[35,null,"山口県",null,"下関中等教育","下関中等","しものせきちゅうとうきょういく","山口県立下関中等教育学校",null,null,0,""]
[35,null,"山口県",null,null,null,null,null,null,null,0,""]
[null,null,null,null,"香川県"]
[36,1,"香川県","高松北","高松北","高松北","たかまつきた","香川県立高松北高等学校",null,null,3,""]
[36,2,"香川県","多度津","多度津","多度津","たどつ","香川県立多度津高等学校",null,null,3,""]
[36,3,"香川県","香川中央","香川中央","香川中央","かがわちゅうおう","香川県立香川中央高等学校",null,null,4,""]
[36]
[null,null,null,null,"徳島県",null,null,null,null,null,0,""]
[37,1,"徳島県","池田","池田","池田","いけだ","徳島県立池田高等学校",null,null,2,""]
[37,2,"徳島県","池田三好","池田(三好)","池田三好","いけだこうこうみよしこう","徳島県立池田高等学校三好校",null,null,4,""]
[37,3,"徳島県","穴吹","穴吹","穴吹","あなぶき","徳島県立穴吹高等学校",null,null,2,""]
[37,4,"徳島県","つるぎ","つるぎ","つるぎ","つるぎ","徳島県立つるぎ高等学校",null,null,3,""]
[37,null,"徳島県","川島","川島","川島","かわしま","徳島県立川島高等学校",null,null,2,""]
[37,null,null,null,null,null,null,null,null,null,0,""]
[null,null,null,null,"愛媛県",null,null,null,null,null,0,""]
[38,1,"愛媛県","北条","北条","北条","ほうじょう","愛媛県立北条高等学校"]
[38,2,"愛媛県","今治工","今治工業","今治工","いまばりこうぎょう","愛媛県立今治工業高等学校"]
[38,3,"愛媛県","八幡浜工","八幡浜工業","八幡浜工","やわたはまこうぎょう","愛媛県立八幡浜工業高等学校",null,null,4,""]
[38,4,"愛媛県","今治西","今治西","今治西","いまばりにし","愛媛県立今治西高等学校",null,null,3,""]
[38,5,"愛媛県","愛媛大附","愛媛大学附属","愛媛大附","えひめだいがくふぞく","愛媛大学附属高等学校",null,null,4,""]
[38,null,"愛媛県","北宇和","北宇和","北宇和","きたうわ","愛媛県立北宇和高等学校"]
[39,null,"愛媛県",null,"宇和島東","宇和島東","うわじまひがし","愛媛県立宇和島東高等学校",null,null,{"$f":"LEN(D338)","v":0},{"$f":"IF($L$2-K338>=0,\"\",1)","v":""}]
[38,null,null,null,null,null,null,null,null,null,{"$f":"LEN(D339)","v":0},{"$f":"IF($L$2-K339>=0,\"\",1)","v":""}]
[null,null,null,null,"高知県",null,null,null,null,null,{"$f":"LEN(D340)","v":0},{"$f":"IF($L$2-K340>=0,\"\",1)","v":""}]
[39,1,"高知県","高知東","高知東","高知東","こうちひがし","高知県立高知東高等学校",null,null,{"$f":"LEN(D341)","v":3},{"$f":"IF($L$2-K341>=0,\"\",1)","v":""}]
[39,2,"高知県","土佐塾","土佐塾","土佐塾","とさじゅく","土佐塾高等学校",null,null,{"$f":"LEN(D342)","v":3},{"$f":"IF($L$2-K342>=0,\"\",1)","v":""}]
[39,3,"高知県","高知国際","高知国際","高知国際","こうちこくさい","高知県立高知国際高等学校"]
[39,4,"高知県","高岡","高岡","高岡","たかおか","高知県立高岡高等学校"]
[39,5,"高知県","宿毛","宿毛","宿毛","すくも","高知県立宿毛高等学校"]
[39,6,"高知県","高知工","高知工業","高知工","こうちこうぎょう","高知県立高知工業高等学校"]
[39,null,"高知県","岡豊","岡豊","岡豊","おこう","高知県立岡豊高等学校"]
[39,null,"高知県","高知学芸","高知学芸","高知学芸","こうちがくげい","高知学芸高等学校"]
[39]
[null,null,null,null,"福岡県"]
[40,1,"福岡県","東鷹","東鷹","東鷹","とうよう","福岡県立東鷹高等学校"]
[40,2,"福岡県","小倉商","小倉商業","小倉商","こくらしょうぎょう","福岡県立小倉商業高等学校"]
[40,3,"福岡県","三井","三井","三井","みい","福岡県立三井高等学校"]
[40,4,"福岡県","築上西","築上西","築上西","ちくじょうにし","福岡県立築上西高等学校"]
[40,5,"福岡県","遠賀","遠賀","遠賀","おんが","福岡県立遠賀高等学校"]
[40,6,"福岡県","苅田工","苅田工業","苅田工","かんだこうぎょう","福岡県立苅田工業高等学校"]
[40,7,"福岡県","福大若葉","福岡大学附属若葉","福大若葉","ふくおかだいがくふぞくわかば","福岡大学附属若葉高等学校"]
[40]
[null,null,null,null,"佐賀県"]
[41,1,"佐賀県","鹿島","鹿島","鹿島","さがけんりつかしま","佐賀県立鹿島高等学校"]
[41,2,"佐賀県","鳥栖工","鳥栖工業","鳥栖工","とすこうぎょう","佐賀県立鳥栖工業高等学校"]
[41]
[null,null,null,null,"長崎県"]
[42,1,"長崎県","島原","島原","島原","しまばら","長崎県立島原高等学校"]
[42,2,"長崎県","島原工","島原工業","島原工","しまばらこうぎょう","長崎県立島原工業高等学校"]
[42,4,"長崎県","島原翔南","島原翔南","島原翔南","しまばらしょうなん","長崎県立島原翔南高等学校"]
[42,null,"長崎県","島原翔南","島原翔南","島原翔南","しまばらしょうなん","長崎県立島原翔南高等学校"]
[42,null,"長崎県","諫早","諫早","諫早","いさはや","長崎県立諫早高等学校"]
[42]
[null,null,null,null,"熊本県"]
[43,1,"熊本県","北稜","北稜","北稜","ほくりょう","熊本県立北稜高等学校"]
[43,2,"熊本県","玉名工","玉名工業","玉名工","たまなこうぎょう","熊本県立玉名工業高等学校"]
[43,3,"熊本県","小川工","小川工業","小川工","おがわこうぎょう","熊本県立小川工業高等学校"]
[43]
[null,null,null,null,"大分県"]
[44,1,"大分県","佐伯豊南","佐伯豊南","佐伯豊南","さいきほうなん","大分県立佐伯豊南高等学校"]
[44,2,"大分県","津久見","津久見","津久見","つくみ","大分県立津久見高等学校"]
[44,3,"大分県","日文大附","日本文理大学附属","日文理大附","にっぽんぶんりだいがくふぞく","日本文理大学附属高等学校"]
[44]
[null,null,null,null,"宮崎県"]
[45,1,"宮崎県","日南振徳","日南振徳","日南振徳","にちなんしんとく","宮崎県立日南振徳高等学校"]
[45,2,"宮崎県","宮崎農","宮崎農業","宮崎農","みやざきのうぎょう","宮崎県立宮崎農業高等学校"]
[45,3,"宮崎県","宮崎工","宮崎工業","宮崎工","みやざきこうぎょう","宮崎県立宮崎工業高等学校"]
[45,4,"宮崎県","福島","宮崎県立福島","福島","ふくしま","宮崎県立福島高等学校"]
[45,5,"宮崎県","日向学院","日向学院","日向学院","ひゅうががくいん","日向学院高等学校"]
[45,6,"宮崎県","宮崎日大","宮崎日本大学","宮崎日大","みやざきにちだい","宮崎日本大学高等学校"]
[45,7,"宮崎県","宮崎一","宮崎第一","宮崎一","みやざきだいいち","宮崎第一高等学校"]
[45,8,"宮崎県","都城西","都城西","都城西","みやこのじょうにし","宮崎県立都城西高等学校"]
[45,null,"宮崎県","都城東","都城東","都城東","みやこのじょうひがし","都城東高等学校"]
[45,null,"宮崎県","櫻美学園","櫻美学園","櫻美学園","おうびがくえん","櫻美学園高等学校"]
[45]
[null,null,null,null,"鹿児島県"]
[46,1,"鹿児島県","樟南","樟南","樟南","しょうなん","樟南高等学校"]
[46,2,"鹿児島県","鹿屋中央","鹿屋中央","鹿屋中央","かのやちゅうおう","鹿屋中央高等学校"]
[46,3,"鹿児島県","加世田常潤","加世田常潤","加世田常潤","かせだじょうじゅん","鹿児島県立加世田常潤高等学校"]
[46,null,"鹿児島県",null,"霧島","霧島","きりしま","鹿児島県立霧島高等学校"]
[46,null,"鹿児島県"]
[null,null,null,null,"沖縄県"]
[47,1,"沖縄県","北部農林","北部農林","北部農林","ほくぶのうりん","沖縄県立北部農林高等学校"]
[47,2,"沖縄県","南風原","南風原","南風原","はえばる","沖縄県立南風原高等学校"]
[47,3,"沖縄県","浦添工","浦添工業","浦添工","うらぞえこうぎょう","沖縄県立浦添工業高等学校"]
[47,null,"沖縄県","真和志","真和志","真和志","まわし","沖縄県立真和志高等学校"]
[47,null,"沖縄県","美来工科","美来工科","美来工科","みらいこうか","沖縄県立美来工科高等学校"]
[47,null,"沖縄県","八重山","八重山","八重山","やえやま","沖縄県立八重山高等学校"]
[47,null,"沖縄県","南風原高等支援","南風原高等支援","南風原高支","はえばるこうとうしえん","沖縄県立南風原高等支援学校"]
[47]
[null,null,null,null,"開催県"]

{"sheet":"データ（削除しないで）","index":9,"n_rows":94,"n_cols":29,"rows_kept":94,"cut":false,"hidden":false,"merged":[[60,0,61,0],[32,0,33,0],[33,23,33,24],[33,25,33,26],[4,0,5,0],[4,31,4,33],[5,23,5,24],[5,25,5,26],[31,9,31,10],[31,13,31,14],[31,22,31,23],[31,26,31,28]]}
[]
[]
[]
[]
[null,"B-1 （専門委員長用）"]
[null,"ID","No","No（県番号）","名前","なまえ","都道府県","学校名","がっこうめい","正副","階級","学年","抽選",null,null,"kg","ブロック","正式名称","監督","生年月日",null,null,null,"名前",null,"なまえ",null,null,"監督"]
[1,null,null,{"$f":"'参加申込B－１'!$B$113","v":0},{"$f":"X7&\" \"&Y7","v":"-- --"},{"$f":"Z7&\" \"&AA7","v":"-- --"},{"$f":"'参加申込B－１'!$C$5","v":"(選択)"},{"$f":"'参加申込B－１'!G17","v":""},{"$f":"'参加申込B－１'!G16","v":0},1,51,{"$f":"'参加申込B－１'!F16","v":""},null,null,1,"51kg",null,null,null,{"$f":"'参加申込B－１'!E16","v":""},null,null,null,{"$f":"IF('参加申込B－１'!C17=\"\",\"--\",SUBSTITUTE(SUBSTITUTE('参加申込B－１'!C17,\"　\",\"\"),\" \",\"\"))","v":"--"},{"$f":"IF('参加申込B－１'!D17=\"\",\"--\",SUBSTITUTE(SUBSTITUTE('参加申込B－１'!D17,\"　\",\"\"),\" \",\"\"))","v":"--"},{"$f":"IF('参加申込B－１'!C16=\"\",\"--\",SUBSTITUTE(SUBSTITUTE('参加申込B－１'!C16,\"　\",\"\"),\" \",\"\"))","v":"--"},{"$f":"IF('参加申込B－１'!D16=\"\",\"--\",SUBSTITUTE(SUBSTITUTE('参加申込B－１'!D16,\"　\",\"\"),\" \",\"\"))","v":"--"}]
[2,null,null,{"$f":"'参加申込B－１'!$B$113","v":0},{"$f":"X8&\" \"&Y8","v":"-- --"},{"$f":"Z8&\" \"&AA8","v":"-- --"},{"$f":"'参加申込B－１'!$C$5","v":"(選択)"},{"$f":"'参加申込B－１'!G19","v":""},{"$f":"'参加申込B－１'!G18","v":0},1,51,{"$f":"'参加申込B－１'!F18","v":""},null,null,2,"51kg",null,null,null,{"$f":"'参加申込B－１'!E18","v":""},null,null,null,{"$f":"IF('参加申込B－１'!C19=\"\",\"--\",SUBSTITUTE(SUBSTITUTE('参加申込B－１'!C19,\"　\",\"\"),\" \",\"\"))","v":"--"},{"$f":"IF('参加申込B－１'!D19=\"\",\"--\",SUBSTITUTE(SUBSTITUTE('参加申込B－１'!D19,\"　\",\"\"),\" \",\"\"))","v":"--"},{"$f":"IF('参加申込B－１'!C18=\"\",\"--\",SUBSTITUTE(SUBSTITUTE('参加申込B－１'!C18,\"　\",\"\"),\" \",\"\"))","v":"--"},{"$f":"IF('参加申込B－１'!D18=\"\",\"--\",SUBSTITUTE(SUBSTITUTE('参加申込B－１'!D18,\"　\",\"\"),\" \",\"\"))","v":"--"}]
[3,null,null,{"$f":"'参加申込B－１'!$B$113","v":0},"-- --","-- --",{"$f":"'参加申込B－１'!$C$5","v":"(選択)"},{"$f":"'参加申込B－１'!G21","v":""},{"$f":"'参加申込B－１'!G20","v":0},1,51,{"$f":"'参加申込B－１'!F20","v":""},null,null,3,"51kg",null,null,null,{"$f":"'参加申込B－１'!E20","v":""},null,null,null,{"$f":"IF('参加申込B－１'!C21=\"\",\"--\",SUBSTITUTE(SUBSTITUTE('参加申込B－１'!C21,\"　\",\"\"),\" \",\"\"))","v":"--"},{"$f":"IF('参加申込B－１'!D21=\"\",\"--\",SUBSTITUTE(SUBSTITUTE('参加申込B－１'!D21,\"　\",\"\"),\" \",\"\"))","v":"--"},{"$f":"IF('参加申込B－１'!C20=\"\",\"--\",SUBSTITUTE(SUBSTITUTE('参加申込B－１'!C20,\"　\",\"\"),\" \",\"\"))","v":"--"},{"$f":"IF('参加申込B－１'!D20=\"\",\"--\",SUBSTITUTE(SUBSTITUTE('参加申込B－１'!D20,\"　\",\"\"),\" \",\"\"))","v":"--"}]
[4,null,null,{"$f":"'参加申込B－１'!$B$113","v":0},"-- --","-- --",{"$f":"'参加申込B－１'!$C$5","v":"(選択)"},{"$f":"'参加申込B－１'!G23","v":""},{"$f":"'参加申込B－１'!G22","v":0},1,55,{"$f":"'参加申込B－１'!F22","v":""},null,null,1,"55kg",null,null,null,{"$f":"'参加申込B－１'!E22","v":""},null,null,null,{"$f":"IF('参加申込B－１'!C23=\"\",\"--\",SUBSTITUTE(SUBSTITUTE('参加申込B－１'!C23,\"　\",\"\"),\" \",\"\"))","v":"--"},{"$f":"IF('参加申込B－１'!D23=\"\",\"--\",SUBSTITUTE(SUBSTITUTE('参加申込B－１'!D23,\"　\",\"\"),\" \",\"\"))","v":"--"},{"$f":"IF('参加申込B－１'!C22=\"\",\"--\",SUBSTITUTE(SUBSTITUTE('参加申込B－１'!C22,\"　\",\"\"),\" \",\"\"))","v":"--"},{"$f":"IF('参加申込B－１'!D22=\"\",\"--\",SUBSTITUTE(SUBSTITUTE('参加申込B－１'!D22,\"　\",\"\"),\" \",\"\"))","v":"--"}]
[5,null,null,{"$f":"'参加申込B－１'!$B$113","v":0},"-- --","-- --",{"$f":"'参加申込B－１'!$C$5","v":"(選択)"},{"$f":"'参加申込B－１'!G25","v":""},{"$f":"'参加申込B－１'!G24","v":0},1,55,{"$f":"'参加申込B－１'!F24","v":""},null,null,2,"55kg",null,null,null,{"$f":"'参加申込B－１'!E24","v":""},null,null,null,{"$f":"IF('参加申込B－１'!C25=\"\",\"--\",SUBSTITUTE(SUBSTITUTE('参加申込B－１'!C25,\"　\",\"\"),\" \",\"\"))","v":"--"},{"$f":"IF('参加申込B－１'!D25=\"\",\"--\",SUBSTITUTE(SUBSTITUTE('参加申込B－１'!D25,\"　\",\"\"),\" \",\"\"))","v":"--"},{"$f":"IF('参加申込B－１'!C24=\"\",\"--\",SUBSTITUTE(SUBSTITUTE('参加申込B－１'!C24,\"　\",\"\"),\" \",\"\"))","v":"--"},{"$f":"IF('参加申込B－１'!D24=\"\",\"--\",SUBSTITUTE(SUBSTITUTE('参加申込B－１'!D24,\"　\",\"\"),\" \",\"\"))","v":"--"}]
[6,null,null,{"$f":"'参加申込B－１'!$B$113","v":0},"-- --","-- --",{"$f":"'参加申込B－１'!$C$5","v":"(選択)"},{"$f":"'参加申込B－１'!G27","v":""},{"$f":"'参加申込B－１'!G26","v":0},1,55,{"$f":"'参加申込B－１'!F26","v":""},null,null,3,"55kg",null,null,null,{"$f":"'参加申込B－１'!E26","v":""},null,null,null,{"$f":"IF('参加申込B－１'!C27=\"\",\"--\",SUBSTITUTE(SUBSTITUTE('参加申込B－１'!C27,\"　\",\"\"),\" \",\"\"))","v":"--"},{"$f":"IF('参加申込B－１'!D27=\"\",\"--\",SUBSTITUTE(SUBSTITUTE('参加申込B－１'!D27,\"　\",\"\"),\" \",\"\"))","v":"--"},{"$f":"IF('参加申込B－１'!C26=\"\",\"--\",SUBSTITUTE(SUBSTITUTE('参加申込B－１'!C26,\"　\",\"\"),\" \",\"\"))","v":"--"},{"$f":"IF('参加申込B－１'!D26=\"\",\"--\",SUBSTITUTE(SUBSTITUTE('参加申込B－１'!D26,\"　\",\"\"),\" \",\"\"))","v":"--"}]
[7,null,null,{"$f":"'参加申込B－１'!$B$113","v":0},"-- --","-- --",{"$f":"'参加申込B－１'!$C$5","v":"(選択)"},{"$f":"'参加申込B－１'!G29","v":""},{"$f":"'参加申込B－１'!G28","v":0},1,60,{"$f":"'参加申込B－１'!F28","v":""},null,null,1,"60kg",null,null,null,{"$f":"'参加申込B－１'!E28","v":""},null,null,null,{"$f":"IF('参加申込B－１'!C29=\"\",\"--\",SUBSTITUTE(SUBSTITUTE('参加申込B－１'!C29,\"　\",\"\"),\" \",\"\"))","v":"--"},{"$f":"IF('参加申込B－１'!D29=\"\",\"--\",SUBSTITUTE(SUBSTITUTE('参加申込B－１'!D29,\"　\",\"\"),\" \",\"\"))","v":"--"},{"$f":"IF('参加申込B－１'!C28=\"\",\"--\",SUBSTITUTE(SUBSTITUTE('参加申込B－１'!C28,\"　\",\"\"),\" \",\"\"))","v":"--"},{"$f":"IF('参加申込B－１'!D28=\"\",\"--\",SUBSTITUTE(SUBSTITUTE('参加申込B－１'!D28,\"　\",\"\"),\" \",\"\"))","v":"--"}]
[8,null,null,{"$f":"'参加申込B－１'!$B$113","v":0},"-- --","-- --",{"$f":"'参加申込B－１'!$C$5","v":"(選択)"},{"$f":"'参加申込B－１'!G31","v":""},{"$f":"'参加申込B－１'!G30","v":0},1,60,{"$f":"'参加申込B－１'!F30","v":""},null,null,2,"60kg",null,null,null,{"$f":"'参加申込B－１'!E30","v":""},null,null,null,{"$f":"IF('参加申込B－１'!C31=\"\",\"--\",SUBSTITUTE(SUBSTITUTE('参加申込B－１'!C31,\"　\",\"\"),\" \",\"\"))","v":"--"},{"$f":"IF('参加申込B－１'!D31=\"\",\"--\",SUBSTITUTE(SUBSTITUTE('参加申込B－１'!D31,\"　\",\"\"),\" \",\"\"))","v":"--"},{"$f":"IF('参加申込B－１'!C30=\"\",\"--\",SUBSTITUTE(SUBSTITUTE('参加申込B－１'!C30,\"　\",\"\"),\" \",\"\"))","v":"--"},{"$f":"IF('参加申込B－１'!D30=\"\",\"--\",SUBSTITUTE(SUBSTITUTE('参加申込B－１'!D30,\"　\",\"\"),\" \",\"\"))","v":"--"}]
[9,null,null,{"$f":"'参加申込B－１'!$B$113","v":0},"-- --","-- --",{"$f":"'参加申込B－１'!$C$5","v":"(選択)"},{"$f":"'参加申込B－１'!G33","v":""},{"$f":"'参加申込B－１'!G32","v":0},1,60,{"$f":"'参加申込B－１'!F32","v":""},null,null,3,"60kg",null,null,null,{"$f":"'参加申込B－１'!E32","v":""},null,null,null,{"$f":"IF('参加申込B－１'!C33=\"\",\"--\",SUBSTITUTE(SUBSTITUTE('参加申込B－１'!C33,\"　\",\"\"),\" \",\"\"))","v":"--"},{"$f":"IF('参加申込B－１'!D33=\"\",\"--\",SUBSTITUTE(SUBSTITUTE('参加申込B－１'!D33,\"　\",\"\"),\" \",\"\"))","v":"--"},{"$f":"IF('参加申込B－１'!C32=\"\",\"--\",SUBSTITUTE(SUBSTITUTE('参加申込B－１'!C32,\"　\",\"\"),\" \",\"\"))","v":"--"},{"$f":"IF('参加申込B－１'!D32=\"\",\"--\",SUBSTITUTE(SUBSTITUTE('参加申込B－１'!D32,\"　\",\"\"),\" \",\"\"))","v":"--"}]
[10,null,null,{"$f":"'参加申込B－１'!$B$113","v":0},"-- --","-- --",{"$f":"'参加申込B－１'!$C$5","v":"(選択)"},{"$f":"'参加申込B－１'!G35","v":""},{"$f":"'参加申込B－１'!G34","v":0},1,65,{"$f":"'参加申込B－１'!F34","v":""},null,null,1,"65kg",null,null,null,{"$f":"'参加申込B－１'!E34","v":""},null,null,null,{"$f":"IF('参加申込B－１'!C35=\"\",\"--\",SUBSTITUTE(SUBSTITUTE('参加申込B－１'!C35,\"　\",\"\"),\" \",\"\"))","v":"--"},{"$f":"IF('参加申込B－１'!D35=\"\",\"--\",SUBSTITUTE(SUBSTITUTE('参加申込B－１'!D35,\"　\",\"\"),\" \",\"\"))","v":"--"},{"$f":"IF('参加申込B－１'!C34=\"\",\"--\",SUBSTITUTE(SUBSTITUTE('参加申込B－１'!C34,\"　\",\"\"),\" \",\"\"))","v":"--"},{"$f":"IF('参加申込B－１'!D34=\"\",\"--\",SUBSTITUTE(SUBSTITUTE('参加申込B－１'!D34,\"　\",\"\"),\" \",\"\"))","v":"--"}]
[11,null,null,{"$f":"'参加申込B－１'!$B$113","v":0},"-- --","-- --",{"$f":"'参加申込B－１'!$C$5","v":"(選択)"},{"$f":"'参加申込B－１'!G37","v":""},{"$f":"'参加申込B－１'!G36","v":0},1,65,{"$f":"'参加申込B－１'!F36","v":""},null,null,2,"65kg",null,null,null,{"$f":"'参加申込B－１'!E36","v":""},null,null,null,{"$f":"IF('参加申込B－１'!C37=\"\",\"--\",SUBSTITUTE(SUBSTITUTE('参加申込B－１'!C37,\"　\",\"\"),\" \",\"\"))","v":"--"},{"$f":"IF('参加申込B－１'!D37=\"\",\"--\",SUBSTITUTE(SUBSTITUTE('参加申込B－１'!D37,\"　\",\"\"),\" \",\"\"))","v":"--"},{"$f":"IF('参加申込B－１'!C36=\"\",\"--\",SUBSTITUTE(SUBSTITUTE('参加申込B－１'!C36,\"　\",\"\"),\" \",\"\"))","v":"--"},{"$f":"IF('参加申込B－１'!D36=\"\",\"--\",SUBSTITUTE(SUBSTITUTE('参加申込B－１'!D36,\"　\",\"\"),\" \",\"\"))","v":"--"}]
[12,null,null,{"$f":"'参加申込B－１'!$B$113","v":0},"-- --","-- --",{"$f":"'参加申込B－１'!$C$5","v":"(選択)"},{"$f":"'参加申込B－１'!G39","v":""},{"$f":"'参加申込B－１'!G38","v":0},1,65,{"$f":"'参加申込B－１'!F38","v":""},null,null,3,"65kg",null,null,null,{"$f":"'参加申込B－１'!E38","v":""},null,null,null,{"$f":"IF('参加申込B－１'!C39=\"\",\"--\",SUBSTITUTE(SUBSTITUTE('参加申込B－１'!C39,\"　\",\"\"),\" \",\"\"))","v":"--"},{"$f":"IF('参加申込B－１'!D39=\"\",\"--\",SUBSTITUTE(SUBSTITUTE('参加申込B－１'!D39,\"　\",\"\"),\" \",\"\"))","v":"--"},{"$f":"IF('参加申込B－１'!C38=\"\",\"--\",SUBSTITUTE(SUBSTITUTE('参加申込B－１'!C38,\"　\",\"\"),\" \",\"\"))","v":"--"},{"$f":"IF('参加申込B－１'!D38=\"\",\"--\",SUBSTITUTE(SUBSTITUTE('参加申込B－１'!D38,\"　\",\"\"),\" \",\"\"))","v":"--"}]
[13,null,null,{"$f":"'参加申込B－１'!$B$113","v":0},"-- --","-- --",{"$f":"'参加申込B－１'!$C$5","v":"(選択)"},{"$f":"'参加申込B－１'!G41","v":""},{"$f":"'参加申込B－１'!G40","v":0},1,71,{"$f":"'参加申込B－１'!F40","v":""},null,null,1,"71kg",null,null,null,{"$f":"'参加申込B－１'!E40","v":""},null,null,null,{"$f":"IF('参加申込B－１'!C41=\"\",\"--\",SUBSTITUTE(SUBSTITUTE('参加申込B－１'!C41,\"　\",\"\"),\" \",\"\"))","v":"--"},{"$f":"IF('参加申込B－１'!D41=\"\",\"--\",SUBSTITUTE(SUBSTITUTE('参加申込B－１'!D41,\"　\",\"\"),\" \",\"\"))","v":"--"},{"$f":"IF('参加申込B－１'!C40=\"\",\"--\",SUBSTITUTE(SUBSTITUTE('参加申込B－１'!C40,\"　\",\"\"),\" \",\"\"))","v":"--"},{"$f":"IF('参加申込B－１'!D40=\"\",\"--\",SUBSTITUTE(SUBSTITUTE('参加申込B－１'!D40,\"　\",\"\"),\" \",\"\"))","v":"--"}]
[14,null,null,{"$f":"'参加申込B－１'!$B$113","v":0},"-- --","-- --",{"$f":"'参加申込B－１'!$C$5","v":"(選択)"},{"$f":"'参加申込B－１'!G43","v":""},{"$f":"'参加申込B－１'!G42","v":0},1,71,{"$f":"'参加申込B－１'!F42","v":""},null,null,2,"71kg",null,null,null,{"$f":"'参加申込B－１'!E42","v":""},null,null,null,{"$f":"IF('参加申込B－１'!C43=\"\",\"--\",SUBSTITUTE(SUBSTITUTE('参加申込B－１'!C43,\"　\",\"\"),\" \",\"\"))","v":"--"},{"$f":"IF('参加申込B－１'!D43=\"\",\"--\",SUBSTITUTE(SUBSTITUTE('参加申込B－１'!D43,\"　\",\"\"),\" \",\"\"))","v":"--"},{"$f":"IF('参加申込B－１'!C42=\"\",\"--\",SUBSTITUTE(SUBSTITUTE('参加申込B－１'!C42,\"　\",\"\"),\" \",\"\"))","v":"--"},{"$f":"IF('参加申込B－１'!D42=\"\",\"--\",SUBSTITUTE(SUBSTITUTE('参加申込B－１'!D42,\"　\",\"\"),\" \",\"\"))","v":"--"}]
[15,null,null,{"$f":"'参加申込B－１'!$B$113","v":0},"-- --","-- --",{"$f":"'参加申込B－１'!$C$5","v":"(選択)"},{"$f":"'参加申込B－１'!G45","v":""},{"$f":"'参加申込B－１'!G44","v":0},1,71,{"$f":"'参加申込B－１'!F44","v":""},null,null,3,"71kg",null,null,null,{"$f":"'参加申込B－１'!E44","v":""},null,null,null,{"$f":"IF('参加申込B－１'!C45=\"\",\"--\",SUBSTITUTE(SUBSTITUTE('参加申込B－１'!C45,\"　\",\"\"),\" \",\"\"))","v":"--"},{"$f":"IF('参加申込B－１'!D45=\"\",\"--\",SUBSTITUTE(SUBSTITUTE('参加申込B－１'!D45,\"　\",\"\"),\" \",\"\"))","v":"--"},{"$f":"IF('参加申込B－１'!C44=\"\",\"--\",SUBSTITUTE(SUBSTITUTE('参加申込B－１'!C44,\"　\",\"\"),\" \",\"\"))","v":"--"},{"$f":"IF('参加申込B－１'!D44=\"\",\"--\",SUBSTITUTE(SUBSTITUTE('参加申込B－１'!D44,\"　\",\"\"),\" \",\"\"))","v":"--"}]
[16,null,null,{"$f":"'参加申込B－１'!$B$113","v":0},"-- --","-- --",{"$f":"'参加申込B－１'!$C$5","v":"(選択)"},{"$f":"'参加申込B－１'!G47","v":""},{"$f":"'参加申込B－１'!G46","v":0},1,80,{"$f":"'参加申込B－１'!F46","v":""},null,null,1,"80kg",null,null,null,{"$f":"'参加申込B－１'!E46","v":""},null,null,null,{"$f":"IF('参加申込B－１'!C47=\"\",\"--\",SUBSTITUTE(SUBSTITUTE('参加申込B－１'!C47,\"　\",\"\"),\" \",\"\"))","v":"--"},{"$f":"IF('参加申込B－１'!D47=\"\",\"--\",SUBSTITUTE(SUBSTITUTE('参加申込B－１'!D47,\"　\",\"\"),\" \",\"\"))","v":"--"},{"$f":"IF('参加申込B－１'!C46=\"\",\"--\",SUBSTITUTE(SUBSTITUTE('参加申込B－１'!C46,\"　\",\"\"),\" \",\"\"))","v":"--"},{"$f":"IF('参加申込B－１'!D46=\"\",\"--\",SUBSTITUTE(SUBSTITUTE('参加申込B－１'!D46,\"　\",\"\"),\" \",\"\"))","v":"--"}]
[17,null,null,{"$f":"'参加申込B－１'!$B$113","v":0},"-- --","-- --",{"$f":"'参加申込B－１'!$C$5","v":"(選択)"},{"$f":"'参加申込B－１'!G49","v":""},{"$f":"'参加申込B－１'!G48","v":0},1,80,{"$f":"'参加申込B－１'!F48","v":""},null,null,2,"80kg",null,null,null,{"$f":"'参加申込B－１'!E48","v":""},null,null,null,{"$f":"IF('参加申込B－１'!C49=\"\",\"--\",SUBSTITUTE(SUBSTITUTE('参加申込B－１'!C49,\"　\",\"\"),\" \",\"\"))","v":"--"},{"$f":"IF('参加申込B－１'!D49=\"\",\"--\",SUBSTITUTE(SUBSTITUTE('参加申込B－１'!D49,\"　\",\"\"),\" \",\"\"))","v":"--"},{"$f":"IF('参加申込B－１'!C48=\"\",\"--\",SUBSTITUTE(SUBSTITUTE('参加申込B－１'!C48,\"　\",\"\"),\" \",\"\"))","v":"--"},{"$f":"IF('参加申込B－１'!D48=\"\",\"--\",SUBSTITUTE(SUBSTITUTE('参加申込B－１'!D48,\"　\",\"\"),\" \",\"\"))","v":"--"}]
[18,null,null,{"$f":"'参加申込B－１'!$B$113","v":0},"-- --","-- --",{"$f":"'参加申込B－１'!$C$5","v":"(選択)"},{"$f":"'参加申込B－１'!G51","v":""},{"$f":"'参加申込B－１'!G50","v":0},1,80,{"$f":"'参加申込B－１'!F50","v":""},null,null,3,"80kg",null,null,null,{"$f":"'参加申込B－１'!E50","v":""},null,null,null,{"$f":"IF('参加申込B－１'!C51=\"\",\"--\",SUBSTITUTE(SUBSTITUTE('参加申込B－１'!C51,\"　\",\"\"),\" \",\"\"))","v":"--"},{"$f":"IF('参加申込B－１'!D51=\"\",\"--\",SUBSTITUTE(SUBSTITUTE('参加申込B－１'!D51,\"　\",\"\"),\" \",\"\"))","v":"--"},{"$f":"IF('参加申込B－１'!C50=\"\",\"--\",SUBSTITUTE(SUBSTITUTE('参加申込B－１'!C50,\"　\",\"\"),\" \",\"\"))","v":"--"},{"$f":"IF('参加申込B－１'!D50=\"\",\"--\",SUBSTITUTE(SUBSTITUTE('参加申込B－１'!D50,\"　\",\"\"),\" \",\"\"))","v":"--"}]
[19,null,null,{"$f":"'参加申込B－１'!$B$113","v":0},"-- --","-- --",{"$f":"'参加申込B－１'!$C$5","v":"(選択)"},{"$f":"'参加申込B－１'!G53","v":""},{"$f":"'参加申込B－１'!G52","v":0},1,92,{"$f":"'参加申込B－１'!F52","v":""},null,null,1,"92kg",null,null,null,{"$f":"'参加申込B－１'!E52","v":""},null,null,null,{"$f":"IF('参加申込B－１'!C53=\"\",\"--\",SUBSTITUTE(SUBSTITUTE('参加申込B－１'!C53,\"　\",\"\"),\" \",\"\"))","v":"--"},{"$f":"IF('参加申込B－１'!D53=\"\",\"--\",SUBSTITUTE(SUBSTITUTE('参加申込B－１'!D53,\"　\",\"\"),\" \",\"\"))","v":"--"},{"$f":"IF('参加申込B－１'!C52=\"\",\"--\",SUBSTITUTE(SUBSTITUTE('参加申込B－１'!C52,\"　\",\"\"),\" \",\"\"))","v":"--"},{"$f":"IF('参加申込B－１'!D52=\"\",\"--\",SUBSTITUTE(SUBSTITUTE('参加申込B－１'!D52,\"　\",\"\"),\" \",\"\"))","v":"--"}]
[20,null,null,{"$f":"'参加申込B－１'!$B$113","v":0},"-- --","-- --",{"$f":"'参加申込B－１'!$C$5","v":"(選択)"},{"$f":"'参加申込B－１'!G55","v":""},{"$f":"'参加申込B－１'!G54","v":0},1,92,{"$f":"'参加申込B－１'!F54","v":""},null,null,2,"92kg",null,null,null,{"$f":"'参加申込B－１'!E54","v":""},null,null,null,{"$f":"IF('参加申込B－１'!C55=\"\",\"--\",SUBSTITUTE(SUBSTITUTE('参加申込B－１'!C55,\"　\",\"\"),\" \",\"\"))","v":"--"},{"$f":"IF('参加申込B－１'!D55=\"\",\"--\",SUBSTITUTE(SUBSTITUTE('参加申込B－１'!D55,\"　\",\"\"),\" \",\"\"))","v":"--"},{"$f":"IF('参加申込B－１'!C54=\"\",\"--\",SUBSTITUTE(SUBSTITUTE('参加申込B－１'!C54,\"　\",\"\"),\" \",\"\"))","v":"--"},{"$f":"IF('参加申込B－１'!D54=\"\",\"--\",SUBSTITUTE(SUBSTITUTE('参加申込B－１'!D54,\"　\",\"\"),\" \",\"\"))","v":"--"}]
[21,null,null,{"$f":"'参加申込B－１'!$B$113","v":0},"-- --","-- --",{"$f":"'参加申込B－１'!$C$5","v":"(選択)"},{"$f":"'参加申込B－１'!G57","v":""},{"$f":"'参加申込B－１'!G56","v":0},1,92,{"$f":"'参加申込B－１'!F56","v":""},null,null,3,"92kg",null,null,null,{"$f":"'参加申込B－１'!E56","v":""},null,null,null,{"$f":"IF('参加申込B－１'!C57=\"\",\"--\",SUBSTITUTE(SUBSTITUTE('参加申込B－１'!C57,\"　\",\"\"),\" \",\"\"))","v":"--"},{"$f":"IF('参加申込B－１'!D57=\"\",\"--\",SUBSTITUTE(SUBSTITUTE('参加申込B－１'!D57,\"　\",\"\"),\" \",\"\"))","v":"--"},{"$f":"IF('参加申込B－１'!C56=\"\",\"--\",SUBSTITUTE(SUBSTITUTE('参加申込B－１'!C56,\"　\",\"\"),\" \",\"\"))","v":"--"},{"$f":"IF('参加申込B－１'!D56=\"\",\"--\",SUBSTITUTE(SUBSTITUTE('参加申込B－１'!D56,\"　\",\"\"),\" \",\"\"))","v":"--"}]
[22,null,null,{"$f":"'参加申込B－１'!$B$113","v":0},"-- --","-- --",{"$f":"'参加申込B－１'!$C$5","v":"(選択)"},{"$f":"'参加申込B－１'!G59","v":""},{"$f":"'参加申込B－１'!G58","v":0},1,125,{"$f":"'参加申込B－１'!F58","v":""},null,null,1,"125kg",null,null,null,{"$f":"'参加申込B－１'!E58","v":""},null,null,null,{"$f":"IF('参加申込B－１'!C59=\"\",\"--\",SUBSTITUTE(SUBSTITUTE('参加申込B－１'!C59,\"　\",\"\"),\" \",\"\"))","v":"--"},{"$f":"IF('参加申込B－１'!D59=\"\",\"--\",SUBSTITUTE(SUBSTITUTE('参加申込B－１'!D59,\"　\",\"\"),\" \",\"\"))","v":"--"},{"$f":"IF('参加申込B－１'!C58=\"\",\"--\",SUBSTITUTE(SUBSTITUTE('参加申込B－１'!C58,\"　\",\"\"),\" \",\"\"))","v":"--"},{"$f":"IF('参加申込B－１'!D58=\"\",\"--\",SUBSTITUTE(SUBSTITUTE('参加申込B－１'!D58,\"　\",\"\"),\" \",\"\"))","v":"--"}]
[23,null,null,{"$f":"'参加申込B－１'!$B$113","v":0},"-- --","-- --",{"$f":"'参加申込B－１'!$C$5","v":"(選択)"},{"$f":"'参加申込B－１'!G61","v":""},{"$f":"'参加申込B－１'!G60","v":0},1,125,{"$f":"'参加申込B－１'!F60","v":""},null,null,2,"125kg",null,null,null,{"$f":"'参加申込B－１'!E60","v":""},null,null,null,{"$f":"IF('参加申込B－１'!C61=\"\",\"--\",SUBSTITUTE(SUBSTITUTE('参加申込B－１'!C61,\"　\",\"\"),\" \",\"\"))","v":"--"},{"$f":"IF('参加申込B－１'!D61=\"\",\"--\",SUBSTITUTE(SUBSTITUTE('参加申込B－１'!D61,\"　\",\"\"),\" \",\"\"))","v":"--"},{"$f":"IF('参加申込B－１'!C60=\"\",\"--\",SUBSTITUTE(SUBSTITUTE('参加申込B－１'!C60,\"　\",\"\"),\" \",\"\"))","v":"--"},{"$f":"IF('参加申込B－１'!D60=\"\",\"--\",SUBSTITUTE(SUBSTITUTE('参加申込B－１'!D60,\"　\",\"\"),\" \",\"\"))","v":"--"}]
[24,null,null,{"$f":"'参加申込B－１'!$B$113","v":0},"-- --","-- --",{"$f":"'参加申込B－１'!$C$5","v":"(選択)"},{"$f":"'参加申込B－１'!G63","v":""},{"$f":"'参加申込B－１'!G62","v":0},1,125,{"$f":"'参加申込B－１'!F62","v":""},null,null,3,"125kg",null,null,null,{"$f":"'参加申込B－１'!E62","v":""},null,null,null,{"$f":"IF('参加申込B－１'!C63=\"\",\"--\",SUBSTITUTE(SUBSTITUTE('参加申込B－１'!C63,\"　\",\"\"),\" \",\"\"))","v":"--"},{"$f":"IF('参加申込B－１'!D63=\"\",\"--\",SUBSTITUTE(SUBSTITUTE('参加申込B－１'!D63,\"　\",\"\"),\" \",\"\"))","v":"--"},{"$f":"IF('参加申込B－１'!C62=\"\",\"--\",SUBSTITUTE(SUBSTITUTE('参加申込B－１'!C62,\"　\",\"\"),\" \",\"\"))","v":"--"},{"$f":"IF('参加申込B－１'!D62=\"\",\"--\",SUBSTITUTE(SUBSTITUTE('参加申込B－１'!D62,\"　\",\"\"),\" \",\"\"))","v":"--"}]
[]
[]
[null,"A (学校用)"]
[null,"ID","No","No（県番号）","名前","なまえ","都道府県","学校名","がっこうめい","正副","階級","学年","抽選","略称",null,"kg","ブロック","正式名称","監督","生年月日","略称",null,null,"名前",null,"なまえ",null,"協会番号","監督"]
[1,null,null,{"$f":"参加申込A!$B$113","v":0},{"$f":"X35&\" \"&Y35","v":"-- --"},{"$f":"Z35&\" \"&AA35","v":"-- --"},{"$f":"参加申込A!$C$6","v":"(選択)"},{"$f":"参加申込A!$F$6","v":""},{"$f":"参加申込A!$F$4","v":""},1,51,{"$f":"参加申込A!H19","v":""},null,{"$f":"U35","v":{"$error":"#N/A"}},1,"51kg",null,{"$f":"参加申込A!$F$6","v":""},{"$f":"SUBSTITUTE(SUBSTITUTE(参加申込A!$C$16,\"　\",\"\"),\" \",\"\")&\" \"&SUBSTITUTE(SUBSTITUTE(参加申込A!$D$16,\"　\",\"\"),\" \",\"\")","v":"0 0"},{"$f":"参加申込A!G19","v":""},{"$f":"入力シート!$R$26","v":{"$error":"#N/A"}},null,null,{"$f":"IF(参加申込A!C20=\"\",\"--\",SUBSTITUTE(SUBSTITUTE(参加申込A!C20,\"　\",\"\"),\" \",\"\"))","v":"--"},{"$f":"IF(参加申込A!E20=\"\",\"--\",SUBSTITUTE(SUBSTITUTE(参加申込A!E20,\"　\",\"\"),\" \",\"\"))","v":"--"},{"$f":"IF(参加申込A!C19=\"\",\"--\",SUBSTITUTE(SUBSTITUTE(参加申込A!C19,\"　\",\"\"),\" \",\"\"))","v":"--"},{"$f":"IF(参加申込A!E19=\"\",\"--\",SUBSTITUTE(SUBSTITUTE(参加申込A!E19,\"　\",\"\"),\" \",\"\"))","v":"--"},{"$f":"IF(参加申込A!J19=\"\",\"--\",参加申込A!J19)","v":"--"}]
[2,null,null,{"$f":"参加申込A!$B$113","v":0},{"$f":"X36&\" \"&Y36","v":"-- --"},{"$f":"Z36&\" \"&AA36","v":"-- --"},{"$f":"参加申込A!$C$6","v":"(選択)"},{"$f":"参加申込A!$F$6","v":""},{"$f":"参加申込A!$F$4","v":""},1,51,{"$f":"参加申込A!H21","v":""},null,{"$f":"U36","v":{"$error":"#N/A"}},2,"51kg",null,{"$f":"参加申込A!$F$6","v":""},{"$f":"SUBSTITUTE(SUBSTITUTE(参加申込A!$C$16,\"　\",\"\"),\" \",\"\")&\" \"&SUBSTITUTE(SUBSTITUTE(参加申込A!$D$16,\"　\",\"\"),\" \",\"\")","v":"0 0"},{"$f":"参加申込A!G21","v":""},{"$f":"入力シート!$R$26","v":{"$error":"#N/A"}},null,null,{"$f":"IF(参加申込A!C22=\"\",\"--\",SUBSTITUTE(SUBSTITUTE(参加申込A!C22,\"　\",\"\"),\" \",\"\"))","v":"--"},{"$f":"IF(参加申込A!E22=\"\",\"--\",SUBSTITUTE(SUBSTITUTE(参加申込A!E22,\"　\",\"\"),\" \",\"\"))","v":"--"},{"$f":"IF(参加申込A!C21=\"\",\"--\",SUBSTITUTE(SUBSTITUTE(参加申込A!C21,\"　\",\"\"),\" \",\"\"))","v":"--"},{"$f":"IF(参加申込A!E21=\"\",\"--\",SUBSTITUTE(SUBSTITUTE(参加申込A!E21,\"　\",\"\"),\" \",\"\"))","v":"--"},{"$f":"IF(参加申込A!J21=\"\",\"--\",参加申込A!J21)","v":"--"}]
[3,null,null,{"$f":"参加申込A!$B$113","v":0},"-- --","-- --",{"$f":"参加申込A!$C$6","v":"(選択)"},{"$f":"参加申込A!$F$6","v":""},{"$f":"参加申込A!$F$4","v":""},1,51,{"$f":"参加申込A!H23","v":""},null,{"$error":"#N/A"},3,"51kg",null,{"$f":"参加申込A!$F$6","v":""},{"$f":"SUBSTITUTE(SUBSTITUTE(参加申込A!$C$16,\"　\",\"\"),\" \",\"\")&\" \"&SUBSTITUTE(SUBSTITUTE(参加申込A!$D$16,\"　\",\"\"),\" \",\"\")","v":"0 0"},{"$f":"参加申込A!G23","v":""},{"$f":"入力シート!$R$26","v":{"$error":"#N/A"}},null,null,{"$f":"IF(参加申込A!C24=\"\",\"--\",SUBSTITUTE(SUBSTITUTE(参加申込A!C24,\"　\",\"\"),\" \",\"\"))","v":"--"},{"$f":"IF(参加申込A!E24=\"\",\"--\",SUBSTITUTE(SUBSTITUTE(参加申込A!E24,\"　\",\"\"),\" \",\"\"))","v":"--"},{"$f":"IF(参加申込A!C23=\"\",\"--\",SUBSTITUTE(SUBSTITUTE(参加申込A!C23,\"　\",\"\"),\" \",\"\"))","v":"--"},{"$f":"IF(参加申込A!E23=\"\",\"--\",SUBSTITUTE(SUBSTITUTE(参加申込A!E23,\"　\",\"\"),\" \",\"\"))","v":"--"},{"$f":"IF(参加申込A!J23=\"\",\"--\",参加申込A!J23)","v":"--"}]
[4,null,null,{"$f":"参加申込A!$B$113","v":0},"-- --","-- --",{"$f":"参加申込A!$C$6","v":"(選択)"},{"$f":"参加申込A!$F$6","v":""},{"$f":"参加申込A!$F$4","v":""},1,55,{"$f":"参加申込A!H25","v":""},null,{"$error":"#N/A"},1,"55kg",null,{"$f":"参加申込A!$F$6","v":""},{"$f":"SUBSTITUTE(SUBSTITUTE(参加申込A!$C$16,\"　\",\"\"),\" \",\"\")&\" \"&SUBSTITUTE(SUBSTITUTE(参加申込A!$D$16,\"　\",\"\"),\" \",\"\")","v":"0 0"},{"$f":"参加申込A!G25","v":""},{"$f":"入力シート!$R$26","v":{"$error":"#N/A"}},null,null,{"$f":"IF(参加申込A!C26=\"\",\"--\",SUBSTITUTE(SUBSTITUTE(参加申込A!C26,\"　\",\"\"),\" \",\"\"))","v":"--"},{"$f":"IF(参加申込A!E26=\"\",\"--\",SUBSTITUTE(SUBSTITUTE(参加申込A!E26,\"　\",\"\"),\" \",\"\"))","v":"--"},{"$f":"IF(参加申込A!C25=\"\",\"--\",SUBSTITUTE(SUBSTITUTE(参加申込A!C25,\"　\",\"\"),\" \",\"\"))","v":"--"},{"$f":"IF(参加申込A!E25=\"\",\"--\",SUBSTITUTE(SUBSTITUTE(参加申込A!E25,\"　\",\"\"),\" \",\"\"))","v":"--"},{"$f":"IF(参加申込A!J25=\"\",\"--\",参加申込A!J25)","v":"--"}]
[5,null,null,{"$f":"参加申込A!$B$113","v":0},"-- --","-- --",{"$f":"参加申込A!$C$6","v":"(選択)"},{"$f":"参加申込A!$F$6","v":""},{"$f":"参加申込A!$F$4","v":""},1,55,{"$f":"参加申込A!H27","v":""},null,{"$error":"#N/A"},2,"55kg",null,{"$f":"参加申込A!$F$6","v":""},{"$f":"SUBSTITUTE(SUBSTITUTE(参加申込A!$C$16,\"　\",\"\"),\" \",\"\")&\" \"&SUBSTITUTE(SUBSTITUTE(参加申込A!$D$16,\"　\",\"\"),\" \",\"\")","v":"0 0"},{"$f":"参加申込A!G27","v":""},{"$f":"入力シート!$R$26","v":{"$error":"#N/A"}},null,null,{"$f":"IF(参加申込A!C28=\"\",\"--\",SUBSTITUTE(SUBSTITUTE(参加申込A!C28,\"　\",\"\"),\" \",\"\"))","v":"--"},{"$f":"IF(参加申込A!E28=\"\",\"--\",SUBSTITUTE(SUBSTITUTE(参加申込A!E28,\"　\",\"\"),\" \",\"\"))","v":"--"},{"$f":"IF(参加申込A!C27=\"\",\"--\",SUBSTITUTE(SUBSTITUTE(参加申込A!C27,\"　\",\"\"),\" \",\"\"))","v":"--"},{"$f":"IF(参加申込A!E27=\"\",\"--\",SUBSTITUTE(SUBSTITUTE(参加申込A!E27,\"　\",\"\"),\" \",\"\"))","v":"--"},{"$f":"IF(参加申込A!J27=\"\",\"--\",参加申込A!J27)","v":"--"}]
[6,null,null,{"$f":"参加申込A!$B$113","v":0},"-- --","-- --",{"$f":"参加申込A!$C$6","v":"(選択)"},{"$f":"参加申込A!$F$6","v":""},{"$f":"参加申込A!$F$4","v":""},1,55,{"$f":"参加申込A!H29","v":""},null,{"$error":"#N/A"},3,"55kg",null,{"$f":"参加申込A!$F$6","v":""},{"$f":"SUBSTITUTE(SUBSTITUTE(参加申込A!$C$16,\"　\",\"\"),\" \",\"\")&\" \"&SUBSTITUTE(SUBSTITUTE(参加申込A!$D$16,\"　\",\"\"),\" \",\"\")","v":"0 0"},{"$f":"参加申込A!G29","v":""},{"$f":"入力シート!$R$26","v":{"$error":"#N/A"}},null,null,{"$f":"IF(参加申込A!C30=\"\",\"--\",SUBSTITUTE(SUBSTITUTE(参加申込A!C30,\"　\",\"\"),\" \",\"\"))","v":"--"},{"$f":"IF(参加申込A!E30=\"\",\"--\",SUBSTITUTE(SUBSTITUTE(参加申込A!E30,\"　\",\"\"),\" \",\"\"))","v":"--"},{"$f":"IF(参加申込A!C29=\"\",\"--\",SUBSTITUTE(SUBSTITUTE(参加申込A!C29,\"　\",\"\"),\" \",\"\"))","v":"--"},{"$f":"IF(参加申込A!E29=\"\",\"--\",SUBSTITUTE(SUBSTITUTE(参加申込A!E29,\"　\",\"\"),\" \",\"\"))","v":"--"},{"$f":"IF(参加申込A!J29=\"\",\"--\",参加申込A!J29)","v":"--"}]
[7,null,null,{"$f":"参加申込A!$B$113","v":0},"-- --","-- --",{"$f":"参加申込A!$C$6","v":"(選択)"},{"$f":"参加申込A!$F$6","v":""},{"$f":"参加申込A!$F$4","v":""},1,60,{"$f":"参加申込A!H31","v":""},null,{"$error":"#N/A"},1,"60kg",null,{"$f":"参加申込A!$F$6","v":""},{"$f":"SUBSTITUTE(SUBSTITUTE(参加申込A!$C$16,\"　\",\"\"),\" \",\"\")&\" \"&SUBSTITUTE(SUBSTITUTE(参加申込A!$D$16,\"　\",\"\"),\" \",\"\")","v":"0 0"},{"$f":"参加申込A!G31","v":""},{"$f":"入力シート!$R$26","v":{"$error":"#N/A"}},null,null,{"$f":"IF(参加申込A!C32=\"\",\"--\",SUBSTITUTE(SUBSTITUTE(参加申込A!C32,\"　\",\"\"),\" \",\"\"))","v":"--"},{"$f":"IF(参加申込A!E32=\"\",\"--\",SUBSTITUTE(SUBSTITUTE(参加申込A!E32,\"　\",\"\"),\" \",\"\"))","v":"--"},{"$f":"IF(参加申込A!C31=\"\",\"--\",SUBSTITUTE(SUBSTITUTE(参加申込A!C31,\"　\",\"\"),\" \",\"\"))","v":"--"},{"$f":"IF(参加申込A!E31=\"\",\"--\",SUBSTITUTE(SUBSTITUTE(参加申込A!E31,\"　\",\"\"),\" \",\"\"))","v":"--"},{"$f":"IF(参加申込A!J31=\"\",\"--\",参加申込A!J31)","v":"--"}]
[8,null,null,{"$f":"参加申込A!$B$113","v":0},"-- --","-- --",{"$f":"参加申込A!$C$6","v":"(選択)"},{"$f":"参加申込A!$F$6","v":""},{"$f":"参加申込A!$F$4","v":""},1,60,{"$f":"参加申込A!H33","v":""},null,{"$error":"#N/A"},2,"60kg",null,{"$f":"参加申込A!$F$6","v":""},{"$f":"SUBSTITUTE(SUBSTITUTE(参加申込A!$C$16,\"　\",\"\"),\" \",\"\")&\" \"&SUBSTITUTE(SUBSTITUTE(参加申込A!$D$16,\"　\",\"\"),\" \",\"\")","v":"0 0"},{"$f":"参加申込A!G33","v":""},{"$f":"入力シート!$R$26","v":{"$error":"#N/A"}},null,null,{"$f":"IF(参加申込A!C34=\"\",\"--\",SUBSTITUTE(SUBSTITUTE(参加申込A!C34,\"　\",\"\"),\" \",\"\"))","v":"--"},{"$f":"IF(参加申込A!E34=\"\",\"--\",SUBSTITUTE(SUBSTITUTE(参加申込A!E34,\"　\",\"\"),\" \",\"\"))","v":"--"},{"$f":"IF(参加申込A!C33=\"\",\"--\",SUBSTITUTE(SUBSTITUTE(参加申込A!C33,\"　\",\"\"),\" \",\"\"))","v":"--"},{"$f":"IF(参加申込A!E33=\"\",\"--\",SUBSTITUTE(SUBSTITUTE(参加申込A!E33,\"　\",\"\"),\" \",\"\"))","v":"--"},{"$f":"IF(参加申込A!J33=\"\",\"--\",参加申込A!J33)","v":"--"}]
[9,null,null,{"$f":"参加申込A!$B$113","v":0},"-- --","-- --",{"$f":"参加申込A!$C$6","v":"(選択)"},{"$f":"参加申込A!$F$6","v":""},{"$f":"参加申込A!$F$4","v":""},1,60,{"$f":"参加申込A!H35","v":""},null,{"$error":"#N/A"},3,"60kg",null,{"$f":"参加申込A!$F$6","v":""},{"$f":"SUBSTITUTE(SUBSTITUTE(参加申込A!$C$16,\"　\",\"\"),\" \",\"\")&\" \"&SUBSTITUTE(SUBSTITUTE(参加申込A!$D$16,\"　\",\"\"),\" \",\"\")","v":"0 0"},{"$f":"参加申込A!G35","v":""},{"$f":"入力シート!$R$26","v":{"$error":"#N/A"}},null,null,{"$f":"IF(参加申込A!C36=\"\",\"--\",SUBSTITUTE(SUBSTITUTE(参加申込A!C36,\"　\",\"\"),\" \",\"\"))","v":"--"},{"$f":"IF(参加申込A!E36=\"\",\"--\",SUBSTITUTE(SUBSTITUTE(参加申込A!E36,\"　\",\"\"),\" \",\"\"))","v":"--"},{"$f":"IF(参加申込A!C35=\"\",\"--\",SUBSTITUTE(SUBSTITUTE(参加申込A!C35,\"　\",\"\"),\" \",\"\"))","v":"--"},{"$f":"IF(参加申込A!E35=\"\",\"--\",SUBSTITUTE(SUBSTITUTE(参加申込A!E35,\"　\",\"\"),\" \",\"\"))","v":"--"},{"$f":"IF(参加申込A!J35=\"\",\"--\",参加申込A!J35)","v":"--"}]
[10,null,null,{"$f":"参加申込A!$B$113","v":0},"-- --","-- --",{"$f":"参加申込A!$C$6","v":"(選択)"},{"$f":"参加申込A!$F$6","v":""},{"$f":"参加申込A!$F$4","v":""},1,65,{"$f":"参加申込A!H37","v":""},null,{"$error":"#N/A"},1,"65kg",null,{"$f":"参加申込A!$F$6","v":""},{"$f":"SUBSTITUTE(SUBSTITUTE(参加申込A!$C$16,\"　\",\"\"),\" \",\"\")&\" \"&SUBSTITUTE(SUBSTITUTE(参加申込A!$D$16,\"　\",\"\"),\" \",\"\")","v":"0 0"},{"$f":"参加申込A!G37","v":""},{"$f":"入力シート!$R$26","v":{"$error":"#N/A"}},null,null,{"$f":"IF(参加申込A!C38=\"\",\"--\",SUBSTITUTE(SUBSTITUTE(参加申込A!C38,\"　\",\"\"),\" \",\"\"))","v":"--"},{"$f":"IF(参加申込A!E38=\"\",\"--\",SUBSTITUTE(SUBSTITUTE(参加申込A!E38,\"　\",\"\"),\" \",\"\"))","v":"--"},{"$f":"IF(参加申込A!C37=\"\",\"--\",SUBSTITUTE(SUBSTITUTE(参加申込A!C37,\"　\",\"\"),\" \",\"\"))","v":"--"},{"$f":"IF(参加申込A!E37=\"\",\"--\",SUBSTITUTE(SUBSTITUTE(参加申込A!E37,\"　\",\"\"),\" \",\"\"))","v":"--"},{"$f":"IF(参加申込A!J37=\"\",\"--\",参加申込A!J37)","v":"--"}]
[11,null,null,{"$f":"参加申込A!$B$113","v":0},"-- --","-- --",{"$f":"参加申込A!$C$6","v":"(選択)"},{"$f":"参加申込A!$F$6","v":""},{"$f":"参加申込A!$F$4","v":""},1,65,{"$f":"参加申込A!H39","v":""},null,{"$error":"#N/A"},2,"65kg",null,{"$f":"参加申込A!$F$6","v":""},{"$f":"SUBSTITUTE(SUBSTITUTE(参加申込A!$C$16,\"　\",\"\"),\" \",\"\")&\" \"&SUBSTITUTE(SUBSTITUTE(参加申込A!$D$16,\"　\",\"\"),\" \",\"\")","v":"0 0"},{"$f":"参加申込A!G39","v":""},{"$f":"入力シート!$R$26","v":{"$error":"#N/A"}},null,null,{"$f":"IF(参加申込A!C40=\"\",\"--\",SUBSTITUTE(SUBSTITUTE(参加申込A!C40,\"　\",\"\"),\" \",\"\"))","v":"--"},{"$f":"IF(参加申込A!E40=\"\",\"--\",SUBSTITUTE(SUBSTITUTE(参加申込A!E40,\"　\",\"\"),\" \",\"\"))","v":"--"},{"$f":"IF(参加申込A!C39=\"\",\"--\",SUBSTITUTE(SUBSTITUTE(参加申込A!C39,\"　\",\"\"),\" \",\"\"))","v":"--"},{"$f":"IF(参加申込A!E39=\"\",\"--\",SUBSTITUTE(SUBSTITUTE(参加申込A!E39,\"　\",\"\"),\" \",\"\"))","v":"--"},{"$f":"IF(参加申込A!J39=\"\",\"--\",参加申込A!J39)","v":"--"}]
[12,null,null,{"$f":"参加申込A!$B$113","v":0},"-- --","-- --",{"$f":"参加申込A!$C$6","v":"(選択)"},{"$f":"参加申込A!$F$6","v":""},{"$f":"参加申込A!$F$4","v":""},1,65,{"$f":"参加申込A!H41","v":""},null,{"$error":"#N/A"},3,"65kg",null,{"$f":"参加申込A!$F$6","v":""},{"$f":"SUBSTITUTE(SUBSTITUTE(参加申込A!$C$16,\"　\",\"\"),\" \",\"\")&\" \"&SUBSTITUTE(SUBSTITUTE(参加申込A!$D$16,\"　\",\"\"),\" \",\"\")","v":"0 0"},{"$f":"参加申込A!G41","v":""},{"$f":"入力シート!$R$26","v":{"$error":"#N/A"}},null,null,{"$f":"IF(参加申込A!C42=\"\",\"--\",SUBSTITUTE(SUBSTITUTE(参加申込A!C42,\"　\",\"\"),\" \",\"\"))","v":"--"},{"$f":"IF(参加申込A!E42=\"\",\"--\",SUBSTITUTE(SUBSTITUTE(参加申込A!E42,\"　\",\"\"),\" \",\"\"))","v":"--"},{"$f":"IF(参加申込A!C41=\"\",\"--\",SUBSTITUTE(SUBSTITUTE(参加申込A!C41,\"　\",\"\"),\" \",\"\"))","v":"--"},{"$f":"IF(参加申込A!E41=\"\",\"--\",SUBSTITUTE(SUBSTITUTE(参加申込A!E41,\"　\",\"\"),\" \",\"\"))","v":"--"},{"$f":"IF(参加申込A!J41=\"\",\"--\",参加申込A!J41)","v":"--"}]
[13,null,null,{"$f":"参加申込A!$B$113","v":0},"-- --","-- --",{"$f":"参加申込A!$C$6","v":"(選択)"},{"$f":"参加申込A!$F$6","v":""},{"$f":"参加申込A!$F$4","v":""},1,71,{"$f":"参加申込A!H43","v":""},null,{"$error":"#N/A"},1,"71kg",null,{"$f":"参加申込A!$F$6","v":""},{"$f":"SUBSTITUTE(SUBSTITUTE(参加申込A!$C$16,\"　\",\"\"),\" \",\"\")&\" \"&SUBSTITUTE(SUBSTITUTE(参加申込A!$D$16,\"　\",\"\"),\" \",\"\")","v":"0 0"},{"$f":"参加申込A!G43","v":""},{"$f":"入力シート!$R$26","v":{"$error":"#N/A"}},null,null,{"$f":"IF(参加申込A!C44=\"\",\"--\",SUBSTITUTE(SUBSTITUTE(参加申込A!C44,\"　\",\"\"),\" \",\"\"))","v":"--"},{"$f":"IF(参加申込A!E44=\"\",\"--\",SUBSTITUTE(SUBSTITUTE(参加申込A!E44,\"　\",\"\"),\" \",\"\"))","v":"--"},{"$f":"IF(参加申込A!C43=\"\",\"--\",SUBSTITUTE(SUBSTITUTE(参加申込A!C43,\"　\",\"\"),\" \",\"\"))","v":"--"},{"$f":"IF(参加申込A!E43=\"\",\"--\",SUBSTITUTE(SUBSTITUTE(参加申込A!E43,\"　\",\"\"),\" \",\"\"))","v":"--"},{"$f":"IF(参加申込A!J43=\"\",\"--\",参加申込A!J43)","v":"--"}]
[14,null,null,{"$f":"参加申込A!$B$113","v":0},"-- --","-- --",{"$f":"参加申込A!$C$6","v":"(選択)"},{"$f":"参加申込A!$F$6","v":""},{"$f":"参加申込A!$F$4","v":""},1,71,{"$f":"参加申込A!H45","v":""},null,{"$error":"#N/A"},2,"71kg",null,{"$f":"参加申込A!$F$6","v":""},{"$f":"SUBSTITUTE(SUBSTITUTE(参加申込A!$C$16,\"　\",\"\"),\" \",\"\")&\" \"&SUBSTITUTE(SUBSTITUTE(参加申込A!$D$16,\"　\",\"\"),\" \",\"\")","v":"0 0"},{"$f":"参加申込A!G45","v":""},{"$f":"入力シート!$R$26","v":{"$error":"#N/A"}},null,null,{"$f":"IF(参加申込A!C46=\"\",\"--\",SUBSTITUTE(SUBSTITUTE(参加申込A!C46,\"　\",\"\"),\" \",\"\"))","v":"--"},{"$f":"IF(参加申込A!E46=\"\",\"--\",SUBSTITUTE(SUBSTITUTE(参加申込A!E46,\"　\",\"\"),\" \",\"\"))","v":"--"},{"$f":"IF(参加申込A!C45=\"\",\"--\",SUBSTITUTE(SUBSTITUTE(参加申込A!C45,\"　\",\"\"),\" \",\"\"))","v":"--"},{"$f":"IF(参加申込A!E45=\"\",\"--\",SUBSTITUTE(SUBSTITUTE(参加申込A!E45,\"　\",\"\"),\" \",\"\"))","v":"--"},{"$f":"IF(参加申込A!J45=\"\",\"--\",参加申込A!J45)","v":"--"}]
[15,null,null,{"$f":"参加申込A!$B$113","v":0},"-- --","-- --",{"$f":"参加申込A!$C$6","v":"(選択)"},{"$f":"参加申込A!$F$6","v":""},{"$f":"参加申込A!$F$4","v":""},1,71,{"$f":"参加申込A!H47","v":""},null,{"$error":"#N/A"},3,"71kg",null,{"$f":"参加申込A!$F$6","v":""},{"$f":"SUBSTITUTE(SUBSTITUTE(参加申込A!$C$16,\"　\",\"\"),\" \",\"\")&\" \"&SUBSTITUTE(SUBSTITUTE(参加申込A!$D$16,\"　\",\"\"),\" \",\"\")","v":"0 0"},{"$f":"参加申込A!G47","v":""},{"$f":"入力シート!$R$26","v":{"$error":"#N/A"}},null,null,{"$f":"IF(参加申込A!C48=\"\",\"--\",SUBSTITUTE(SUBSTITUTE(参加申込A!C48,\"　\",\"\"),\" \",\"\"))","v":"--"},{"$f":"IF(参加申込A!E48=\"\",\"--\",SUBSTITUTE(SUBSTITUTE(参加申込A!E48,\"　\",\"\"),\" \",\"\"))","v":"--"},{"$f":"IF(参加申込A!C47=\"\",\"--\",SUBSTITUTE(SUBSTITUTE(参加申込A!C47,\"　\",\"\"),\" \",\"\"))","v":"--"},{"$f":"IF(参加申込A!E47=\"\",\"--\",SUBSTITUTE(SUBSTITUTE(参加申込A!E47,\"　\",\"\"),\" \",\"\"))","v":"--"},{"$f":"IF(参加申込A!J47=\"\",\"--\",参加申込A!J47)","v":"--"}]
[16,null,null,{"$f":"参加申込A!$B$113","v":0},"-- --","-- --",{"$f":"参加申込A!$C$6","v":"(選択)"},{"$f":"参加申込A!$F$6","v":""},{"$f":"参加申込A!$F$4","v":""},1,80,{"$f":"参加申込A!H49","v":""},null,{"$error":"#N/A"},1,"80kg",null,{"$f":"参加申込A!$F$6","v":""},{"$f":"SUBSTITUTE(SUBSTITUTE(参加申込A!$C$16,\"　\",\"\"),\" \",\"\")&\" \"&SUBSTITUTE(SUBSTITUTE(参加申込A!$D$16,\"　\",\"\"),\" \",\"\")","v":"0 0"},{"$f":"参加申込A!G49","v":""},{"$f":"入力シート!$R$26","v":{"$error":"#N/A"}},null,null,{"$f":"IF(参加申込A!C50=\"\",\"--\",SUBSTITUTE(SUBSTITUTE(参加申込A!C50,\"　\",\"\"),\" \",\"\"))","v":"--"},{"$f":"IF(参加申込A!E50=\"\",\"--\",SUBSTITUTE(SUBSTITUTE(参加申込A!E50,\"　\",\"\"),\" \",\"\"))","v":"--"},{"$f":"IF(参加申込A!C49=\"\",\"--\",SUBSTITUTE(SUBSTITUTE(参加申込A!C49,\"　\",\"\"),\" \",\"\"))","v":"--"},{"$f":"IF(参加申込A!E49=\"\",\"--\",SUBSTITUTE(SUBSTITUTE(参加申込A!E49,\"　\",\"\"),\" \",\"\"))","v":"--"},{"$f":"IF(参加申込A!J49=\"\",\"--\",参加申込A!J49)","v":"--"}]
[17,null,null,{"$f":"参加申込A!$B$113","v":0},"-- --","-- --",{"$f":"参加申込A!$C$6","v":"(選択)"},{"$f":"参加申込A!$F$6","v":""},{"$f":"参加申込A!$F$4","v":""},1,80,{"$f":"参加申込A!H51","v":""},null,{"$error":"#N/A"},2,"80kg",null,{"$f":"参加申込A!$F$6","v":""},{"$f":"SUBSTITUTE(SUBSTITUTE(参加申込A!$C$16,\"　\",\"\"),\" \",\"\")&\" \"&SUBSTITUTE(SUBSTITUTE(参加申込A!$D$16,\"　\",\"\"),\" \",\"\")","v":"0 0"},{"$f":"参加申込A!G51","v":""},{"$f":"入力シート!$R$26","v":{"$error":"#N/A"}},null,null,{"$f":"IF(参加申込A!C52=\"\",\"--\",SUBSTITUTE(SUBSTITUTE(参加申込A!C52,\"　\",\"\"),\" \",\"\"))","v":"--"},{"$f":"IF(参加申込A!E52=\"\",\"--\",SUBSTITUTE(SUBSTITUTE(参加申込A!E52,\"　\",\"\"),\" \",\"\"))","v":"--"},{"$f":"IF(参加申込A!C51=\"\",\"--\",SUBSTITUTE(SUBSTITUTE(参加申込A!C51,\"　\",\"\"),\" \",\"\"))","v":"--"},{"$f":"IF(参加申込A!E51=\"\",\"--\",SUBSTITUTE(SUBSTITUTE(参加申込A!E51,\"　\",\"\"),\" \",\"\"))","v":"--"},{"$f":"IF(参加申込A!J51=\"\",\"--\",参加申込A!J51)","v":"--"}]
[18,null,null,{"$f":"参加申込A!$B$113","v":0},"-- --","-- --",{"$f":"参加申込A!$C$6","v":"(選択)"},{"$f":"参加申込A!$F$6","v":""},{"$f":"参加申込A!$F$4","v":""},1,80,{"$f":"参加申込A!H53","v":""},null,{"$error":"#N/A"},3,"80kg",null,{"$f":"参加申込A!$F$6","v":""},{"$f":"SUBSTITUTE(SUBSTITUTE(参加申込A!$C$16,\"　\",\"\"),\" \",\"\")&\" \"&SUBSTITUTE(SUBSTITUTE(参加申込A!$D$16,\"　\",\"\"),\" \",\"\")","v":"0 0"},{"$f":"参加申込A!G53","v":""},{"$f":"入力シート!$R$26","v":{"$error":"#N/A"}},null,null,{"$f":"IF(参加申込A!C54=\"\",\"--\",SUBSTITUTE(SUBSTITUTE(参加申込A!C54,\"　\",\"\"),\" \",\"\"))","v":"--"},{"$f":"IF(参加申込A!E54=\"\",\"--\",SUBSTITUTE(SUBSTITUTE(参加申込A!E54,\"　\",\"\"),\" \",\"\"))","v":"--"},{"$f":"IF(参加申込A!C53=\"\",\"--\",SUBSTITUTE(SUBSTITUTE(参加申込A!C53,\"　\",\"\"),\" \",\"\"))","v":"--"},{"$f":"IF(参加申込A!E53=\"\",\"--\",SUBSTITUTE(SUBSTITUTE(参加申込A!E53,\"　\",\"\"),\" \",\"\"))","v":"--"},{"$f":"IF(参加申込A!J53=\"\",\"--\",参加申込A!J53)","v":"--"}]
[19,null,null,{"$f":"参加申込A!$B$113","v":0},"-- --","-- --",{"$f":"参加申込A!$C$6","v":"(選択)"},{"$f":"参加申込A!$F$6","v":""},{"$f":"参加申込A!$F$4","v":""},1,92,{"$f":"参加申込A!H55","v":""},null,{"$error":"#N/A"},1,"92kg",null,{"$f":"参加申込A!$F$6","v":""},{"$f":"SUBSTITUTE(SUBSTITUTE(参加申込A!$C$16,\"　\",\"\"),\" \",\"\")&\" \"&SUBSTITUTE(SUBSTITUTE(参加申込A!$D$16,\"　\",\"\"),\" \",\"\")","v":"0 0"},{"$f":"参加申込A!G55","v":""},{"$f":"入力シート!$R$26","v":{"$error":"#N/A"}},null,null,{"$f":"IF(参加申込A!C56=\"\",\"--\",SUBSTITUTE(SUBSTITUTE(参加申込A!C56,\"　\",\"\"),\" \",\"\"))","v":"--"},{"$f":"IF(参加申込A!E56=\"\",\"--\",SUBSTITUTE(SUBSTITUTE(参加申込A!E56,\"　\",\"\"),\" \",\"\"))","v":"--"},{"$f":"IF(参加申込A!C55=\"\",\"--\",SUBSTITUTE(SUBSTITUTE(参加申込A!C55,\"　\",\"\"),\" \",\"\"))","v":"--"},{"$f":"IF(参加申込A!E55=\"\",\"--\",SUBSTITUTE(SUBSTITUTE(参加申込A!E55,\"　\",\"\"),\" \",\"\"))","v":"--"},{"$f":"IF(参加申込A!J55=\"\",\"--\",参加申込A!J55)","v":"--"}]
[20,null,null,{"$f":"参加申込A!$B$113","v":0},"-- --","-- --",{"$f":"参加申込A!$C$6","v":"(選択)"},{"$f":"参加申込A!$F$6","v":""},{"$f":"参加申込A!$F$4","v":""},1,92,{"$f":"参加申込A!H57","v":""},null,{"$error":"#N/A"},2,"92kg",null,{"$f":"参加申込A!$F$6","v":""},{"$f":"SUBSTITUTE(SUBSTITUTE(参加申込A!$C$16,\"　\",\"\"),\" \",\"\")&\" \"&SUBSTITUTE(SUBSTITUTE(参加申込A!$D$16,\"　\",\"\"),\" \",\"\")","v":"0 0"},{"$f":"参加申込A!G57","v":""},{"$f":"入力シート!$R$26","v":{"$error":"#N/A"}},null,null,{"$f":"IF(参加申込A!C58=\"\",\"--\",SUBSTITUTE(SUBSTITUTE(参加申込A!C58,\"　\",\"\"),\" \",\"\"))","v":"--"},{"$f":"IF(参加申込A!E58=\"\",\"--\",SUBSTITUTE(SUBSTITUTE(参加申込A!E58,\"　\",\"\"),\" \",\"\"))","v":"--"},{"$f":"IF(参加申込A!C57=\"\",\"--\",SUBSTITUTE(SUBSTITUTE(参加申込A!C57,\"　\",\"\"),\" \",\"\"))","v":"--"},{"$f":"IF(参加申込A!E57=\"\",\"--\",SUBSTITUTE(SUBSTITUTE(参加申込A!E57,\"　\",\"\"),\" \",\"\"))","v":"--"},{"$f":"IF(参加申込A!J57=\"\",\"--\",参加申込A!J57)","v":"--"}]
[21,null,null,{"$f":"参加申込A!$B$113","v":0},"-- --","-- --",{"$f":"参加申込A!$C$6","v":"(選択)"},{"$f":"参加申込A!$F$6","v":""},{"$f":"参加申込A!$F$4","v":""},1,92,{"$f":"参加申込A!H59","v":""},null,{"$error":"#N/A"},3,"92kg",null,{"$f":"参加申込A!$F$6","v":""},{"$f":"SUBSTITUTE(SUBSTITUTE(参加申込A!$C$16,\"　\",\"\"),\" \",\"\")&\" \"&SUBSTITUTE(SUBSTITUTE(参加申込A!$D$16,\"　\",\"\"),\" \",\"\")","v":"0 0"},{"$f":"参加申込A!G59","v":""},{"$f":"入力シート!$R$26","v":{"$error":"#N/A"}},null,null,{"$f":"IF(参加申込A!C60=\"\",\"--\",SUBSTITUTE(SUBSTITUTE(参加申込A!C60,\"　\",\"\"),\" \",\"\"))","v":"--"},{"$f":"IF(参加申込A!E60=\"\",\"--\",SUBSTITUTE(SUBSTITUTE(参加申込A!E60,\"　\",\"\"),\" \",\"\"))","v":"--"},{"$f":"IF(参加申込A!C59=\"\",\"--\",SUBSTITUTE(SUBSTITUTE(参加申込A!C59,\"　\",\"\"),\" \",\"\"))","v":"--"},{"$f":"IF(参加申込A!E59=\"\",\"--\",SUBSTITUTE(SUBSTITUTE(参加申込A!E59,\"　\",\"\"),\" \",\"\"))","v":"--"},{"$f":"IF(参加申込A!J59=\"\",\"--\",参加申込A!J59)","v":"--"}]
[22,null,null,{"$f":"参加申込A!$B$113","v":0},"-- --","-- --",{"$f":"参加申込A!$C$6","v":"(選択)"},{"$f":"参加申込A!$F$6","v":""},{"$f":"参加申込A!$F$4","v":""},1,125,{"$f":"参加申込A!H61","v":""},null,{"$error":"#N/A"},1,"125kg",null,{"$f":"参加申込A!$F$6","v":""},{"$f":"SUBSTITUTE(SUBSTITUTE(参加申込A!$C$16,\"　\",\"\"),\" \",\"\")&\" \"&SUBSTITUTE(SUBSTITUTE(参加申込A!$D$16,\"　\",\"\"),\" \",\"\")","v":"0 0"},{"$f":"参加申込A!G61","v":""},{"$f":"入力シート!$R$26","v":{"$error":"#N/A"}},null,null,{"$f":"IF(参加申込A!C62=\"\",\"--\",SUBSTITUTE(SUBSTITUTE(参加申込A!C62,\"　\",\"\"),\" \",\"\"))","v":"--"},{"$f":"IF(参加申込A!E62=\"\",\"--\",SUBSTITUTE(SUBSTITUTE(参加申込A!E62,\"　\",\"\"),\" \",\"\"))","v":"--"},{"$f":"IF(参加申込A!C61=\"\",\"--\",SUBSTITUTE(SUBSTITUTE(参加申込A!C61,\"　\",\"\"),\" \",\"\"))","v":"--"},{"$f":"IF(参加申込A!E61=\"\",\"--\",SUBSTITUTE(SUBSTITUTE(参加申込A!E61,\"　\",\"\"),\" \",\"\"))","v":"--"},{"$f":"IF(参加申込A!J61=\"\",\"--\",参加申込A!J61)","v":"--"}]
[23,null,null,{"$f":"参加申込A!$B$113","v":0},"-- --","-- --",{"$f":"参加申込A!$C$6","v":"(選択)"},{"$f":"参加申込A!$F$6","v":""},{"$f":"参加申込A!$F$4","v":""},1,125,{"$f":"参加申込A!H63","v":""},null,{"$error":"#N/A"},2,"125kg",null,{"$f":"参加申込A!$F$6","v":""},{"$f":"SUBSTITUTE(SUBSTITUTE(参加申込A!$C$16,\"　\",\"\"),\" \",\"\")&\" \"&SUBSTITUTE(SUBSTITUTE(参加申込A!$D$16,\"　\",\"\"),\" \",\"\")","v":"0 0"},{"$f":"参加申込A!G63","v":""},{"$f":"入力シート!$R$26","v":{"$error":"#N/A"}},null,null,{"$f":"IF(参加申込A!C64=\"\",\"--\",SUBSTITUTE(SUBSTITUTE(参加申込A!C64,\"　\",\"\"),\" \",\"\"))","v":"--"},{"$f":"IF(参加申込A!E64=\"\",\"--\",SUBSTITUTE(SUBSTITUTE(参加申込A!E64,\"　\",\"\"),\" \",\"\"))","v":"--"},{"$f":"IF(参加申込A!C63=\"\",\"--\",SUBSTITUTE(SUBSTITUTE(参加申込A!C63,\"　\",\"\"),\" \",\"\"))","v":"--"},{"$f":"IF(参加申込A!E63=\"\",\"--\",SUBSTITUTE(SUBSTITUTE(参加申込A!E63,\"　\",\"\"),\" \",\"\"))","v":"--"},{"$f":"IF(参加申込A!J63=\"\",\"--\",参加申込A!J63)","v":"--"}]
[24,null,null,{"$f":"参加申込A!$B$113","v":0},"-- --","-- --",{"$f":"参加申込A!$C$6","v":"(選択)"},{"$f":"参加申込A!$F$6","v":""},{"$f":"参加申込A!$F$4","v":""},1,125,{"$f":"参加申込A!H65","v":""},null,{"$error":"#N/A"},3,"125kg",null,{"$f":"参加申込A!$F$6","v":""},{"$f":"SUBSTITUTE(SUBSTITUTE(参加申込A!$C$16,\"　\",\"\"),\" \",\"\")&\" \"&SUBSTITUTE(SUBSTITUTE(参加申込A!$D$16,\"　\",\"\"),\" \",\"\")","v":"0 0"},{"$f":"参加申込A!G65","v":""},{"$f":"入力シート!$R$26","v":{"$error":"#N/A"}},null,null,{"$f":"IF(参加申込A!C66=\"\",\"--\",SUBSTITUTE(SUBSTITUTE(参加申込A!C66,\"　\",\"\"),\" \",\"\"))","v":"--"},{"$f":"IF(参加申込A!E66=\"\",\"--\",SUBSTITUTE(SUBSTITUTE(参加申込A!E66,\"　\",\"\"),\" \",\"\"))","v":"--"},{"$f":"IF(参加申込A!C65=\"\",\"--\",SUBSTITUTE(SUBSTITUTE(参加申込A!C65,\"　\",\"\"),\" \",\"\"))","v":"--"},{"$f":"IF(参加申込A!E65=\"\",\"--\",SUBSTITUTE(SUBSTITUTE(参加申込A!E65,\"　\",\"\"),\" \",\"\"))","v":"--"},{"$f":"IF(参加申込A!J65=\"\",\"--\",参加申込A!J65)","v":"--"}]
[null,null,null,null,null,null,null,null,null,null,null,null,null,null,null,null,null,null,{"$f":"SUBSTITUTE(SUBSTITUTE(参加申込A!$C$16,\"　\",\"\"),\" \",\"\")&\" \"&SUBSTITUTE(SUBSTITUTE(参加申込A!$D$16,\"　\",\"\"),\" \",\"\")","v":"0 0"}]
[]
[null,"B-2 監督・コーチ一覧"]
[null,"ID","No","No（県番号）","名前","なまえ","都道府県","学校名","がっこうめい","正副","階級","学年","抽選",null,null,"kg","ブロック"]
[1,null,null,{"$f":"参加申込A!$B$113","v":0},{"$f":"X63&\" \"&Y63","v":"0 0"},{"$f":"Z63&\" \"&AA63","v":" "},{"$f":"参加申込A!$C$6","v":"(選択)"},{"$f":"'参加申込B－２'!B15","v":""},null,null,"監督",null,null,null,null,"監督",null,null,null,null,null,null,null,{"$f":"入力シート!D131","v":0},{"$f":"入力シート!G131","v":0}]
[1,null,null,{"$f":"参加申込A!$B$113","v":0},{"$f":"X64&\" \"&Y64","v":"0 0"},{"$f":"Z64&\" \"&AA64","v":" "},{"$f":"参加申込A!$C$6","v":"(選択)"},{"$f":"'参加申込B－２'!B15","v":""},null,null,"コーチ",null,null,null,null,"コーチ",null,null,null,null,null,null,null,{"$f":"入力シート!D133","v":0},{"$f":"入力シート!G133","v":0}]
[2,null,null,{"$f":"参加申込A!$B$113","v":0},"0 0"," ",{"$f":"参加申込A!$C$6","v":"(選択)"},{"$f":"'参加申込B－２'!B17","v":""},null,null,"監督",null,null,null,null,"監督",null,null,null,null,null,null,null,{"$f":"入力シート!D135","v":0},{"$f":"入力シート!G135","v":0}]
[2,null,null,{"$f":"参加申込A!$B$113","v":0},"0 0"," ",{"$f":"参加申込A!$C$6","v":"(選択)"},{"$f":"'参加申込B－２'!B17","v":""},null,null,"コーチ",null,null,null,null,"コーチ",null,null,null,null,null,null,null,{"$f":"入力シート!D137","v":0},{"$f":"入力シート!G137","v":0}]
[3,null,null,{"$f":"参加申込A!$B$113","v":0},"0 0"," ",{"$f":"参加申込A!$C$6","v":"(選択)"},{"$f":"'参加申込B－２'!B19","v":""},null,null,"監督",null,null,null,null,"監督",null,null,null,null,null,null,null,{"$f":"入力シート!D139","v":0},{"$f":"入力シート!G139","v":0}]
[3,null,null,{"$f":"参加申込A!$B$113","v":0},"0 0"," ",{"$f":"参加申込A!$C$6","v":"(選択)"},{"$f":"'参加申込B－２'!B19","v":""},null,null,"コーチ",null,null,null,null,"コーチ",null,null,null,null,null,null,null,{"$f":"入力シート!D141","v":0},{"$f":"入力シート!G141","v":0}]
[4,null,null,{"$f":"参加申込A!$B$113","v":0},"0 0"," ",{"$f":"参加申込A!$C$6","v":"(選択)"},{"$f":"'参加申込B－２'!B21","v":""},null,null,"監督",null,null,null,null,"監督",null,null,null,null,null,null,null,{"$f":"入力シート!D143","v":0},{"$f":"入力シート!G143","v":0}]
[4,null,null,{"$f":"参加申込A!$B$113","v":0},"0 0"," ",{"$f":"参加申込A!$C$6","v":"(選択)"},{"$f":"'参加申込B－２'!B21","v":""},null,null,"コーチ",null,null,null,null,"コーチ",null,null,null,null,null,null,null,{"$f":"入力シート!D145","v":0},{"$f":"入力シート!G145","v":0}]
[5,null,null,{"$f":"参加申込A!$B$113","v":0},"0 0"," ",{"$f":"参加申込A!$C$6","v":"(選択)"},{"$f":"'参加申込B－２'!B23","v":""},null,null,"監督",null,null,null,null,"監督",null,null,null,null,null,null,null,{"$f":"入力シート!D147","v":0},{"$f":"入力シート!G147","v":0}]
[5,null,null,{"$f":"参加申込A!$B$113","v":0},"0 0"," ",{"$f":"参加申込A!$C$6","v":"(選択)"},{"$f":"'参加申込B－２'!B23","v":""},null,null,"コーチ",null,null,null,null,"コーチ",null,null,null,null,null,null,null,{"$f":"入力シート!D149","v":0},{"$f":"入力シート!G149","v":0}]
[6,null,null,{"$f":"参加申込A!$B$113","v":0},"0 0"," ",{"$f":"参加申込A!$C$6","v":"(選択)"},{"$f":"'参加申込B－２'!B25","v":""},null,null,"監督",null,null,null,null,"監督",null,null,null,null,null,null,null,{"$f":"入力シート!D151","v":0},{"$f":"入力シート!G151","v":0}]
[6,null,null,{"$f":"参加申込A!$B$113","v":0},"0 0"," ",{"$f":"参加申込A!$C$6","v":"(選択)"},{"$f":"'参加申込B－２'!B25","v":""},null,null,"コーチ",null,null,null,null,"コーチ",null,null,null,null,null,null,null,{"$f":"入力シート!D153","v":0},{"$f":"入力シート!G153","v":0}]
[7,null,null,{"$f":"参加申込A!$B$113","v":0},"0 0"," ",{"$f":"参加申込A!$C$6","v":"(選択)"},{"$f":"'参加申込B－２'!B27","v":""},null,null,"監督",null,null,null,null,"監督",null,null,null,null,null,null,null,{"$f":"入力シート!D155","v":0},{"$f":"入力シート!G155","v":0}]
[7,null,null,{"$f":"参加申込A!$B$113","v":0},"0 0"," ",{"$f":"参加申込A!$C$6","v":"(選択)"},{"$f":"'参加申込B－２'!B27","v":""},null,null,"コーチ",null,null,null,null,"コーチ",null,null,null,null,null,null,null,{"$f":"入力シート!D157","v":0},{"$f":"入力シート!G157","v":0}]
[8,null,null,{"$f":"参加申込A!$B$113","v":0},"0 0"," ",{"$f":"参加申込A!$C$6","v":"(選択)"},{"$f":"'参加申込B－２'!B29","v":""},null,null,"監督",null,null,null,null,"監督",null,null,null,null,null,null,null,{"$f":"入力シート!D159","v":0},{"$f":"入力シート!G159","v":0}]
[8,null,null,{"$f":"参加申込A!$B$113","v":0},"0 0"," ",{"$f":"参加申込A!$C$6","v":"(選択)"},{"$f":"'参加申込B－２'!B29","v":""},null,null,"コーチ",null,null,null,null,"コーチ",null,null,null,null,null,null,null,{"$f":"入力シート!D161","v":0},{"$f":"入力シート!G161","v":0}]
[9,null,null,{"$f":"参加申込A!$B$113","v":0},"0 0"," ",{"$f":"参加申込A!$C$6","v":"(選択)"},{"$f":"'参加申込B－３'!B15","v":""},null,null,"監督",null,null,null,null,"監督",null,null,null,null,null,null,null,{"$f":"入力シート!D171","v":0},{"$f":"入力シート!G171","v":0}]
[9,null,null,{"$f":"参加申込A!$B$113","v":0},"0 0"," ",{"$f":"参加申込A!$C$6","v":"(選択)"},{"$f":"'参加申込B－３'!B15","v":""},null,null,"コーチ",null,null,null,null,"コーチ",null,null,null,null,null,null,null,{"$f":"入力シート!D173","v":0},{"$f":"入力シート!G173","v":0}]
[10,null,null,{"$f":"参加申込A!$B$113","v":0},"0 0"," ",{"$f":"参加申込A!$C$6","v":"(選択)"},{"$f":"'参加申込B－３'!B17","v":""},null,null,"監督",null,null,null,null,"監督",null,null,null,null,null,null,null,{"$f":"入力シート!D175","v":0},{"$f":"入力シート!G175","v":0}]
[10,null,null,{"$f":"参加申込A!$B$113","v":0},"0 0"," ",{"$f":"参加申込A!$C$6","v":"(選択)"},{"$f":"'参加申込B－３'!B17","v":""},null,null,"コーチ",null,null,null,null,"コーチ",null,null,null,null,null,null,null,{"$f":"入力シート!D177","v":0},{"$f":"入力シート!G177","v":0}]
[11,null,null,{"$f":"参加申込A!$B$113","v":0},"0 0"," ",{"$f":"参加申込A!$C$6","v":"(選択)"},{"$f":"'参加申込B－３'!B19","v":""},null,null,"監督",null,null,null,null,"監督",null,null,null,null,null,null,null,{"$f":"入力シート!D179","v":0},{"$f":"入力シート!G179","v":0}]
[11,null,null,{"$f":"参加申込A!$B$113","v":0},"0 0"," ",{"$f":"参加申込A!$C$6","v":"(選択)"},{"$f":"'参加申込B－３'!B19","v":""},null,null,"コーチ",null,null,null,null,"コーチ",null,null,null,null,null,null,null,{"$f":"入力シート!D181","v":0},{"$f":"入力シート!G181","v":0}]
[12,null,null,{"$f":"参加申込A!$B$113","v":0},"0 0"," ",{"$f":"参加申込A!$C$6","v":"(選択)"},{"$f":"'参加申込B－３'!B21","v":""},null,null,"監督",null,null,null,null,"監督",null,null,null,null,null,null,null,{"$f":"入力シート!D183","v":0},{"$f":"入力シート!G183","v":0}]
[12,null,null,{"$f":"参加申込A!$B$113","v":0},"0 0"," ",{"$f":"参加申込A!$C$6","v":"(選択)"},{"$f":"'参加申込B－３'!B21","v":""},null,null,"コーチ",null,null,null,null,"コーチ",null,null,null,null,null,null,null,{"$f":"入力シート!D185","v":0},{"$f":"入力シート!G185","v":0}]
[13,null,null,{"$f":"参加申込A!$B$113","v":0},"0 0"," ",{"$f":"参加申込A!$C$6","v":"(選択)"},{"$f":"'参加申込B－３'!B23","v":""},null,null,"監督",null,null,null,null,"監督",null,null,null,null,null,null,null,{"$f":"入力シート!D187","v":0},{"$f":"入力シート!G187","v":0}]
[13,null,null,{"$f":"参加申込A!$B$113","v":0},"0 0"," ",{"$f":"参加申込A!$C$6","v":"(選択)"},{"$f":"'参加申込B－３'!B23","v":""},null,null,"コーチ",null,null,null,null,"コーチ",null,null,null,null,null,null,null,{"$f":"入力シート!D189","v":0},{"$f":"入力シート!G189","v":0}]
[14,null,null,{"$f":"参加申込A!$B$113","v":0},"0 0"," ",{"$f":"参加申込A!$C$6","v":"(選択)"},{"$f":"'参加申込B－３'!B25","v":""},null,null,"監督",null,null,null,null,"監督",null,null,null,null,null,null,null,{"$f":"入力シート!D191","v":0},{"$f":"入力シート!G191","v":0}]
[14,null,null,{"$f":"参加申込A!$B$113","v":0},"0 0"," ",{"$f":"参加申込A!$C$6","v":"(選択)"},{"$f":"'参加申込B－３'!B25","v":""},null,null,"コーチ",null,null,null,null,"コーチ",null,null,null,null,null,null,null,{"$f":"入力シート!D193","v":0},{"$f":"入力シート!G193","v":0}]
[15,null,null,{"$f":"参加申込A!$B$113","v":0},"0 0"," ",{"$f":"参加申込A!$C$6","v":"(選択)"},{"$f":"'参加申込B－３'!B27","v":""},null,null,"監督",null,null,null,null,"監督",null,null,null,null,null,null,null,{"$f":"入力シート!D195","v":0},{"$f":"入力シート!G195","v":0}]
[15,null,null,{"$f":"参加申込A!$B$113","v":0},"0 0"," ",{"$f":"参加申込A!$C$6","v":"(選択)"},{"$f":"'参加申込B－３'!B27","v":""},null,null,"コーチ",null,null,null,null,"コーチ",null,null,null,null,null,null,null,{"$f":"入力シート!D197","v":0},{"$f":"入力シート!G197","v":0}]
[16,null,null,{"$f":"参加申込A!$B$113","v":0},"0 0"," ",{"$f":"参加申込A!$C$6","v":"(選択)"},{"$f":"'参加申込B－３'!B29","v":""},null,null,"監督",null,null,null,null,"監督",null,null,null,null,null,null,null,{"$f":"入力シート!D199","v":0},{"$f":"入力シート!G199","v":0}]
[16,null,null,{"$f":"参加申込A!$B$113","v":0},"0 0"," ",{"$f":"参加申込A!$C$6","v":"(選択)"},{"$f":"'参加申込B－３'!B29","v":""},null,null,"コーチ",null,null,null,null,"コーチ",null,null,null,null,null,null,null,{"$f":"入力シート!D201","v":0},{"$f":"入力シート!G201","v":0}]

{"sheet":"memo","index":10,"n_rows":57,"n_cols":4,"rows_kept":57,"cut":false,"hidden":false,"merged":[[1,1,1,2]]}
[]
[null,"大会名：",null,{"$f":"入力シート!D2","v":"第４１回　全国高校生グレコローマンレスリング選手権大会"}]
[]
[]
[null,"20240228～ 変更"]
[null,null,"・","入力シートから入力できるように変更した"]
[null,null,"・","入力方法を変更した"]
[null,null,"・","滋賀県 田中先生に見てもらう"]
[null,null,"・","香川県 沖山先生に見てもらう"]
[null,null,"・","学校名の選択を　県別でできるようにした"]
[]
[null,null,"( 問題点 )"]
[null,null,"・","容量が大きいか？"]
[null,null,null,"- 住所を自動に出すのをやめる？"]
[null,null,"・","個人情報の観点から ファイルを府県ごとに作成する？"]
[null,null,null,"- 全国一斉のファイルを作るのは可能　登録申請シートを見えなくする？"]
[null,null,null,"- 協会番号を府県で専門委員長，顧問が把握する必要あり"]
[null,null,"・","容量が大きいと添付しにくいか？"]
[null,null,null,"- WebPageからのダウンロードという方法が取れないか？"]
[null,null,"・","ふりがなはひらがなにならないのかな？"]
[null,null,null,"- カタカナには，全角，半角があるので個人的には苦手"]
[null,null,"・","学校名にもふりがながあればありがたいな"]
[]
[]
[]
[null,"20240118 変更"]
[null,null,"・","大会名の変更"]
[null,null,"・","令和６年 に変更"]
[null,null,"・","データや他のシートへのリンクを更新"]
[]
[null,"20230531 変更"]
[null,null,"・","大会名の変更"]
[null,null,"・","お願いの専門委員長への依頼について 変更"]
[null,null,null,"② 参加料振込通知書のコピー（府県単位で振り込んでください）"]
[null,null,"・","令和５年 に変更"]
[]
[null,"20220509 変更"]
[null,null,"・","お願いに所属都道府県をつけた → 参加申込の都道府県に入るようにした"]
[null,null,"・","回数の変更 グレコローマンレスリングとした"]
[]
[null,"20210428 変更"]
[null,null,"・","お願いをつけた"]
[null,null,"・","各校からのエクセルファイルも提出してもらう流れに"]
[null,null,"・","印刷物は、Ａ４1枚に収まるように"]
[]
[null,"20210422 変更"]
[null,null,"・","一応、形は変更したので、田中先生へ送り確認をしてもらう"]
[null,"20210417 変更"]
[null,null,"・","データを集約する工夫を考え始める"]
[null,null,null,"データシートを作成"]
[null,"20210416 変更"]
[null,null,"・","協会番号の欄を作成"]
[null,null,"・","全体的にフォームを修正"]
[null,null,"・","【　Ｂ　】　参加都道府を大きく変更"]
[null,null,null,"【　Ｂ－１　】　参加都道府　従来のもの"]
[null,null,null,"【　Ｂ－２　】　参加都道府　は、監督・コーチの一覧を新規作成"]
[null,null,null,"【　Ｂ－３　】　参加都道府　は、上記が不足する場合使用できるように"]